Workbook

Sheet komentář
A1: Komentář k úpravě rozpočtu přímých NIV k 6.10. 2026 (obecní školství)
A3: Vážená paní ředitelko, vážený pane řediteli,
A5: předkládáme vám úpravu rozpisu rozpočtu přímých NIV k 6. 10. 2026, která obsahuje:
A7: 1) | B7: navýšení rozpočtu o prostředky na personální podpůrná opatření (PO) podle stavu PO k 1.9. 2026, tj. sběr srpen 2026 (případně korekce vykázaných PO); finanční prostředky na PO ze sběru za září, tj. k 1.10.2026 budou přiděleny až po navýšení rozpočtu z MŠMT,
B8: naše současná rezerva dofinancovnání neumožňuje
A10: 2) | B10: individuální úpravy (důvod změny uveden v komentáři v příslušné buňce);
A12: 3) | B12: přesuny z prostředků na platy do OON (dohody) nebo z OON do platů, na základě požadavků ze škol k termínu sběru 15. 9. 2026;
A14: 4) | B14: přidělení finančních prostředků na podpůrné pedagogické pozice v základních školách na základě žádostí ze škol; do výše PHPmax
A16: 5) | B16: přidělení finančních prostředků na parametrizované asistenty pedadoga do prvních ročníků v základních školách na základě žádostí ze škol;
A18: Finanční rezerva OŠMTS KÚ neumožňuje v současné době přidělit prostředky na zvýšené výkony ve školách ani na bezplatnou jazykovou přípravu,
A19: změny rozpočtu (zvýšení prostředků na platy) budou provedeny v případě navýšení rezervy přímých NIV z MŠMT.
A20: Ze stejného důvodu nelze provést převody z odvodů do platů, tyto převody budeme moci provést až po úpravě (převodu) z MŠMT
A22: V Liberci dne 6. 10. 2026
A23: Zpracoval: OŠMTS KÚ LK, oddělení financování přímých nákladů

Sheet LB 
A1: Krajský úřad Libereckého kraje
A2: U Jezu 642/2a, Liberec 2, 461 80
A3: Odbor školství, mládeže, tělovýchovy a sportu
A5: Úprava rozpisu rozpočtu přímých NIV na rok 2026 ke dni 6. 10. 2026
I6: Rozpočet přímých nákladů k 19. 8. 2026 | P6: úprava | AP6: Rozpočet přímých nákladů k 6. 10. 2026 | AW6: Z rozpočtu přímých NIV na rok 2026
P7: ÚPRAVA PLATY | X7: ÚPRAVA OON | AB7: Mzdové prostředky celkem | AC7: ÚPRAVA ODVODŮ | AE7: Odvody CELKEM | AF7: FKSP | AG7: OBV | AH7: Úprava NIV celkem | AI7: ÚPRAVA POČTU PEDAGOGŮ | AW7: Stanovení dalších finančních prostředků pro základní školy zřizované krajem, obcí nebo dobrovolným svazkem obcí na rok 2026 na financování sociálního pedagoga a další přímou podporu žáků se sociálním znevýhodněním, VĚSTNÍK MŠMT 4/2026
I8: Celkem NIV | J8: z toho v Kč: | O8: Počet PEDAG. | AI8: převody (platy-dohody) | AJ8: Podpůrná opatření | AK8: Změna Phškoly/ podpůrné pozice | AL8: Jazyková příprava cizinců | AM8: AP v 1. ročníku | AN8: Individuální úpravy | AO8: Úprava PED. celkem | AP8: Celkem NIV | AQ8: z toho v Kč: | AV8: Počet PEDAG.
A9: SUMÁŘ - PO III LIBEREC | J9: Platy | K9: OON | L9: Odvody | M9: FKSP | N9: OBV | P9: Převody do OON | Q9: Převod úspor z odvodů | R9: Podpůrná opatření | S9: Jazyková příprava cizinců | T9: Změna Phškoly/ podpůrné pozice | U9: AP v 1. ročníku | V9: Individuální úpravy | W9: PLATY úprava celkem | X9: Dohody | Y9: OON do Phmax | Z9: Odstupné | AA9: OON úprava celkem | AC9: Odvody | AD9: Převod úspor z odvodů | AQ9: Platy | AR9: OON | AS9: Odvody | AT9: FKSP | AU9: OBV
A10: poř. | B10: č. KÚ | C10: RED IZO | D10: IČO | E10: škola - škol. zařízení (zkráceně) | F10: § | G10: druh činnosti | H10: rozpočet sestavil | AW10: NIV celkem | AX10: Platy | AY10: OON | AZ10: Odvody | BA10: FKSP | BB10: OBV | BC10: Počet PEDAG.
A11: por | B11: c_KU | C11: RED_IZO | D11: ICO | E11: Zkr_nazev | F11: § | G11: druh_cinnosti | H11: od | I11: NIV_CELKEM | J11: Platy_CELKEM | K11: OON_CELKEM | L11: ODVODY_CELKEM | M11: FKSP_CELKEM | N11: OBV_CELKEM | O11: PED_CELKEM | P11: Platy_Upr | Q11: Platy_Upr_ | R11: Platy_Upr_ | S11: Platy_Upr | T11: Platy_Upr | U11: Platy_Upr_ | V11: Platy_Upr_ | W11: Platy_Upr | X11: OON_Upr | Y11: OON_Upr | Z11: OON_Upr | AA11: OON_Upr | AB11: Upr_MP_Celkem | AC11: ODV_UPR | AD11: ODV_UPR | AE11: ODV_UPR | AF11: FKSP_UPR | AG11: OBV_UPR | AH11: NIV_UPR | AI11: PED_UPR | AJ11: PED_UPR | AK11: PED_UPR | AL11: PED_UPR | AM11: PED_UPR | AN11: PED_UPR | AO11: PED_UPR | AP11: NIV_CELKEM | AQ11: Platy_CELKEM | AR11: OON_CELKEM | AS11: ODVODY_CELKEM | AT11: FKSP_CELKEM | AU11: OBV_CELKEM | AV11: PED_CELKEM | AW11: NIV_SOCIAL | AX11: Platy_SOCIAL | AY11: OON__SOCIAL | AZ11: Odvody_SOCIAL | BA11: FKSP_SOCIAL | BB11: OBV_SOCIAL | BC11: PED_SOCIAL
A12: 1 | B12: 2330 | C12: 691009571 | D12: 71294511 | E12: DDM Liberec, Riegrova 1278/16 | F12: 3233 | G12: SVČ | H12: KÚ | I12: 7596596 | J12: 5039908 | K12: 600000 | L12: 1906289 | M12: 50399 | N12: 0 | O12: 8.51 | P12: =X12*-1 -> 250000 | Q12: 0 | R12: 0 | S12: 0 | T12: 0 | U12: 0 | V12: 0 | W12: =SUM(P12:V12) -> 250000 | X12: -250000 | Y12: 0 | Z12: 0 | AA12: =X12+Y12+Z12 -> -250000 | AB12: =W12+AA12 -> 0 | AC12: =ROUND((W12+X12+Y12)*33.8%,0) -> 0 | AD12: 0 | AE12: =AC12+AD12 -> 0 | AF12: =ROUND(W12*1%,0) -> 2500 | AG12: 0 | AH12: =AB12+AE12+AF12+AG12 -> 2500 | AI12: 0.43 | AJ12: 0 | AK12: 0 | AL12: 0 | AM12: 0 | AN12: 0 | AO12: =SUM(AI12:AN12) -> 0.43 | AP12: =I12+AH12 -> 7599096 | AQ12: =J12+W12 -> 5289908 | AR12: =K12+AA12 -> 350000 | AS12: =L12+AE12 -> 1906289 | AT12: =M12+AF12 -> 52899 | AU12: =N12+AG12 -> 0 | AV12: =O12+AO12 -> 8.94 | AW12: =SUM(AX12:BB12) -> 0 | AX12: 0 | AY12: 0 | AZ12: 0 | BA12: 0 | BB12: 0 | BC12: 0
A13: 1 | B13: 2330 | C13: 691009571 | D13: 71294511 | E13: DDM Liberec, Riegrova 1278/16 Celkem | I13: 7596596 | J13: 5039908 | K13: 600000 | L13: 1906289 | M13: 50399 | N13: 0 | O13: 8.51 | P13: =SUM(P12) -> 250000 | Q13: =SUM(Q12) -> 0 | R13: =SUM(R12) -> 0 | S13: =SUM(S12) -> 0 | T13: =SUM(T12) -> 0 | U13: =SUM(U12) -> 0 | V13: =SUM(V12) -> 0 | W13: =SUM(W12) -> 250000 | ... BC13: =SUM(BC12) -> 0
A14: 2 | B14: 2415 | C14: 600079465 | D14: 72742186 | E14: MŠ Liberec, Aloisina výšina 645/55 | F14: 3111 | G14: MŠ | H14: MŠMT | I14: 7642716 | J14: 5610116 | K14: 60000 | L14: 1916499 | M14: 56101 | N14: 0 | O14: 9.1881 | P14: =X14*-1 -> 29400 | Q14: 0 | R14: 0 | S14: 0 | T14: 0 | U14: 0 | V14: 0 | W14: =SUM(P14:V14) -> 29400 | X14: -29400 | Y14: 0 | Z14: 0 | AA14: =X14+Y14+Z14 -> -29400 | AB14: =W14+AA14 -> 0 | AC14: =ROUND((W14+X14+Y14)*33.8%,0) -> 0 | AD14: 0 | AE14: =AC14+AD14 -> 0 | AF14: =ROUND(W14*1%,0) -> 294 | AG14: 0 | AH14: =AB14+AE14+AF14+AG14 -> 294 | AI14: 0.07 | AJ14: 0 | AK14: 0 | AL14: 0 | AM14: 0 | AN14: 0 | AO14: =SUM(AI14:AN14) -> 0.07 | AP14: =I14+AH14 -> 7643010 | AQ14: =J14+W14 -> 5639516 | AR14: =K14+AA14 -> 30600 | AS14: =L14+AE14 -> 1916499 | AT14: =M14+AF14 -> 56395 | AU14: =N14+AG14 -> 0 | AV14: =O14+AO14 -> 9.2581 | AW14: =SUM(AX14:BB14) -> 0 | AX14: 0 | AY14: 0 | AZ14: 0 | BA14: 0 | BB14: 0 | BC14: 0
A15: 2 | B15: 2415 | C15: 600079465 | D15: 72742186 | E15: MŠ Liberec, Aloisina výšina 645/55 | F15: 3111 | G15: AP spec.tř. | H15: MŠMT | I15: 505284 | J15: 354988 | K15: 20000 | L15: 126746 | M15: 3550 | N15: 0 | O15: 1 | P15: =X15*-1 -> 20000 | Q15: 0 | R15: 0 | S15: 0 | T15: 0 | U15: 0 | V15: 0 | W15: =SUM(P15:V15) -> 20000 | X15: -20000 | Y15: 0 | Z15: 0 | AA15: =X15+Y15+Z15 -> -20000 | AB15: =W15+AA15 -> 0 | AC15: =ROUND((W15+X15+Y15)*33.8%,0) -> 0 | AD15: 0 | AE15: =AC15+AD15 -> 0 | AF15: =ROUND(W15*1%,0) -> 200 | AG15: 0 | AH15: =AB15+AE15+AF15+AG15 -> 200 | AI15: 0 | AJ15: 0 | AK15: 0 | AL15: 0 | AM15: 0 | AN15: 0 | AO15: =SUM(AI15:AN15) -> 0 | AP15: =I15+AH15 -> 505484 | AQ15: =J15+W15 -> 374988 | AR15: =K15+AA15 -> 0 | AS15: =L15+AE15 -> 126746 | AT15: =M15+AF15 -> 3750 | AU15: =N15+AG15 -> 0 | AV15: =O15+AO15 -> 1 | AW15: =SUM(AX15:BB15) -> 0 | AX15: 0 | AY15: 0 | AZ15: 0 | BA15: 0 | BB15: 0 | BC15: 0
A16: 2 | B16: 2415 | C16: 600079465 | D16: 72742186 | E16: MŠ Liberec, Aloisina výšina 645/55 | F16: 3111 | G16: PO | H16: KÚ | I16: 1456004 | J16: 1070196 | K16: 10000 | L16: 365106 | M16: 10702 | N16: 0 | O16: 2.5 | P16: =X16*-1 -> 10000 | Q16: 0 | R16: 0 | S16: 0 | T16: 0 | U16: 0 | V16: 0 | W16: =SUM(P16:V16) -> 10000 | X16: -10000 | Y16: 0 | Z16: 0 | AA16: =X16+Y16+Z16 -> -10000 | AB16: =W16+AA16 -> 0 | AC16: =ROUND((W16+X16+Y16)*33.8%,0) -> 0 | AD16: 0 | AE16: =AC16+AD16 -> 0 | AF16: =ROUND(W16*1%,0) -> 100 | AG16: 0 | AH16: =AB16+AE16+AF16+AG16 -> 100 | AI16: 0 | AJ16: 0 | AK16: 0 | AL16: 0 | AM16: 0 | AN16: 0 | AO16: =SUM(AI16:AN16) -> 0 | AP16: =I16+AH16 -> 1456104 | AQ16: =J16+W16 -> 1080196 | AR16: =K16+AA16 -> 0 | AS16: =L16+AE16 -> 365106 | AT16: =M16+AF16 -> 10802 | AU16: =N16+AG16 -> 0 | AV16: =O16+AO16 -> 2.5 | AW16: =SUM(AX16:BB16) -> 0 | AX16: 0 | AY16: 0 | AZ16: 0 | BA16: 0 | BB16: 0 | BC16: 0
A17: 2 | B17: 2415 | C17: 600079465 | D17: 72742186 | E17: MŠ Liberec, Aloisina výšina 645/55 Celkem | I17: 9604004 | J17: 7035300 | K17: 90000 | L17: 2408351 | M17: 70353 | N17: 0 | O17: 12.6881 | P17: =SUM(P14:P16) -> 59400 | Q17: =SUM(Q14:Q16) -> 0 | R17: =SUM(R14:R16) -> 0 | S17: =SUM(S14:S16) -> 0 | T17: =SUM(T14:T16) -> 0 | U17: =SUM(U14:U16) -> 0 | V17: =SUM(V14:V16) -> 0 | W17: =SUM(W14:W16) -> 59400 | ... BC17: =SUM(BC14:BC16) -> 0
A18: 3 | B18: 2442 | C18: 600079066 | D18: 72742101 | E18: MŠ Liberec, Bezová 274/1 | F18: 3111 | G18: MŠ | H18: MŠMT | I18: 8103348 | J18: 6011386 | K18: 0 | L18: 2031848 | M18: 60114 | N18: 0 | O18: 10 | P18: =X18*-1 -> 0 | Q18: 0 | R18: 0 | S18: 0 | T18: 0 | U18: 0 | V18: 0 | W18: =SUM(P18:V18) -> 0 | X18: 0 | Y18: 0 | Z18: 0 | AA18: =X18+Y18+Z18 -> 0 | AB18: =W18+AA18 -> 0 | AC18: =ROUND((W18+X18+Y18)*33.8%,0) -> 0 | AD18: 0 | AE18: =AC18+AD18 -> 0 | AF18: =ROUND(W18*1%,0) -> 0 | AG18: 0 | AH18: =AB18+AE18+AF18+AG18 -> 0 | AI18: 0 | AJ18: 0 | AK18: 0 | AL18: 0 | AM18: 0 | AN18: 0 | AO18: =SUM(AI18:AN18) -> 0 | AP18: =I18+AH18 -> 8103348 | AQ18: =J18+W18 -> 6011386 | AR18: =K18+AA18 -> 0 | AS18: =L18+AE18 -> 2031848 | AT18: =M18+AF18 -> 60114 | AU18: =N18+AG18 -> 0 | AV18: =O18+AO18 -> 10 | AW18: =SUM(AX18:BB18) -> 0 | AX18: 0 | AY18: 0 | AZ18: 0 | BA18: 0 | BB18: 0 | BC18: 0
A19: 3 | B19: 2442 | C19: 600079066 | D19: 72742101 | E19: MŠ Liberec, Bezová 274/1 | F19: 3111 | G19: PO | H19: KÚ | I19: 534949 | J19: 396847 | K19: 0 | L19: 134134 | M19: 3968 | N19: 0 | O19: 1 | P19: =X19*-1 -> 0 | Q19: 0 | R19: 0 | S19: 0 | T19: 0 | U19: 0 | V19: 0 | W19: =SUM(P19:V19) -> 0 | X19: 0 | Y19: 0 | Z19: 0 | AA19: =X19+Y19+Z19 -> 0 | AB19: =W19+AA19 -> 0 | AC19: =ROUND((W19+X19+Y19)*33.8%,0) -> 0 | AD19: 0 | AE19: =AC19+AD19 -> 0 | AF19: =ROUND(W19*1%,0) -> 0 | AG19: 0 | AH19: =AB19+AE19+AF19+AG19 -> 0 | AI19: 0 | AJ19: 0 | AK19: 0 | AL19: 0 | AM19: 0 | AN19: 0 | AO19: =SUM(AI19:AN19) -> 0 | AP19: =I19+AH19 -> 534949 | AQ19: =J19+W19 -> 396847 | AR19: =K19+AA19 -> 0 | AS19: =L19+AE19 -> 134134 | AT19: =M19+AF19 -> 3968 | AU19: =N19+AG19 -> 0 | AV19: =O19+AO19 -> 1 | AW19: =SUM(AX19:BB19) -> 0 | AX19: 0 | AY19: 0 | AZ19: 0 | BA19: 0 | BB19: 0 | BC19: 0
A20: 3 | B20: 2442 | C20: 600079066 | D20: 72742101 | E20: MŠ Liberec, Bezová 274/1 Celkem | I20: 8638297 | J20: 6408233 | K20: 0 | L20: 2165982 | M20: 64082 | N20: 0 | O20: 11 | P20: =SUM(P18:P19) -> 0 | Q20: =SUM(Q18:Q19) -> 0 | R20: =SUM(R18:R19) -> 0 | S20: =SUM(S18:S19) -> 0 | T20: =SUM(T18:T19) -> 0 | U20: =SUM(U18:U19) -> 0 | V20: =SUM(V18:V19) -> 0 | W20: =SUM(W18:W19) -> 0 | ... BC20: =SUM(BC18:BC19) -> 0
A21: 4 | B21: 2437 | C21: 600079074 | D21: 72743221 | E21: MŠ Liberec, Broumovská 840/7 | F21: 3111 | G21: MŠ | H21: MŠMT | I21: 13733741 | J21: 10188236 | K21: 0 | L21: 3443623 | M21: 101882 | N21: 0 | O21: 16.4838 | P21: =X21*-1 -> 0 | Q21: 0 | R21: 0 | S21: 0 | T21: 0 | U21: 0 | V21: 0 | W21: =SUM(P21:V21) -> 0 | X21: 0 | Y21: 0 | Z21: 0 | AA21: =X21+Y21+Z21 -> 0 | AB21: =W21+AA21 -> 0 | AC21: =ROUND((W21+X21+Y21)*33.8%,0) -> 0 | AD21: 0 | AE21: =AC21+AD21 -> 0 | AF21: =ROUND(W21*1%,0) -> 0 | AG21: 0 | AH21: =AB21+AE21+AF21+AG21 -> 0 | AI21: 0 | AJ21: 0 | AK21: 0 | AL21: 0 | AM21: 0 | AN21: 0 | AO21: =SUM(AI21:AN21) -> 0 | AP21: =I21+AH21 -> 13733741 | AQ21: =J21+W21 -> 10188236 | AR21: =K21+AA21 -> 0 | AS21: =L21+AE21 -> 3443623 | AT21: =M21+AF21 -> 101882 | AU21: =N21+AG21 -> 0 | AV21: =O21+AO21 -> 16.4838 | AW21: =SUM(AX21:BB21) -> 0 | AX21: 0 | AY21: 0 | AZ21: 0 | BA21: 0 | BB21: 0 | BC21: 0
A22: 4 | B22: 2437 | C22: 600079074 | D22: 72743221 | E22: MŠ Liberec, Broumovská 840/7 | F22: 3111 | G22: AP spec.tř. | H22: MŠMT | I22: 1161405 | J22: 861576 | K22: 0 | L22: 291213 | M22: 8616 | N22: 0 | O22: 2 | P22: =X22*-1 -> 0 | Q22: 0 | R22: 0 | S22: 0 | T22: 0 | U22: 0 | V22: 0 | W22: =SUM(P22:V22) -> 0 | X22: 0 | Y22: 0 | Z22: 0 | AA22: =X22+Y22+Z22 -> 0 | AB22: =W22+AA22 -> 0 | AC22: =ROUND((W22+X22+Y22)*33.8%,0) -> 0 | AD22: 0 | AE22: =AC22+AD22 -> 0 | AF22: =ROUND(W22*1%,0) -> 0 | AG22: 0 | AH22: =AB22+AE22+AF22+AG22 -> 0 | AI22: 0 | AJ22: 0 | AK22: 0 | AL22: 0 | AM22: 0 | AN22: 0 | AO22: =SUM(AI22:AN22) -> 0 | AP22: =I22+AH22 -> 1161405 | AQ22: =J22+W22 -> 861576 | AR22: =K22+AA22 -> 0 | AS22: =L22+AE22 -> 291213 | AT22: =M22+AF22 -> 8616 | AU22: =N22+AG22 -> 0 | AV22: =O22+AO22 -> 2 | AW22: =SUM(AX22:BB22) -> 0 | AX22: 0 | AY22: 0 | AZ22: 0 | BA22: 0 | BB22: 0 | BC22: 0
A23: 4 | B23: 2437 | C23: 600079074 | D23: 72743221 | E23: MŠ Liberec, Broumovská 840/7 | F23: 3111 | G23: PO | H23: KÚ | I23: 534949 | J23: 396847 | K23: 0 | L23: 134134 | M23: 3968 | N23: 0 | O23: 1 | P23: =X23*-1 -> 0 | Q23: 0 | R23: 0 | S23: 0 | T23: 0 | U23: 0 | V23: 0 | W23: =SUM(P23:V23) -> 0 | X23: 0 | Y23: 0 | Z23: 0 | AA23: =X23+Y23+Z23 -> 0 | AB23: =W23+AA23 -> 0 | AC23: =ROUND((W23+X23+Y23)*33.8%,0) -> 0 | AD23: 0 | AE23: =AC23+AD23 -> 0 | AF23: =ROUND(W23*1%,0) -> 0 | AG23: 0 | AH23: =AB23+AE23+AF23+AG23 -> 0 | AI23: 0 | AJ23: 0 | AK23: 0 | AL23: 0 | AM23: 0 | AN23: 0 | AO23: =SUM(AI23:AN23) -> 0 | AP23: =I23+AH23 -> 534949 | AQ23: =J23+W23 -> 396847 | AR23: =K23+AA23 -> 0 | AS23: =L23+AE23 -> 134134 | AT23: =M23+AF23 -> 3968 | AU23: =N23+AG23 -> 0 | AV23: =O23+AO23 -> 1 | AW23: =SUM(AX23:BB23) -> 0 | AX23: 0 | AY23: 0 | AZ23: 0 | BA23: 0 | BB23: 0 | BC23: 0
A24: 4 | B24: 2437 | C24: 600079074 | D24: 72743221 | E24: MŠ Liberec, Broumovská 840/7 Celkem | I24: 15430095 | J24: 11446659 | K24: 0 | L24: 3868970 | M24: 114466 | N24: 0 | O24: 19.4838 | P24: =SUM(P21:P23) -> 0 | Q24: =SUM(Q21:Q23) -> 0 | R24: =SUM(R21:R23) -> 0 | S24: =SUM(S21:S23) -> 0 | T24: =SUM(T21:T23) -> 0 | U24: =SUM(U21:U23) -> 0 | V24: =SUM(V21:V23) -> 0 | W24: =SUM(W21:W23) -> 0 | ... BC24: =SUM(BC21:BC23) -> 0
A25: 5 | B25: 2411 | C25: 600079554 | D25: 72742666 | E25: MŠ Liberec, Březinova 389/8 | F25: 3111 | G25: MŠ | H25: MŠMT | I25: 7029052 | J25: 5209467 | K25: 5000 | L25: 1762490 | M25: 52095 | N25: 0 | O25: 8.4193 | P25: =X25*-1 -> 5000 | Q25: 0 | R25: 0 | S25: 0 | T25: 0 | U25: 0 | V25: 0 | W25: =SUM(P25:V25) -> 5000 | X25: -5000 | Y25: 0 | Z25: 0 | AA25: =X25+Y25+Z25 -> -5000 | AB25: =W25+AA25 -> 0 | AC25: =ROUND((W25+X25+Y25)*33.8%,0) -> 0 | AD25: 0 | AE25: =AC25+AD25 -> 0 | AF25: =ROUND(W25*1%,0) -> 50 | AG25: 0 | AH25: =AB25+AE25+AF25+AG25 -> 50 | AI25: 0 | AJ25: 0 | AK25: 0 | AL25: 0 | AM25: 0 | AN25: 0 | AO25: =SUM(AI25:AN25) -> 0 | AP25: =I25+AH25 -> 7029102 | AQ25: =J25+W25 -> 5214467 | AR25: =K25+AA25 -> 0 | AS25: =L25+AE25 -> 1762490 | AT25: =M25+AF25 -> 52145 | AU25: =N25+AG25 -> 0 | AV25: =O25+AO25 -> 8.4193 | AW25: =SUM(AX25:BB25) -> 0 | AX25: 0 | AY25: 0 | AZ25: 0 | BA25: 0 | BB25: 0 | BC25: 0
A26: 5 | B26: 2411 | C26: 600079554 | D26: 72742666 | E26: MŠ Liberec, Březinova 389/8 | F26: 3111 | G26: PO | H26: KÚ | I26: 0 | J26: 0 | K26: 0 | L26: 0 | M26: 0 | N26: 0 | O26: 0 | P26: =X26*-1 -> 0 | Q26: 0 | R26: 73982 | S26: 0 | T26: 0 | U26: 0 | V26: 0 | W26: =SUM(P26:V26) -> 73982 | X26: 0 | Y26: 0 | Z26: 0 | AA26: =X26+Y26+Z26 -> 0 | AB26: =W26+AA26 -> 73982 | AC26: =ROUND((W26+X26+Y26)*33.8%,0) -> 25006 | AD26: 0 | AE26: =AC26+AD26 -> 25006 | AF26: =ROUND(W26*1%,0) -> 740 | AG26: 0 | AH26: =AB26+AE26+AF26+AG26 -> 99728 | AI26: 0 | AJ26: 0.25 | AK26: 0 | AL26: 0 | AM26: 0 | AN26: 0 | AO26: =SUM(AI26:AN26) -> 0.25 | AP26: =I26+AH26 -> 99728 | AQ26: =J26+W26 -> 73982 | AR26: =K26+AA26 -> 0 | AS26: =L26+AE26 -> 25006 | AT26: =M26+AF26 -> 740 | AU26: =N26+AG26 -> 0 | AV26: =O26+AO26 -> 0.25 | AW26: =SUM(AX26:BB26) -> 0 | AX26: 0 | AY26: 0 | AZ26: 0 | BA26: 0 | BB26: 0 | BC26: 0
A27: 5 | B27: 2411 | C27: 600079554 | D27: 72742666 | E27: MŠ Liberec, Březinova 389/8 Celkem | I27: 7029052 | J27: 5209467 | K27: 5000 | L27: 1762490 | M27: 52095 | N27: 0 | O27: 8.4193 | P27: =SUM(P25:P26) -> 5000 | Q27: =SUM(Q25:Q26) -> 0 | R27: =SUM(R25:R26) -> 73982 | S27: =SUM(S25:S26) -> 0 | T27: =SUM(T25:T26) -> 0 | U27: =SUM(U25:U26) -> 0 | V27: =SUM(V25:V26) -> 0 | W27: =SUM(W25:W26) -> 78982 | ... BC27: =SUM(BC25:BC26) -> 0
A28: 6 | B28: 2407 | C28: 600079520 | D28: 72741465 | E28: MŠ Liberec, Burianova 972/2 | F28: 3111 | G28: MŠ | H28: MŠMT | I28: 14180329 | J28: 10519532 | K28: 0 | L28: 3555602 | M28: 105195 | N28: 0 | O28: 17.4516 | P28: =X28*-1 -> 0 | Q28: 0 | R28: 0 | S28: 0 | T28: 0 | U28: 0 | V28: 0 | W28: =SUM(P28:V28) -> 0 | X28: 0 | Y28: 0 | Z28: 0 | AA28: =X28+Y28+Z28 -> 0 | AB28: =W28+AA28 -> 0 | AC28: =ROUND((W28+X28+Y28)*33.8%,0) -> 0 | AD28: 0 | AE28: =AC28+AD28 -> 0 | AF28: =ROUND(W28*1%,0) -> 0 | AG28: 0 | AH28: =AB28+AE28+AF28+AG28 -> 0 | AI28: 0 | AJ28: 0 | AK28: 0 | AL28: 0 | AM28: 0 | AN28: 0 | AO28: =SUM(AI28:AN28) -> 0 | AP28: =I28+AH28 -> 14180329 | AQ28: =J28+W28 -> 10519532 | AR28: =K28+AA28 -> 0 | AS28: =L28+AE28 -> 3555602 | AT28: =M28+AF28 -> 105195 | AU28: =N28+AG28 -> 0 | AV28: =O28+AO28 -> 17.4516 | AW28: =SUM(AX28:BB28) -> 0 | AX28: 0 | AY28: 0 | AZ28: 0 | BA28: 0 | BB28: 0 | BC28: 0
A29: 6 | B29: 2407 | C29: 600079520 | D29: 72741465 | E29: MŠ Liberec, Burianova 972/2 | F29: 3111 | G29: PO | H29: KÚ | I29: 1604849 | J29: 1190541 | K29: 0 | L29: 402403 | M29: 11905 | N29: 0 | O29: 3 | P29: =X29*-1 -> 0 | Q29: 0 | R29: -264565 | S29: 0 | T29: 0 | U29: 0 | V29: 0 | W29: =SUM(P29:V29) -> -264565 | X29: 0 | Y29: 0 | Z29: 0 | AA29: =X29+Y29+Z29 -> 0 | AB29: =W29+AA29 -> -264565 | AC29: =ROUND((W29+X29+Y29)*33.8%,0) -> -89423 | AD29: 0 | AE29: =AC29+AD29 -> -89423 | AF29: =ROUND(W29*1%,0) -> -2646 | AG29: 0 | AH29: =AB29+AE29+AF29+AG29 -> -356634 | AI29: 0 | AJ29: -0.67 | AK29: 0 | AL29: 0 | AM29: 0 | AN29: 0 | AO29: =SUM(AI29:AN29) -> -0.67 | AP29: =I29+AH29 -> 1248215 | AQ29: =J29+W29 -> 925976 | AR29: =K29+AA29 -> 0 | AS29: =L29+AE29 -> 312980 | AT29: =M29+AF29 -> 9259 | AU29: =N29+AG29 -> 0 | AV29: =O29+AO29 -> 2.33 | AW29: =SUM(AX29:BB29) -> 0 | AX29: 0 | AY29: 0 | AZ29: 0 | BA29: 0 | BB29: 0 | BC29: 0
A30: 6 | B30: 2407 | C30: 600079520 | D30: 72741465 | E30: MŠ Liberec, Burianova 972/2 Celkem | I30: 15785178 | J30: 11710073 | K30: 0 | L30: 3958005 | M30: 117100 | N30: 0 | O30: 20.4516 | P30: =SUM(P28:P29) -> 0 | Q30: =SUM(Q28:Q29) -> 0 | R30: =SUM(R28:R29) -> -264565 | S30: =SUM(S28:S29) -> 0 | T30: =SUM(T28:T29) -> 0 | U30: =SUM(U28:U29) -> 0 | V30: =SUM(V28:V29) -> 0 | W30: =SUM(W28:W29) -> -264565 | ... BC30: =SUM(BC28:BC29) -> 0
A31: 7 | B31: 2422 | C31: 600079082 | D31: 72742585 | E31: MŠ Liberec, Dělnická 831/7 | F31: 3111 | G31: MŠ | H31: MŠMT | I31: 8603914 | J31: 6308282 | K31: 75000 | L31: 2157549 | M31: 63083 | N31: 0 | O31: 10.8065 | P31: =X31*-1 -> 20000 | Q31: 0 | R31: 0 | S31: 0 | T31: 0 | U31: 0 | V31: 0 | W31: =SUM(P31:V31) -> 20000 | X31: -20000 | Y31: 0 | Z31: 0 | AA31: =X31+Y31+Z31 -> -20000 | AB31: =W31+AA31 -> 0 | AC31: =ROUND((W31+X31+Y31)*33.8%,0) -> 0 | AD31: 0 | AE31: =AC31+AD31 -> 0 | AF31: =ROUND(W31*1%,0) -> 200 | AG31: 0 | AH31: =AB31+AE31+AF31+AG31 -> 200 | AI31: -0.09 | AJ31: 0 | AK31: 0 | AL31: 0 | AM31: 0 | AN31: 0 | AO31: =SUM(AI31:AN31) -> -0.09 | AP31: =I31+AH31 -> 8604114 | AQ31: =J31+W31 -> 6328282 | AR31: =K31+AA31 -> 55000 | AS31: =L31+AE31 -> 2157549 | AT31: =M31+AF31 -> 63283 | AU31: =N31+AG31 -> 0 | AV31: =O31+AO31 -> 10.7165 | AW31: =SUM(AX31:BB31) -> 0 | AX31: 0 | AY31: 0 | AZ31: 0 | BA31: 0 | BB31: 0 | BC31: 0
A32: 7 | B32: 2422 | C32: 600079082 | D32: 72742585 | E32: MŠ Liberec, Dělnická 831/7 | F32: 3111 | G32: PO | H32: KÚ | I32: 742994 | J32: 551182 | K32: 0 | L32: 186300 | M32: 5512 | N32: 0 | O32: 1.39 | P32: =X32*-1 -> 0 | Q32: 0 | R32: -99212 | S32: 0 | T32: 0 | U32: 0 | V32: 0 | W32: =SUM(P32:V32) -> -99212 | X32: 0 | Y32: 0 | Z32: 0 | AA32: =X32+Y32+Z32 -> 0 | AB32: =W32+AA32 -> -99212 | AC32: =ROUND((W32+X32+Y32)*33.8%,0) -> -33534 | AD32: 0 | AE32: =AC32+AD32 -> -33534 | AF32: =ROUND(W32*1%,0) -> -992 | AG32: 0 | AH32: =AB32+AE32+AF32+AG32 -> -133738 | AI32: 0 | AJ32: -0.25 | AK32: 0 | AL32: 0 | AM32: 0 | AN32: 0 | AO32: =SUM(AI32:AN32) -> -0.25 | AP32: =I32+AH32 -> 609256 | AQ32: =J32+W32 -> 451970 | AR32: =K32+AA32 -> 0 | AS32: =L32+AE32 -> 152766 | AT32: =M32+AF32 -> 4520 | AU32: =N32+AG32 -> 0 | AV32: =O32+AO32 -> 1.14 | AW32: =SUM(AX32:BB32) -> 0 | AX32: 0 | AY32: 0 | AZ32: 0 | BA32: 0 | BB32: 0 | BC32: 0
A33: 7 | B33: 2422 | C33: 600079082 | D33: 72742585 | E33: MŠ Liberec, Dělnická 831/7 Celkem | I33: 9346908 | J33: 6859464 | K33: 75000 | L33: 2343849 | M33: 68595 | N33: 0 | O33: 12.1965 | P33: =SUM(P31:P32) -> 20000 | Q33: =SUM(Q31:Q32) -> 0 | R33: =SUM(R31:R32) -> -99212 | S33: =SUM(S31:S32) -> 0 | T33: =SUM(T31:T32) -> 0 | U33: =SUM(U31:U32) -> 0 | V33: =SUM(V31:V32) -> 0 | W33: =SUM(W31:W32) -> -79212 | ... BC33: =SUM(BC31:BC32) -> 0
A34: 8 | B34: 2427 | C34: 600079091 | D34: 72741627 | E34: MŠ Liberec, Dětská 461 | F34: 3111 | G34: MŠ | H34: MŠMT | I34: 4945987 | J34: 3669130 | K34: 0 | L34: 1240166 | M34: 36691 | N34: 0 | O34: 6.2418 | P34: =X34*-1 -> 0 | Q34: 0 | R34: 0 | S34: 0 | T34: 0 | U34: 0 | V34: 0 | W34: =SUM(P34:V34) -> 0 | X34: 0 | Y34: 0 | Z34: 0 | AA34: =X34+Y34+Z34 -> 0 | AB34: =W34+AA34 -> 0 | AC34: =ROUND((W34+X34+Y34)*33.8%,0) -> 0 | AD34: 0 | AE34: =AC34+AD34 -> 0 | AF34: =ROUND(W34*1%,0) -> 0 | AG34: 0 | AH34: =AB34+AE34+AF34+AG34 -> 0 | AI34: 0 | AJ34: 0 | AK34: 0 | AL34: 0 | AM34: 0 | AN34: 0 | AO34: =SUM(AI34:AN34) -> 0 | AP34: =I34+AH34 -> 4945987 | AQ34: =J34+W34 -> 3669130 | AR34: =K34+AA34 -> 0 | AS34: =L34+AE34 -> 1240166 | AT34: =M34+AF34 -> 36691 | AU34: =N34+AG34 -> 0 | AV34: =O34+AO34 -> 6.2418 | AW34: =SUM(AX34:BB34) -> 0 | AX34: 0 | AY34: 0 | AZ34: 0 | BA34: 0 | BB34: 0 | BC34: 0
A35: 8 | B35: 2427 | C35: 600079091 | D35: 72741627 | E35: MŠ Liberec, Dětská 461 | F35: 3111 | G35: PO | H35: KÚ | I35: 802427 | J35: 595272 | K35: 0 | L35: 201202 | M35: 5953 | N35: 0 | O35: 1.5 | P35: =X35*-1 -> 0 | Q35: 0 | R35: -99212 | S35: 0 | T35: 0 | U35: 0 | V35: 0 | W35: =SUM(P35:V35) -> -99212 | X35: 0 | Y35: 0 | Z35: 0 | AA35: =X35+Y35+Z35 -> 0 | AB35: =W35+AA35 -> -99212 | AC35: =ROUND((W35+X35+Y35)*33.8%,0) -> -33534 | AD35: 0 | AE35: =AC35+AD35 -> -33534 | AF35: =ROUND(W35*1%,0) -> -992 | AG35: 0 | AH35: =AB35+AE35+AF35+AG35 -> -133738 | AI35: 0 | AJ35: -0.25 | AK35: 0 | AL35: 0 | AM35: 0 | AN35: 0 | AO35: =SUM(AI35:AN35) -> -0.25 | AP35: =I35+AH35 -> 668689 | AQ35: =J35+W35 -> 496060 | AR35: =K35+AA35 -> 0 | AS35: =L35+AE35 -> 167668 | AT35: =M35+AF35 -> 4961 | AU35: =N35+AG35 -> 0 | AV35: =O35+AO35 -> 1.25 | AW35: =SUM(AX35:BB35) -> 0 | AX35: 0 | AY35: 0 | AZ35: 0 | BA35: 0 | BB35: 0 | BC35: 0
A36: 8 | B36: 2427 | C36: 600079091 | D36: 72741627 | E36: MŠ Liberec, Dětská 461 Celkem | I36: 5748414 | J36: 4264402 | K36: 0 | L36: 1441368 | M36: 42644 | N36: 0 | O36: 7.7418 | P36: =SUM(P34:P35) -> 0 | Q36: =SUM(Q34:Q35) -> 0 | R36: =SUM(R34:R35) -> -99212 | S36: =SUM(S34:S35) -> 0 | T36: =SUM(T34:T35) -> 0 | U36: =SUM(U34:U35) -> 0 | V36: =SUM(V34:V35) -> 0 | W36: =SUM(W34:W35) -> -99212 | ... BC36: =SUM(BC34:BC35) -> 0
A37: 9 | B37: 2327 | C37: 691002606 | D37: 72076950 | E37: MŠ Liberec, Gagarinova 788/9 | F37: 3111 | G37: MŠ | H37: MŠMT | I37: 9112551 | J37: 6760052 | K37: 0 | L37: 2284898 | M37: 67601 | N37: 0 | O37: 11.2096 | P37: =X37*-1 -> 0 | Q37: 0 | R37: 0 | S37: 0 | T37: 0 | U37: 0 | V37: 0 | W37: =SUM(P37:V37) -> 0 | X37: 0 | Y37: 0 | Z37: 0 | AA37: =X37+Y37+Z37 -> 0 | AB37: =W37+AA37 -> 0 | AC37: =ROUND((W37+X37+Y37)*33.8%,0) -> 0 | AD37: 0 | AE37: =AC37+AD37 -> 0 | AF37: =ROUND(W37*1%,0) -> 0 | AG37: 0 | AH37: =AB37+AE37+AF37+AG37 -> 0 | AI37: 0 | AJ37: 0 | AK37: 0 | AL37: 0 | AM37: 0 | AN37: 0 | AO37: =SUM(AI37:AN37) -> 0 | AP37: =I37+AH37 -> 9112551 | AQ37: =J37+W37 -> 6760052 | AR37: =K37+AA37 -> 0 | AS37: =L37+AE37 -> 2284898 | AT37: =M37+AF37 -> 67601 | AU37: =N37+AG37 -> 0 | AV37: =O37+AO37 -> 11.2096 | AW37: =SUM(AX37:BB37) -> 0 | AX37: 0 | AY37: 0 | AZ37: 0 | BA37: 0 | BB37: 0 | BC37: 0
A38: 9 | B38: 2327 | C38: 691002606 | D38: 72076950 | E38: MŠ Liberec, Gagarinova 788/9 | F38: 3111 | G38: PO | H38: KÚ | I38: 267475 | J38: 198424 | K38: 0 | L38: 67067 | M38: 1984 | N38: 0 | O38: 0.5 | P38: =X38*-1 -> 0 | Q38: 0 | R38: -66141 | S38: 0 | T38: 0 | U38: 0 | V38: 0 | W38: =SUM(P38:V38) -> -66141 | X38: 0 | Y38: 0 | Z38: 0 | AA38: =X38+Y38+Z38 -> 0 | AB38: =W38+AA38 -> -66141 | AC38: =ROUND((W38+X38+Y38)*33.8%,0) -> -22356 | AD38: 0 | AE38: =AC38+AD38 -> -22356 | AF38: =ROUND(W38*1%,0) -> -661 | AG38: 0 | AH38: =AB38+AE38+AF38+AG38 -> -89158 | AI38: 0 | AJ38: -0.17 | AK38: 0 | AL38: 0 | AM38: 0 | AN38: 0 | AO38: =SUM(AI38:AN38) -> -0.17 | AP38: =I38+AH38 -> 178317 | AQ38: =J38+W38 -> 132283 | AR38: =K38+AA38 -> 0 | AS38: =L38+AE38 -> 44711 | AT38: =M38+AF38 -> 1323 | AU38: =N38+AG38 -> 0 | AV38: =O38+AO38 -> 0.33 | AW38: =SUM(AX38:BB38) -> 0 | AX38: 0 | AY38: 0 | AZ38: 0 | BA38: 0 | BB38: 0 | BC38: 0
A39: 9 | B39: 2327 | C39: 691002606 | D39: 72076950 | E39: MŠ Liberec, Gagarinova 788/9 Celkem | I39: 9380026 | J39: 6958476 | K39: 0 | L39: 2351965 | M39: 69585 | N39: 0 | O39: 11.7096 | P39: =SUM(P37:P38) -> 0 | Q39: =SUM(Q37:Q38) -> 0 | R39: =SUM(R37:R38) -> -66141 | S39: =SUM(S37:S38) -> 0 | T39: =SUM(T37:T38) -> 0 | U39: =SUM(U37:U38) -> 0 | V39: =SUM(V37:V38) -> 0 | W39: =SUM(W37:W38) -> -66141 | ... BC39: =SUM(BC37:BC38) -> 0
A40: 10 | B40: 2321 | C40: 600079287 | D40: 72742976 | E40: MŠ Liberec, Horská 166/27 | F40: 3111 | G40: MŠ | H40: MŠMT | I40: 8792717 | J40: 6522787 | K40: 0 | L40: 2204702 | M40: 65228 | N40: 0 | O40: 10.4516 | P40: =X40*-1 -> 0 | Q40: 0 | R40: 0 | S40: 0 | T40: 0 | U40: 0 | V40: 0 | W40: =SUM(P40:V40) -> 0 | X40: 0 | Y40: 0 | Z40: 0 | AA40: =X40+Y40+Z40 -> 0 | AB40: =W40+AA40 -> 0 | AC40: =ROUND((W40+X40+Y40)*33.8%,0) -> 0 | AD40: 0 | AE40: =AC40+AD40 -> 0 | AF40: =ROUND(W40*1%,0) -> 0 | AG40: 0 | AH40: =AB40+AE40+AF40+AG40 -> 0 | AI40: 0 | AJ40: 0 | AK40: 0 | AL40: 0 | AM40: 0 | AN40: 0 | AO40: =SUM(AI40:AN40) -> 0 | AP40: =I40+AH40 -> 8792717 | AQ40: =J40+W40 -> 6522787 | AR40: =K40+AA40 -> 0 | AS40: =L40+AE40 -> 2204702 | AT40: =M40+AF40 -> 65228 | AU40: =N40+AG40 -> 0 | AV40: =O40+AO40 -> 10.4516 | AW40: =SUM(AX40:BB40) -> 0 | AX40: 0 | AY40: 0 | AZ40: 0 | BA40: 0 | BB40: 0 | BC40: 0
A41: 10 | B41: 2321 | C41: 600079287 | D41: 72742976 | E41: MŠ Liberec, Horská 166/27 Celkem | I41: 8792717 | J41: 6522787 | K41: 0 | L41: 2204702 | M41: 65228 | N41: 0 | O41: 10.4516 | P41: =SUM(P40:P40) -> 0 | Q41: =SUM(Q40:Q40) -> 0 | R41: =SUM(R40:R40) -> 0 | S41: =SUM(S40:S40) -> 0 | T41: =SUM(T40:T40) -> 0 | U41: =SUM(U40:U40) -> 0 | V41: =SUM(V40:V40) -> 0 | W41: =SUM(W40:W40) -> 0 | ... BC41: =SUM(BC40:BC40) -> 0
...

Sheet FR
A1: Krajský úřad Libereckého kraje
A2: U Jezu 642/2a, Liberec 2, 461 80
A3: Odbor školství, mládeže, tělovýchovy a sportu
A5: Úprava rozpisu rozpočtu přímých NIV na rok 2026 ke dni 6. 10. 2026
I6: Rozpočet přímých nákladů k 19. 8. 2026 | P6: úprava | AP6: Rozpočet přímých nákladů k 6. 10. 2026 | AW6: Z rozpočtu přímých NIV na rok 2026
P7: ÚPRAVA PLATY | X7: ÚPRAVA OON | AB7: Mzdové prostředky celkem | AC7: ÚPRAVA ODVODŮ | AE7: Odvody CELKEM | AF7: FKSP | AG7: OBV | AH7: Úprava NIV celkem | AI7: ÚPRAVA POČTU PEDAGOGŮ | AW7: Stanovení dalších finančních prostředků pro základní školy zřizované krajem, obcí nebo dobrovolným svazkem obcí na rok 2026 na financování sociálního pedagoga a další přímou podporu žáků se sociálním znevýhodněním, VĚSTNÍK MŠMT 4/2026
I8: Celkem NIV | J8: z toho v Kč: | O8: Počet PEDAG. | AI8: převody (platy-dohody) | AJ8: Podpůrná opatření | AK8: Změna Phškoly/ podpůrné pozice | AL8: Jazyková příprava cizinců | AM8: AP v 1. ročníku | AN8: Individuální úpravy | AO8: Úprava PED. celkem | AP8: Celkem NIV | AQ8: z toho v Kč: | AV8: Počet PEDAG.
A9: SUMÁŘ - PO III FRÝDLANT | J9: Platy | K9: OON | L9: Odvody | M9: FKSP | N9: OBV | P9: Převody do OON | Q9: Převod úspor z odvodů | R9: Podpůrná opatření | S9: Jazyková příprava cizinců | T9: Změna Phškoly/ podpůrné pozice | U9: AP v 1. ročníku | V9: Individuální úpravy | W9: PLATY úprava celkem | X9: Dohody | Y9: OON do Phmax | Z9: Odstupné | AA9: OON úprava celkem | AC9: Odvody | AD9: Převod úspor z odvodů | AQ9: Platy | AR9: OON | AS9: Odvody | AT9: FKSP | AU9: OBV
A10: poř. | B10: č. KÚ | C10: RED IZO | D10: IČO | E10: škola - škol. zařízení (zkráceně) | F10: § | G10: druh činnosti | H10: rozpočet sestavil | AW10: NIV celkem | AX10: Platy | AY10: OON | AZ10: Odvody | BA10: FKSP | BB10: OBV | BC10: Počet PEDAG.
A11: por | B11: c_KU | C11: RED_IZO | D11: ICO | E11: Zkr_nazev | F11: § | G11: druh_cinnosti | H11: od | I11: NIV_CELKEM | J11: Platy_CELKEM | K11: OON_CELKEM | L11: ODVODY_CELKEM | M11: FKSP_CELKEM | N11: OBV_CELKEM | O11: ZAM_CELKEM | P11: Platy_Upr | Q11: Platy_Upr_ | R11: Platy_Upr_ | S11: Platy_Upr | T11: Platy_Upr | U11: Platy_Upr_ | V11: Platy_Upr_ | W11: Platy_Upr | X11: OON_Upr | Y11: OON_Upr | Z11: OON_Upr | AA11: OON_Upr | AB11: Upr_MP_Celkem | AC11: ODV_UPR | AD11: ODV_UPR | AE11: ODV_UPR | AF11: FKSP_UPR | AG11: OBV_UPR | AH11: NIV_UPR | AI11: PED_UPR | AJ11: PED_UPR | AK11: PED_UPR | AL11: PED_UPR | AM11: PED_UPR | AN11: PED_UPR | AO11: PED_UPR | AP11: NIV_CELKEM | AQ11: Platy_CELKEM | AR11: OON_CELKEM | AS11: ODVODY_CELKEM | AT11: FKSP_CELKEM | AU11: OBV_CELKEM | AV11: ZAM_CELKEM | AW11: NIV_SOCIAL | AX11: Platy_SOCIAL | AY11: OON__SOCIAL | AZ11: Odvody_SOCIAL | BA11: FKSP_SOCIAL | BB11: OBV_SOCIAL | BC11: PED_SOCIAL
A12: 1 | B12: 2314 | C12: 600080358 | D12: 46745751 | E12: ZŠ speciální, Frýdlant, Husova 784 | F12: 3114 | G12: ZŠ spec. | H12: MŠMT | I12: 12295833 | J12: 9121537 | K12: 0 | L12: 3083080 | M12: 91216 | N12: 0 | O12: 11.9346 | P12: =X12*-1 -> 0 | Q12: 0 | R12: 0 | S12: 0 | T12: 0 | U12: 0 | V12: 4881 | W12: =SUM(P12:V12) -> 4881 | X12: 0 | Y12: 0 | Z12: 0 | AA12: =X12+Y12+Z12 -> 0 | AB12: =W12+AA12 -> 4881 | AC12: =ROUND((W12+X12+Y12)*33.8%,0) -> 1650 | AD12: 0 | AE12: =AC12+AD12 -> 1650 | AF12: =ROUND(W12*1%,0) -> 49 | AG12: 0 | AH12: =AB12+AE12+AF12+AG12 -> 6580 | AI12: 0 | AJ12: 0 | AK12: 0 | AL12: 0 | AM12: 0 | AN12: 0 | AO12: =SUM(AI12:AN12) -> 0 | AP12: =I12+AH12 -> 12302413 | AQ12: =J12+W12 -> 9126418 | AR12: =K12+AA12 -> 0 | AS12: =L12+AE12 -> 3084730 | AT12: =M12+AF12 -> 91265 | AU12: =N12+AG12 -> 0 | AV12: =O12+AO12 -> 11.9346 | AW12: =SUM(AX12:BB12) -> 0 | AX12: 0 | AY12: 0 | AZ12: 0 | BA12: 0 | BB12: 0 | BC12: 0
A13: 1 | B13: 2314 | C13: 600080358 | D13: 46745751 | E13: ZŠ speciální, Frýdlant, Husova 784 | F13: 3114 | G13: AP spec.tř. | H13: MŠMT | I13: 3560961 | J13: 2641663 | K13: 0 | L13: 892882 | M13: 26416 | N13: 0 | O13: 6.4448 | P13: =X13*-1 -> 0 | Q13: 0 | R13: 0 | S13: 0 | T13: 0 | U13: 0 | V13: 0 | W13: =SUM(P13:V13) -> 0 | X13: 0 | Y13: 0 | Z13: 0 | AA13: =X13+Y13+Z13 -> 0 | AB13: =W13+AA13 -> 0 | AC13: =ROUND((W13+X13+Y13)*33.8%,0) -> 0 | AD13: 0 | AE13: =AC13+AD13 -> 0 | AF13: =ROUND(W13*1%,0) -> 0 | AG13: 0 | AH13: =AB13+AE13+AF13+AG13 -> 0 | AI13: 0 | AJ13: 0 | AK13: 0 | AL13: 0 | AM13: 0 | AN13: 0 | AO13: =SUM(AI13:AN13) -> 0 | AP13: =I13+AH13 -> 3560961 | AQ13: =J13+W13 -> 2641663 | AR13: =K13+AA13 -> 0 | AS13: =L13+AE13 -> 892882 | AT13: =M13+AF13 -> 26416 | AU13: =N13+AG13 -> 0 | AV13: =O13+AO13 -> 6.4448 | AW13: =SUM(AX13:BB13) -> 0 | AX13: 0 | AY13: 0 | AZ13: 0 | BA13: 0 | BB13: 0 | BC13: 0
A14: 1 | B14: 2314 | C14: 600080358 | D14: 46745751 | E14: ZŠ speciální, Frýdlant, Husova 784 | F14: 3114 | G14: PO | H14: KÚ | I14: 0 | J14: 0 | K14: 0 | L14: 0 | M14: 0 | N14: 0 | O14: 0 | P14: =X14*-1 -> 0 | Q14: 0 | R14: 0 | S14: 0 | T14: 0 | U14: 0 | V14: 0 | W14: =SUM(P14:V14) -> 0 | X14: 0 | Y14: 0 | Z14: 0 | AA14: =X14+Y14+Z14 -> 0 | AB14: =W14+AA14 -> 0 | AC14: =ROUND((W14+X14+Y14)*33.8%,0) -> 0 | AD14: 0 | AE14: =AC14+AD14 -> 0 | AF14: =ROUND(W14*1%,0) -> 0 | AG14: 0 | AH14: =AB14+AE14+AF14+AG14 -> 0 | AI14: 0 | AJ14: 0 | AK14: 0 | AL14: 0 | AM14: 0 | AN14: 0 | AO14: =SUM(AI14:AN14) -> 0 | AP14: =I14+AH14 -> 0 | AQ14: =J14+W14 -> 0 | AR14: =K14+AA14 -> 0 | AS14: =L14+AE14 -> 0 | AT14: =M14+AF14 -> 0 | AU14: =N14+AG14 -> 0 | AV14: =O14+AO14 -> 0 | AW14: =SUM(AX14:BB14) -> 0 | AX14: 0 | AY14: 0 | AZ14: 0 | BA14: 0 | BB14: 0 | BC14: 0
A15: 1 | B15: 2314 | C15: 600080358 | D15: 46745751 | E15: ZŠ speciální, Frýdlant, Husova 784 | F15: 3143 | G15: ŠD | H15: MŠMT | I15: 852847 | J15: 632676 | K15: 0 | L15: 213844 | M15: 6327 | N15: 0 | O15: 1.3215 | P15: =X15*-1 -> 0 | Q15: 0 | R15: 0 | S15: 0 | T15: 0 | U15: 0 | V15: 0 | W15: =SUM(P15:V15) -> 0 | X15: 0 | Y15: 0 | Z15: 0 | AA15: =X15+Y15+Z15 -> 0 | AB15: =W15+AA15 -> 0 | AC15: =ROUND((W15+X15+Y15)*33.8%,0) -> 0 | AD15: 0 | AE15: =AC15+AD15 -> 0 | AF15: =ROUND(W15*1%,0) -> 0 | AG15: 0 | AH15: =AB15+AE15+AF15+AG15 -> 0 | AI15: 0 | AJ15: 0 | AK15: 0 | AL15: 0 | AM15: 0 | AN15: 0 | AO15: =SUM(AI15:AN15) -> 0 | AP15: =I15+AH15 -> 852847 | AQ15: =J15+W15 -> 632676 | AR15: =K15+AA15 -> 0 | AS15: =L15+AE15 -> 213844 | AT15: =M15+AF15 -> 6327 | AU15: =N15+AG15 -> 0 | AV15: =O15+AO15 -> 1.3215 | AW15: =SUM(AX15:BB15) -> 0 | AX15: 0 | AY15: 0 | AZ15: 0 | BA15: 0 | BB15: 0 | BC15: 0
A16: 1 | B16: 2314 | C16: 600080358 | D16: 46745751 | E16: ZŠ speciální, Frýdlant, Husova 784 Celkem | I16: 16709641 | J16: 12395876 | K16: 0 | L16: 4189806 | M16: 123959 | N16: 0 | O16: 19.7009 | P16: =SUM(P12:P15) -> 0 | Q16: =SUM(Q12:Q15) -> 0 | R16: =SUM(R12:R15) -> 0 | S16: =SUM(S12:S15) -> 0 | T16: =SUM(T12:T15) -> 0 | U16: =SUM(U12:U15) -> 0 | V16: =SUM(V12:V15) -> 4881 | W16: =SUM(W12:W15) -> 4881 | ... BC16: =SUM(BC12:BC15) -> 0
A17: 2 | B17: 2448 | C17: 600080269 | D17: 63154617 | E17: ZŠ, ZUŠ a MŠ Frýdlant, Purkyňova 510 | F17: 3111 | G17: MŠ | H17: MŠMT | I17: 17049588 | J17: 12548804 | K17: 100000 | L17: 4275296 | M17: 125488 | N17: 0 | O17: 20.61 | P17: =X17*-1 -> -45000 | Q17: 0 | R17: 0 | S17: 0 | T17: 0 | U17: 0 | V17: 0 | W17: =SUM(P17:V17) -> -45000 | X17: 45000 | Y17: 0 | Z17: 0 | AA17: =X17+Y17+Z17 -> 45000 | AB17: =W17+AA17 -> 0 | AC17: =ROUND((W17+X17+Y17)*33.8%,0) -> 0 | AD17: 0 | AE17: =AC17+AD17 -> 0 | AF17: =ROUND(W17*1%,0) -> -450 | AG17: 0 | AH17: =AB17+AE17+AF17+AG17 -> -450 | AI17: 0 | AJ17: 0 | AK17: 0 | AL17: 0 | AM17: 0 | AN17: 0 | AO17: =SUM(AI17:AN17) -> 0 | AP17: =I17+AH17 -> 17049138 | AQ17: =J17+W17 -> 12503804 | AR17: =K17+AA17 -> 145000 | AS17: =L17+AE17 -> 4275296 | AT17: =M17+AF17 -> 125038 | AU17: =N17+AG17 -> 0 | AV17: =O17+AO17 -> 20.61 | AW17: =SUM(AX17:BB17) -> 0 | AX17: 0 | AY17: 0 | AZ17: 0 | BA17: 0 | BB17: 0 | BC17: 0
A18: 2 | B18: 2448 | C18: 600080269 | D18: 63154617 | E18: ZŠ, ZUŠ a MŠ Frýdlant, Purkyňova 510 | F18: 3113 | G18: ZŠ | H18: MŠMT | I18: 60635106 | J18: 44540278 | K18: 45000 | L18: 15069824 | M18: 445404 | N18: 534600 | O18: 59.0593 | P18: =X18*-1 -> -39000 | Q18: 0 | R18: 0 | S18: 0 | T18: 0 | U18: 0 | V18: 0 | W18: =SUM(P18:V18) -> -39000 | X18: 39000 | Y18: 0 | Z18: 138498 | AA18: =X18+Y18+Z18 -> 177498 | AB18: =W18+AA18 -> 138498 | AC18: =ROUND((W18+X18+Y18)*33.8%,0) -> 0 | AD18: 0 | AE18: =AC18+AD18 -> 0 | AF18: =ROUND(W18*1%,0) -> -390 | AG18: 0 | AH18: =AB18+AE18+AF18+AG18 -> 138108 | AI18: 0 | AJ18: 0 | AK18: 0 | AL18: 0 | AM18: 0 | AN18: 0 | AO18: =SUM(AI18:AN18) -> 0 | AP18: =I18+AH18 -> 60773214 | AQ18: =J18+W18 -> 44501278 | AR18: =K18+AA18 -> 222498 | AS18: =L18+AE18 -> 15069824 | AT18: =M18+AF18 -> 445014 | AU18: =N18+AG18 -> 534600 | AV18: =O18+AO18 -> 59.0593 | AW18: =SUM(AX18:BB18) -> 1153373 | AX18: 459030 | AY18: 0 | AZ18: 155152 | BA18: 4591 | BB18: 534600 | BC18: 0.83
A19: 2 | B19: 2448 | C19: 600080269 | D19: 63154617 | E19: ZŠ, ZUŠ a MŠ Frýdlant, Purkyňova 510 | F19: 3113 | G19: ZŠ PPP | H19: MŠMT | I19: 1334811 | J19: 990216 | K19: 0 | L19: 334693 | M19: 9902 | N19: 0 | O19: 2 | P19: =X19*-1 -> 0 | Q19: 0 | R19: 0 | S19: 0 | T19: 0 | U19: 0 | V19: 0 | W19: =SUM(P19:V19) -> 0 | X19: 0 | Y19: 0 | Z19: 0 | AA19: =X19+Y19+Z19 -> 0 | AB19: =W19+AA19 -> 0 | AC19: =ROUND((W19+X19+Y19)*33.8%,0) -> 0 | AD19: 0 | AE19: =AC19+AD19 -> 0 | AF19: =ROUND(W19*1%,0) -> 0 | AG19: 0 | AH19: =AB19+AE19+AF19+AG19 -> 0 | AI19: 0 | AJ19: 0 | AK19: 0 | AL19: 0 | AM19: 0 | AN19: 0 | AO19: =SUM(AI19:AN19) -> 0 | AP19: =I19+AH19 -> 1334811 | AQ19: =J19+W19 -> 990216 | AR19: =K19+AA19 -> 0 | AS19: =L19+AE19 -> 334693 | AT19: =M19+AF19 -> 9902 | AU19: =N19+AG19 -> 0 | AV19: =O19+AO19 -> 2 | AW19: =SUM(AX19:BB19) -> 0 | AX19: 0 | AY19: 0 | AZ19: 0 | BA19: 0 | BB19: 0 | BC19: 0
A20: 2 | B20: 2448 | C20: 600080269 | D20: 63154617 | E20: ZŠ, ZUŠ a MŠ Frýdlant, Purkyňova 510 | F20: 3113 | G20: AP 1.ročník | H20: MŠMT | I20: 0 | J20: 0 | K20: 0 | L20: 0 | M20: 0 | N20: 0 | O20: 0 | P20: =X20*-1 -> 0 | Q20: 0 | R20: 0 | S20: 0 | T20: 0 | U20: 314227 | V20: 0 | W20: =SUM(P20:V20) -> 314227 | X20: 0 | Y20: 0 | Z20: 0 | AA20: =X20+Y20+Z20 -> 0 | AB20: =W20+AA20 -> 314227 | AC20: =ROUND((W20+X20+Y20)*33.8%,0) -> 106209 | AD20: 0 | AE20: =AC20+AD20 -> 106209 | AF20: =ROUND(W20*1%,0) -> 3142 | AG20: 0 | AH20: =AB20+AE20+AF20+AG20 -> 423578 | AI20: 0 | AJ20: 0 | AK20: 0 | AL20: 0 | AM20: 0.75 | AN20: 0 | AO20: =SUM(AI20:AN20) -> 0.75 | AP20: =I20+AH20 -> 423578 | AQ20: =J20+W20 -> 314227 | AR20: =K20+AA20 -> 0 | AS20: =L20+AE20 -> 106209 | AT20: =M20+AF20 -> 3142 | AU20: =N20+AG20 -> 0 | AV20: =O20+AO20 -> 0.75 | AW20: =SUM(AX20:BB20) -> 0 | AX20: 0 | AY20: 0 | AZ20: 0 | BA20: 0 | BB20: 0 | BC20: 0
A21: 2 | B21: 2448 | C21: 600080269 | D21: 63154617 | E21: ZŠ, ZUŠ a MŠ Frýdlant, Purkyňova 510 | F21: 3113 | G21: PO | H21: KÚ | I21: 10010384 | J21: 7426102 | K21: 0 | L21: 2510022 | M21: 74260 | N21: 0 | O21: 18.82 | P21: =X21*-1 -> 0 | Q21: 0 | R21: 187404 | S21: 0 | T21: 0 | U21: 0 | V21: 0 | W21: =SUM(P21:V21) -> 187404 | X21: 0 | Y21: 0 | Z21: 0 | AA21: =X21+Y21+Z21 -> 0 | AB21: =W21+AA21 -> 187404 | AC21: =ROUND((W21+X21+Y21)*33.8%,0) -> 63343 | AD21: 0 | AE21: =AC21+AD21 -> 63343 | AF21: =ROUND(W21*1%,0) -> 1874 | AG21: 0 | AH21: =AB21+AE21+AF21+AG21 -> 252621 | AI21: 0 | AJ21: 0.47 | AK21: 0 | AL21: 0 | AM21: 0 | AN21: 0 | AO21: =SUM(AI21:AN21) -> 0.47 | AP21: =I21+AH21 -> 10263005 | AQ21: =J21+W21 -> 7613506 | AR21: =K21+AA21 -> 0 | AS21: =L21+AE21 -> 2573365 | AT21: =M21+AF21 -> 76134 | AU21: =N21+AG21 -> 0 | AV21: =O21+AO21 -> 19.29 | AW21: =SUM(AX21:BB21) -> 0 | AX21: 0 | AY21: 0 | AZ21: 0 | BA21: 0 | BB21: 0 | BC21: 0
A22: 2 | B22: 2448 | C22: 600080269 | D22: 63154617 | E22: ZŠ, ZUŠ a MŠ Frýdlant, Purkyňova 510 | F22: 3143 | G22: ŠD | H22: MŠMT | I22: 4663090 | J22: 3409637 | K22: 50000 | L22: 1169357 | M22: 34096 | N22: 0 | O22: 6.3 | P22: =X22*-1 -> -19000 | Q22: 0 | R22: 0 | S22: 0 | T22: 0 | U22: 0 | V22: 0 | W22: =SUM(P22:V22) -> -19000 | X22: 19000 | Y22: 0 | Z22: 0 | AA22: =X22+Y22+Z22 -> 19000 | AB22: =W22+AA22 -> 0 | AC22: =ROUND((W22+X22+Y22)*33.8%,0) -> 0 | AD22: 0 | AE22: =AC22+AD22 -> 0 | AF22: =ROUND(W22*1%,0) -> -190 | AG22: 0 | AH22: =AB22+AE22+AF22+AG22 -> -190 | AI22: 0 | AJ22: 0 | AK22: 0 | AL22: 0 | AM22: 0 | AN22: 0 | AO22: =SUM(AI22:AN22) -> 0 | AP22: =I22+AH22 -> 4662900 | AQ22: =J22+W22 -> 3390637 | AR22: =K22+AA22 -> 69000 | AS22: =L22+AE22 -> 1169357 | AT22: =M22+AF22 -> 33906 | AU22: =N22+AG22 -> 0 | AV22: =O22+AO22 -> 6.3 | AW22: =SUM(AX22:BB22) -> 0 | AX22: 0 | AY22: 0 | AZ22: 0 | BA22: 0 | BB22: 0 | BC22: 0
A23: 2 | B23: 2448 | C23: 600080269 | D23: 63154617 | E23: ZŠ, ZUŠ a MŠ Frýdlant, Purkyňova 510 | F23: 3231 | G23: ZUŠ | H23: MŠMT | I23: 9669278 | J23: 7068834 | K23: 105000 | L23: 2424756 | M23: 70688 | N23: 0 | O23: 10.6237 | P23: =X23*-1 -> -19000 | Q23: 0 | R23: 0 | S23: 0 | T23: 0 | U23: 0 | V23: 0 | W23: =SUM(P23:V23) -> -19000 | X23: 19000 | Y23: 0 | Z23: 0 | AA23: =X23+Y23+Z23 -> 19000 | AB23: =W23+AA23 -> 0 | AC23: =ROUND((W23+X23+Y23)*33.8%,0) -> 0 | AD23: 0 | AE23: =AC23+AD23 -> 0 | AF23: =ROUND(W23*1%,0) -> -190 | AG23: 0 | AH23: =AB23+AE23+AF23+AG23 -> -190 | AI23: -0.03 | AJ23: 0 | AK23: 0 | AL23: 0 | AM23: 0 | AN23: 0 | AO23: =SUM(AI23:AN23) -> -0.03 | AP23: =I23+AH23 -> 9669088 | AQ23: =J23+W23 -> 7049834 | AR23: =K23+AA23 -> 124000 | AS23: =L23+AE23 -> 2424756 | AT23: =M23+AF23 -> 70498 | AU23: =N23+AG23 -> 0 | AV23: =O23+AO23 -> 10.5937 | AW23: =SUM(AX23:BB23) -> 0 | AX23: 0 | AY23: 0 | AZ23: 0 | BA23: 0 | BB23: 0 | BC23: 0
A24: 2 | B24: 2448 | C24: 600080269 | D24: 63154617 | E24: ZŠ, ZUŠ a MŠ Frýdlant, Purkyňova 510 | F24: 3233 | G24: SVČ | H24: KÚ | I24: 1620584 | J24: 1202214 | K24: 0 | L24: 406348 | M24: 12022 | N24: 0 | O24: 2.03 | P24: =X24*-1 -> 0 | Q24: 0 | R24: 0 | S24: 0 | T24: 0 | U24: 0 | V24: 0 | W24: =SUM(P24:V24) -> 0 | X24: 0 | Y24: 0 | Z24: 0 | AA24: =X24+Y24+Z24 -> 0 | AB24: =W24+AA24 -> 0 | AC24: =ROUND((W24+X24+Y24)*33.8%,0) -> 0 | AD24: 0 | AE24: =AC24+AD24 -> 0 | AF24: =ROUND(W24*1%,0) -> 0 | AG24: 0 | AH24: =AB24+AE24+AF24+AG24 -> 0 | AI24: 0 | AJ24: 0 | AK24: 0 | AL24: 0 | AM24: 0 | AN24: 0 | AO24: =SUM(AI24:AN24) -> 0 | AP24: =I24+AH24 -> 1620584 | AQ24: =J24+W24 -> 1202214 | AR24: =K24+AA24 -> 0 | AS24: =L24+AE24 -> 406348 | AT24: =M24+AF24 -> 12022 | AU24: =N24+AG24 -> 0 | AV24: =O24+AO24 -> 2.03 | AW24: =SUM(AX24:BB24) -> 0 | AX24: 0 | AY24: 0 | AZ24: 0 | BA24: 0 | BB24: 0 | BC24: 0
A25: 2 | B25: 2448 | C25: 600080269 | D25: 63154617 | E25: ZŠ, ZUŠ a MŠ Frýdlant, Purkyňova 510 Celkem | I25: 104982841 | J25: 77186085 | K25: 300000 | L25: 26190296 | M25: 771860 | N25: 534600 | O25: 119.443 | P25: =SUM(P17:P24) -> -122000 | Q25: =SUM(Q17:Q24) -> 0 | R25: =SUM(R17:R24) -> 187404 | S25: =SUM(S17:S24) -> 0 | T25: =SUM(T17:T24) -> 0 | U25: =SUM(U17:U24) -> 314227 | V25: =SUM(V17:V24) -> 0 | W25: =SUM(W17:W24) -> 379631 | ... BC25: =SUM(BC17:BC24) -> 0.83
A26: 3 | B26: 2450 | C26: 600080234 | D26: 72745045 | E26: ZŠ a MŠ Bílý Potok 220 | F26: 3111 | G26: MŠ | H26: MŠMT | I26: 1244952 | J26: 834223 | K26: 90000 | L26: 312387 | M26: 8342 | N26: 0 | O26: 1.706 | P26: =X26*-1 -> 65000 | Q26: 0 | R26: 0 | S26: 0 | T26: 0 | U26: 0 | V26: 0 | W26: =SUM(P26:V26) -> 65000 | X26: -65000 | Y26: 0 | Z26: 0 | AA26: =X26+Y26+Z26 -> -65000 | AB26: =W26+AA26 -> 0 | AC26: =ROUND((W26+X26+Y26)*33.8%,0) -> 0 | AD26: 0 | AE26: =AC26+AD26 -> 0 | AF26: =ROUND(W26*1%,0) -> 650 | AG26: 0 | AH26: =AB26+AE26+AF26+AG26 -> 650 | AI26: 0 | AJ26: 0 | AK26: 0 | AL26: 0 | AM26: 0 | AN26: 0 | AO26: =SUM(AI26:AN26) -> 0 | AP26: =I26+AH26 -> 1245602 | AQ26: =J26+W26 -> 899223 | AR26: =K26+AA26 -> 25000 | AS26: =L26+AE26 -> 312387 | AT26: =M26+AF26 -> 8992 | AU26: =N26+AG26 -> 0 | AV26: =O26+AO26 -> 1.706 | AW26: =SUM(AX26:BB26) -> 0 | AX26: 0 | AY26: 0 | AZ26: 0 | BA26: 0 | BB26: 0 | BC26: 0
A27: 3 | B27: 2450 | C27: 600080234 | D27: 72745045 | E27: ZŠ a MŠ Bílý Potok 220 | F27: 3117 | G27: ZŠ | H27: MŠMT | I27: 2068940 | J27: 1534821 | K27: 0 | L27: 518770 | M27: 15349 | N27: 0 | O27: 2.4806 | P27: =X27*-1 -> 0 | Q27: 0 | R27: 0 | S27: 0 | T27: 0 | U27: 0 | V27: 0 | W27: =SUM(P27:V27) -> 0 | X27: 0 | Y27: 0 | Z27: 0 | AA27: =X27+Y27+Z27 -> 0 | AB27: =W27+AA27 -> 0 | AC27: =ROUND((W27+X27+Y27)*33.8%,0) -> 0 | AD27: 0 | AE27: =AC27+AD27 -> 0 | AF27: =ROUND(W27*1%,0) -> 0 | AG27: 0 | AH27: =AB27+AE27+AF27+AG27 -> 0 | AI27: 0 | AJ27: 0 | AK27: 0 | AL27: 0 | AM27: 0 | AN27: 0 | AO27: =SUM(AI27:AN27) -> 0 | AP27: =I27+AH27 -> 2068940 | AQ27: =J27+W27 -> 1534821 | AR27: =K27+AA27 -> 0 | AS27: =L27+AE27 -> 518770 | AT27: =M27+AF27 -> 15349 | AU27: =N27+AG27 -> 0 | AV27: =O27+AO27 -> 2.4806 | AW27: =SUM(AX27:BB27) -> 0 | AX27: 0 | AY27: 0 | AZ27: 0 | BA27: 0 | BB27: 0 | BC27: 0
A28: 3 | B28: 2450 | C28: 600080234 | D28: 72745045 | E28: ZŠ a MŠ Bílý Potok 220 | F28: 3117 | G28: PO | H28: KÚ | I28: 509509 | J28: 377974 | K28: 0 | L28: 127755 | M28: 3780 | N28: 0 | O28: 0.87 | P28: =X28*-1 -> 0 | Q28: 0 | R28: 126045 | S28: 0 | T28: 0 | U28: 0 | V28: 0 | W28: =SUM(P28:V28) -> 126045 | X28: 0 | Y28: 0 | Z28: 0 | AA28: =X28+Y28+Z28 -> 0 | AB28: =W28+AA28 -> 126045 | AC28: =ROUND((W28+X28+Y28)*33.8%,0) -> 42603 | AD28: 0 | AE28: =AC28+AD28 -> 42603 | AF28: =ROUND(W28*1%,0) -> 1260 | AG28: 0 | AH28: =AB28+AE28+AF28+AG28 -> 169908 | AI28: 0 | AJ28: 0.43 | AK28: 0 | AL28: 0 | AM28: 0 | AN28: 0 | AO28: =SUM(AI28:AN28) -> 0.43 | AP28: =I28+AH28 -> 679417 | AQ28: =J28+W28 -> 504019 | AR28: =K28+AA28 -> 0 | AS28: =L28+AE28 -> 170358 | AT28: =M28+AF28 -> 5040 | AU28: =N28+AG28 -> 0 | AV28: =O28+AO28 -> 1.3 | AW28: =SUM(AX28:BB28) -> 0 | AX28: 0 | AY28: 0 | AZ28: 0 | BA28: 0 | BB28: 0 | BC28: 0
A29: 3 | B29: 2450 | C29: 600080234 | D29: 72745045 | E29: ZŠ a MŠ Bílý Potok 220 | F29: 3143 | G29: ŠD | H29: MŠMT | I29: 676365 | J29: 491829 | K29: 10000 | L29: 169618 | M29: 4918 | N29: 0 | O29: 1 | P29: =X29*-1 -> 10000 | Q29: 0 | R29: 0 | S29: 0 | T29: 0 | U29: 0 | V29: 0 | W29: =SUM(P29:V29) -> 10000 | X29: -10000 | Y29: 0 | Z29: 0 | AA29: =X29+Y29+Z29 -> -10000 | AB29: =W29+AA29 -> 0 | AC29: =ROUND((W29+X29+Y29)*33.8%,0) -> 0 | AD29: 0 | AE29: =AC29+AD29 -> 0 | AF29: =ROUND(W29*1%,0) -> 100 | AG29: 0 | AH29: =AB29+AE29+AF29+AG29 -> 100 | AI29: 0 | AJ29: 0 | AK29: 0 | AL29: 0 | AM29: 0 | AN29: 0 | AO29: =SUM(AI29:AN29) -> 0 | AP29: =I29+AH29 -> 676465 | AQ29: =J29+W29 -> 501829 | AR29: =K29+AA29 -> 0 | AS29: =L29+AE29 -> 169618 | AT29: =M29+AF29 -> 5018 | AU29: =N29+AG29 -> 0 | AV29: =O29+AO29 -> 1 | AW29: =SUM(AX29:BB29) -> 0 | AX29: 0 | AY29: 0 | AZ29: 0 | BA29: 0 | BB29: 0 | BC29: 0
A30: 3 | B30: 2450 | C30: 600080234 | D30: 72745045 | E30: ZŠ a MŠ Bílý Potok 220 Celkem | I30: 4499766 | J30: 3238847 | K30: 100000 | L30: 1128530 | M30: 32389 | N30: 0 | O30: 6.0566 | P30: =SUM(P26:P29) -> 75000 | Q30: =SUM(Q26:Q29) -> 0 | R30: =SUM(R26:R29) -> 126045 | S30: =SUM(S26:S29) -> 0 | T30: =SUM(T26:T29) -> 0 | U30: =SUM(U26:U29) -> 0 | V30: =SUM(V26:V29) -> 0 | W30: =SUM(W26:W29) -> 201045 | ... BC30: =SUM(BC26:BC29) -> 0
A31: 4 | B31: 2451 | C31: 650037901 | D31: 72744880 | E31: ZŠ a MŠ Bulovka 156 | F31: 3111 | G31: MŠ | H31: MŠMT | I31: 1553262 | J31: 1152271 | K31: 0 | L31: 389468 | M31: 11523 | N31: 0 | O31: 2 | P31: =X31*-1 -> 0 | Q31: 0 | R31: 0 | S31: 0 | T31: 0 | U31: 0 | V31: 0 | W31: =SUM(P31:V31) -> 0 | X31: 0 | Y31: 0 | Z31: 0 | AA31: =X31+Y31+Z31 -> 0 | AB31: =W31+AA31 -> 0 | AC31: =ROUND((W31+X31+Y31)*33.8%,0) -> 0 | AD31: 0 | AE31: =AC31+AD31 -> 0 | AF31: =ROUND(W31*1%,0) -> 0 | AG31: 0 | AH31: =AB31+AE31+AF31+AG31 -> 0 | AI31: 0 | AJ31: 0 | AK31: 0 | AL31: 0 | AM31: 0 | AN31: 0 | AO31: =SUM(AI31:AN31) -> 0 | AP31: =I31+AH31 -> 1553262 | AQ31: =J31+W31 -> 1152271 | AR31: =K31+AA31 -> 0 | AS31: =L31+AE31 -> 389468 | AT31: =M31+AF31 -> 11523 | AU31: =N31+AG31 -> 0 | AV31: =O31+AO31 -> 2 | AW31: =SUM(AX31:BB31) -> 0 | AX31: 0 | AY31: 0 | AZ31: 0 | BA31: 0 | BB31: 0 | BC31: 0
A32: 4 | B32: 2451 | C32: 650037901 | D32: 72744880 | E32: ZŠ a MŠ Bulovka 156 | F32: 3117 | G32: ZŠ | H32: MŠMT | I32: 3704593 | J32: 2748215 | K32: 0 | L32: 928896 | M32: 27482 | N32: 0 | O32: 4 | P32: =X32*-1 -> -30000 | Q32: 0 | R32: 0 | S32: 0 | T32: 0 | U32: 0 | V32: 0 | W32: =SUM(P32:V32) -> -30000 | X32: 30000 | Y32: 0 | Z32: 0 | AA32: =X32+Y32+Z32 -> 30000 | AB32: =W32+AA32 -> 0 | AC32: =ROUND((W32+X32+Y32)*33.8%,0) -> 0 | AD32: 0 | AE32: =AC32+AD32 -> 0 | AF32: =ROUND(W32*1%,0) -> -300 | AG32: 0 | AH32: =AB32+AE32+AF32+AG32 -> -300 | AI32: -0.04 | AJ32: 0 | AK32: 0 | AL32: 0 | AM32: 0 | AN32: 0 | AO32: =SUM(AI32:AN32) -> -0.04 | AP32: =I32+AH32 -> 3704293 | AQ32: =J32+W32 -> 2718215 | AR32: =K32+AA32 -> 30000 | AS32: =L32+AE32 -> 928896 | AT32: =M32+AF32 -> 27182 | AU32: =N32+AG32 -> 0 | AV32: =O32+AO32 -> 3.96 | AW32: =SUM(AX32:BB32) -> 0 | AX32: 0 | AY32: 0 | AZ32: 0 | BA32: 0 | BB32: 0 | BC32: 0
A33: 4 | B33: 2451 | C33: 650037901 | D33: 72744880 | E33: ZŠ a MŠ Bulovka 156 | F33: 3117 | G33: PO | H33: KÚ | I33: 1325987 | J33: 983670 | K33: 0 | L33: 332480 | M33: 9837 | N33: 0 | O33: 2.3 | P33: =X33*-1 -> 0 | Q33: 0 | R33: -26490 | S33: 0 | T33: 0 | U33: 0 | V33: 0 | W33: =SUM(P33:V33) -> -26490 | X33: 0 | Y33: 0 | Z33: 0 | AA33: =X33+Y33+Z33 -> 0 | AB33: =W33+AA33 -> -26490 | AC33: =ROUND((W33+X33+Y33)*33.8%,0) -> -8954 | AD33: 0 | AE33: =AC33+AD33 -> -8954 | AF33: =ROUND(W33*1%,0) -> -265 | AG33: 0 | AH33: =AB33+AE33+AF33+AG33 -> -35709 | AI33: 0 | AJ33: -0.04 | AK33: 0 | AL33: 0 | AM33: 0 | AN33: 0 | AO33: =SUM(AI33:AN33) -> -0.04 | AP33: =I33+AH33 -> 1290278 | AQ33: =J33+W33 -> 957180 | AR33: =K33+AA33 -> 0 | AS33: =L33+AE33 -> 323526 | AT33: =M33+AF33 -> 9572 | AU33: =N33+AG33 -> 0 | AV33: =O33+AO33 -> 2.26 | AW33: =SUM(AX33:BB33) -> 0 | AX33: 0 | AY33: 0 | AZ33: 0 | BA33: 0 | BB33: 0 | BC33: 0
A34: 4 | B34: 2451 | C34: 650037901 | D34: 72744880 | E34: ZŠ a MŠ Bulovka 156 | F34: 3143 | G34: ŠD | H34: MŠMT | I34: 690013 | J34: 511879 | K34: 0 | L34: 173015 | M34: 5119 | N34: 0 | O34: 1 | P34: =X34*-1 -> 0 | Q34: 0 | R34: 0 | S34: 0 | T34: 0 | U34: 0 | V34: 0 | W34: =SUM(P34:V34) -> 0 | X34: 0 | Y34: 0 | Z34: 0 | AA34: =X34+Y34+Z34 -> 0 | AB34: =W34+AA34 -> 0 | AC34: =ROUND((W34+X34+Y34)*33.8%,0) -> 0 | AD34: 0 | AE34: =AC34+AD34 -> 0 | AF34: =ROUND(W34*1%,0) -> 0 | AG34: 0 | AH34: =AB34+AE34+AF34+AG34 -> 0 | AI34: 0 | AJ34: 0 | AK34: 0 | AL34: 0 | AM34: 0 | AN34: 0 | AO34: =SUM(AI34:AN34) -> 0 | AP34: =I34+AH34 -> 690013 | AQ34: =J34+W34 -> 511879 | AR34: =K34+AA34 -> 0 | AS34: =L34+AE34 -> 173015 | AT34: =M34+AF34 -> 5119 | AU34: =N34+AG34 -> 0 | AV34: =O34+AO34 -> 1 | AW34: =SUM(AX34:BB34) -> 0 | AX34: 0 | AY34: 0 | AZ34: 0 | BA34: 0 | BB34: 0 | BC34: 0
A35: 4 | B35: 2451 | C35: 650037901 | D35: 72744880 | E35: ZŠ a MŠ Bulovka 156 Celkem | I35: 7273855 | J35: 5396035 | K35: 0 | L35: 1823859 | M35: 53961 | N35: 0 | O35: 9.3 | P35: =SUM(P31:P34) -> -30000 | Q35: =SUM(Q31:Q34) -> 0 | R35: =SUM(R31:R34) -> -26490 | S35: =SUM(S31:S34) -> 0 | T35: =SUM(T31:T34) -> 0 | U35: =SUM(U31:U34) -> 0 | V35: =SUM(V31:V34) -> 0 | W35: =SUM(W31:W34) -> -56490 | ... BC35: =SUM(BC31:BC34) -> 0
A36: 5 | B36: 2453 | C36: 600079686 | D36: 72743603 | E36: ZŠ a MŠ Dětřichov 234 | F36: 3111 | G36: MŠ | H36: MŠMT | I36: 3831673 | J36: 2820650 | K36: 22000 | L36: 960816 | M36: 28207 | N36: 0 | O36: 4.4761 | P36: =X36*-1 -> 6000 | Q36: 0 | R36: 0 | S36: 0 | T36: 0 | U36: 0 | V36: 0 | W36: =SUM(P36:V36) -> 6000 | X36: -6000 | Y36: 0 | Z36: 0 | AA36: =X36+Y36+Z36 -> -6000 | AB36: =W36+AA36 -> 0 | AC36: =ROUND((W36+X36+Y36)*33.8%,0) -> 0 | AD36: 0 | AE36: =AC36+AD36 -> 0 | AF36: =ROUND(W36*1%,0) -> 60 | AG36: 0 | AH36: =AB36+AE36+AF36+AG36 -> 60 | AI36: 0.01 | AJ36: 0 | AK36: 0 | AL36: 0 | AM36: 0 | AN36: 0 | AO36: =SUM(AI36:AN36) -> 0.01 | AP36: =I36+AH36 -> 3831733 | AQ36: =J36+W36 -> 2826650 | AR36: =K36+AA36 -> 16000 | AS36: =L36+AE36 -> 960816 | AT36: =M36+AF36 -> 28267 | AU36: =N36+AG36 -> 0 | AV36: =O36+AO36 -> 4.4861 | AW36: =SUM(AX36:BB36) -> 0 | AX36: 0 | AY36: 0 | AZ36: 0 | BA36: 0 | BB36: 0 | BC36: 0
A37: 5 | B37: 2453 | C37: 600079686 | D37: 72743603 | E37: ZŠ a MŠ Dětřichov 234 | F37: 3117 | G37: ZŠ | H37: MŠMT | I37: 6035529 | J37: 4370767 | K37: 107425 | L37: 1513629 | M37: 43708 | N37: 0 | O37: 6.3974 | P37: =X37*-1 -> 67425 | Q37: 0 | R37: 0 | S37: 0 | T37: 0 | U37: 0 | V37: 0 | W37: =SUM(P37:V37) -> 67425 | X37: -67425 | Y37: 0 | Z37: 0 | AA37: =X37+Y37+Z37 -> -67425 | AB37: =W37+AA37 -> 0 | AC37: =ROUND((W37+X37+Y37)*33.8%,0) -> 0 | AD37: 0 | AE37: =AC37+AD37 -> 0 | AF37: =ROUND(W37*1%,0) -> 674 | AG37: 0 | AH37: =AB37+AE37+AF37+AG37 -> 674 | AI37: 0.06 | AJ37: 0 | AK37: 0 | AL37: 0 | AM37: 0 | AN37: 0 | AO37: =SUM(AI37:AN37) -> 0.06 | AP37: =I37+AH37 -> 6036203 | AQ37: =J37+W37 -> 4438192 | AR37: =K37+AA37 -> 40000 | AS37: =L37+AE37 -> 1513629 | AT37: =M37+AF37 -> 44382 | AU37: =N37+AG37 -> 0 | AV37: =O37+AO37 -> 6.4574 | AW37: =SUM(AX37:BB37) -> 0 | AX37: 0 | AY37: 0 | AZ37: 0 | BA37: 0 | BB37: 0 | BC37: 0
A38: 5 | B38: 2453 | C38: 600079686 | D38: 72743603 | E38: ZŠ a MŠ Dětřichov 234 | F38: 3117 | G38: AP 1.ročník | H38: MŠMT | I38: 0 | J38: 0 | K38: 0 | L38: 0 | M38: 0 | N38: 0 | O38: 0 | P38: =X38*-1 -> 0 | Q38: 0 | R38: 0 | S38: 0 | T38: 0 | U38: 78557 | V38: 0 | W38: =SUM(P38:V38) -> 78557 | X38: 0 | Y38: 0 | Z38: 0 | AA38: =X38+Y38+Z38 -> 0 | AB38: =W38+AA38 -> 78557 | AC38: =ROUND((W38+X38+Y38)*33.8%,0) -> 26552 | AD38: 0 | AE38: =AC38+AD38 -> 26552 | AF38: =ROUND(W38*1%,0) -> 786 | AG38: 0 | AH38: =AB38+AE38+AF38+AG38 -> 105895 | AI38: 0 | AJ38: 0 | AK38: 0 | AL38: 0 | AM38: 0.19 | AN38: 0 | AO38: =SUM(AI38:AN38) -> 0.19 | AP38: =I38+AH38 -> 105895 | AQ38: =J38+W38 -> 78557 | AR38: =K38+AA38 -> 0 | AS38: =L38+AE38 -> 26552 | AT38: =M38+AF38 -> 786 | AU38: =N38+AG38 -> 0 | AV38: =O38+AO38 -> 0.19 | AW38: =SUM(AX38:BB38) -> 0 | AX38: 0 | AY38: 0 | AZ38: 0 | BA38: 0 | BB38: 0 | BC38: 0
A39: 5 | B39: 2453 | C39: 600079686 | D39: 72743603 | E39: ZŠ a MŠ Dětřichov 234 | F39: 3117 | G39: PO | H39: KÚ | I39: 2535485 | J39: 1880924 | K39: 0 | L39: 635752 | M39: 18809 | N39: 0 | O39: 4.59 | P39: =X39*-1 -> 0 | Q39: 0 | R39: -231494 | S39: 0 | T39: 0 | U39: 0 | V39: 0 | W39: =SUM(P39:V39) -> -231494 | X39: 0 | Y39: 0 | Z39: 0 | AA39: =X39+Y39+Z39 -> 0 | AB39: =W39+AA39 -> -231494 | AC39: =ROUND((W39+X39+Y39)*33.8%,0) -> -78245 | AD39: 0 | AE39: =AC39+AD39 -> -78245 | AF39: =ROUND(W39*1%,0) -> -2315 | AG39: 0 | AH39: =AB39+AE39+AF39+AG39 -> -312054 | AI39: 0 | AJ39: -0.58 | AK39: 0 | AL39: 0 | AM39: 0 | AN39: 0 | AO39: =SUM(AI39:AN39) -> -0.58 | AP39: =I39+AH39 -> 2223431 | AQ39: =J39+W39 -> 1649430 | AR39: =K39+AA39 -> 0 | AS39: =L39+AE39 -> 557507 | AT39: =M39+AF39 -> 16494 | AU39: =N39+AG39 -> 0 | AV39: =O39+AO39 -> 4.01 | AW39: =SUM(AX39:BB39) -> 0 | AX39: 0 | AY39: 0 | AZ39: 0 | BA39: 0 | BB39: 0 | BC39: 0
A40: 5 | B40: 2453 | C40: 600079686 | D40: 72743603 | E40: ZŠ a MŠ Dětřichov 234 | F40: 3143 | G40: ŠD | H40: MŠMT | I40: 1477185 | J40: 1095835 | K40: 0 | L40: 370392 | M40: 10958 | N40: 0 | O40: 1.9822 | P40: =X40*-1 -> 0 | Q40: 0 | R40: 0 | S40: 0 | T40: 0 | U40: 0 | V40: 0 | W40: =SUM(P40:V40) -> 0 | X40: 0 | Y40: 0 | Z40: 0 | AA40: =X40+Y40+Z40 -> 0 | AB40: =W40+AA40 -> 0 | AC40: =ROUND((W40+X40+Y40)*33.8%,0) -> 0 | AD40: 0 | AE40: =AC40+AD40 -> 0 | AF40: =ROUND(W40*1%,0) -> 0 | AG40: 0 | AH40: =AB40+AE40+AF40+AG40 -> 0 | AI40: 0 | AJ40: 0 | AK40: 0 | AL40: 0 | AM40: 0 | AN40: 0 | AO40: =SUM(AI40:AN40) -> 0 | AP40: =I40+AH40 -> 1477185 | AQ40: =J40+W40 -> 1095835 | AR40: =K40+AA40 -> 0 | AS40: =L40+AE40 -> 370392 | AT40: =M40+AF40 -> 10958 | AU40: =N40+AG40 -> 0 | AV40: =O40+AO40 -> 1.9822 | AW40: =SUM(AX40:BB40) -> 0 | AX40: 0 | AY40: 0 | AZ40: 0 | BA40: 0 | BB40: 0 | BC40: 0
A41: 5 | B41: 2453 | C41: 600079686 | D41: 72743603 | E41: ZŠ a MŠ Dětřichov 234 Celkem | I41: 13879872 | J41: 10168176 | K41: 129425 | L41: 3480589 | M41: 101682 | N41: 0 | O41: 17.4457 | P41: =SUM(P36:P40) -> 73425 | Q41: =SUM(Q36:Q40) -> 0 | R41: =SUM(R36:R40) -> -231494 | S41: =SUM(S36:S40) -> 0 | T41: =SUM(T36:T40) -> 0 | U41: =SUM(U36:U40) -> 78557 | V41: =SUM(V36:V40) -> 0 | W41: =SUM(W36:W40) -> -79512 | ... BC41: =SUM(BC36:BC40) -> 0
...

Sheet JN
A1: Krajský úřad Libereckého kraje
A2: U Jezu 642/2a, Liberec 2, 461 80
A3: Odbor školství, mládeže, tělovýchovy a sportu
A5: Úprava rozpisu rozpočtu přímých NIV na rok 2026 ke dni 6. 10. 2026
I6: Rozpočet přímých nákladů k 19. 8. 2026 | P6: úprava | AP6: Rozpočet přímých nákladů k 6. 10. 2026 | AW6: Z rozpočtu přímých NIV na rok 2026
P7: ÚPRAVA PLATY | X7: ÚPRAVA OON | AB7: Mzdové prostředky celkem | AC7: ÚPRAVA ODVODŮ | AE7: Odvody CELKEM | AF7: FKSP | AG7: OBV | AH7: Úprava NIV celkem | AI7: ÚPRAVA POČTU PEDAGOGŮ | AW7: Stanovení dalších finančních prostředků pro základní školy zřizované krajem, obcí nebo dobrovolným svazkem obcí na rok 2026 na financování sociálního pedagoga a další přímou podporu žáků se sociálním znevýhodněním, VĚSTNÍK MŠMT 4/2026
I8: Celkem NIV | J8: z toho v Kč: | O8: Počet PEDAG. | AI8: převody (platy-dohody) | AJ8: Podpůrná opatření | AK8: Změna Phškoly/ podpůrné pozice | AL8: Jazyková příprava cizinců | AM8: AP v 1. ročníku | AN8: Individuální úpravy | AO8: Úprava PED. celkem | AP8: Celkem NIV | AQ8: z toho v Kč: | AV8: Počet PEDAG.
A9: PO III JABLONEC NAD NISOU | J9: Platy | K9: OON | L9: Odvody | M9: FKSP | N9: OBV | P9: Převody do OON | Q9: Převod úspor z odvodů | R9: Podpůrná opatření | S9: Jazyková příprava cizinců | T9: Změna Phškoly/ podpůrné pozice | U9: AP v 1. ročníku | V9: Individuální úpravy | W9: PLATY úprava celkem | X9: Dohody | Y9: OON do Phmax | Z9: Odstupné | AA9: OON úprava celkem | AC9: Odvody | AD9: Převod úspor z odvodů | AQ9: Platy | AR9: OON | AS9: Odvody | AT9: FKSP | AU9: OBV
A10: poř. | B10: č. KÚ | C10: RED IZO | D10: IČO | E10: škola - škol. zařízení (zkráceně) | F10: § | G10: druh činnosti | H10: rozpočet sestavil | AW10: NIV celkem | AX10: Platy | AY10: OON | AZ10: Odvody | BA10: FKSP | BB10: OBV | BC10: Počet PEDAG.
A11: por | B11: c_KU | C11: RED_IZO | D11: ICO | E11: Zkr_nazev | F11: § | G11: druh_cinnosti | H11: od | I11: NIV_CELKEM | J11: Platy_CELKEM | K11: OON_CELKEM | L11: ODVODY_CELKEM | M11: FKSP_CELKEM | N11: OBV_CELKEM | O11: PED_CELKEM | P11: Platy_Upr | Q11: Platy_Upr_ | R11: Platy_Upr_ | S11: Platy_Upr | T11: Platy_Upr | U11: Platy_Upr_ | V11: Platy_Upr_ | W11: Platy_Upr | X11: OON_Upr | Y11: OON_Upr | Z11: OON_Upr | AA11: OON_Upr | AB11: Upr_MP_Celkem | AC11: ODV_UPR | AD11: ODV_UPR | AE11: ODV_UPR | AF11: FKSP_UPR | AG11: OBV_UPR | AH11: NIV_UPR | AI11: PED_UPR | AJ11: PED_UPR | AK11: PED_UPR | AL11: PED_UPR | AM11: PED_UPR | AN11: PED_UPR | AO11: PED_UPR | AP11: NIV_CELKEM | AQ11: Platy_CELKEM | AR11: OON_CELKEM | AS11: ODVODY_CELKEM | AT11: FKSP_CELKEM | AU11: OBV_CELKEM | AV11: PED_CELKEM | AW11: NIV_SOCIAL | AX11: Platy_SOCIAL | AY11: OON__SOCIAL | AZ11: Odvody_SOCIAL | BA11: FKSP_SOCIAL | BB11: OBV_SOCIAL | BC11: PED_SOCIAL
A12: 1 | B12: 3454 | C12: 600029085 | D12: 75122294 | E12: DDM Jablonec n. N., Podhorská 49 | F12: 3233 | G12: SVČ | H12: KÚ | I12: 4155058 | J12: 3082387 | K12: 0 | L12: 1041847 | M12: 30824 | N12: 0 | O12: 5.22 | P12: =X12*-1 -> 0 | Q12: 0 | R12: 0 | S12: 0 | T12: 0 | U12: 0 | V12: 0 | W12: =SUM(P12:V12) -> 0 | X12: 0 | Y12: 0 | Z12: 0 | AA12: =X12+Y12+Z12 -> 0 | AB12: =W12+AA12 -> 0 | AC12: =ROUND((W12+X12+Y12)*33.8%,0) -> 0 | AD12: 0 | AE12: =AC12+AD12 -> 0 | AF12: =ROUND(W12*1%,0) -> 0 | AG12: 0 | AH12: =AB12+AE12+AF12+AG12 -> 0 | AI12: 0 | AJ12: 0 | AK12: 0 | AL12: 0 | AM12: 0 | AN12: 0 | AO12: =SUM(AI12:AN12) -> 0 | AP12: =I12+AH12 -> 4155058 | AQ12: =J12+W12 -> 3082387 | AR12: =K12+AA12 -> 0 | AS12: =L12+AE12 -> 1041847 | AT12: =M12+AF12 -> 30824 | AU12: =N12+AG12 -> 0 | AV12: =O12+AO12 -> 5.22 | AW12: =SUM(AX12:BB12) -> 0 | AX12: 0 | AY12: 0 | AZ12: 0 | BA12: 0 | BB12: 0 | BC12: 0
A13: 1 | B13: 3454 | C13: 600029085 | D13: 75122294 | E13: DDM Jablonec n. N., Podhorská 49 Celkem | I13: 4155058 | J13: 3082387 | K13: 0 | L13: 1041847 | M13: 30824 | N13: 0 | O13: 5.22 | P13: =SUM(P12) -> 0 | Q13: =SUM(Q12) -> 0 | R13: =SUM(R12) -> 0 | S13: =SUM(S12) -> 0 | T13: =SUM(T12) -> 0 | U13: =SUM(U12) -> 0 | V13: =SUM(V12) -> 0 | W13: =SUM(W12) -> 0 | ... BC13: =SUM(BC12) -> 0
A14: 2 | B14: 3470 | C14: 691003572 | D14: 72550341 | E14: MŠ Jablonec n. N., 28.října 16/1858 | F14: 3111 | G14: MŠ | H14: MŠMT | I14: 4746794 | J14: 3521360 | K14: 0 | L14: 1190220 | M14: 35214 | N14: 0 | O14: 6 | P14: =X14*-1 -> 0 | Q14: 0 | R14: 0 | S14: 0 | T14: 0 | U14: 0 | V14: 0 | W14: =SUM(P14:V14) -> 0 | X14: 0 | Y14: 0 | Z14: 0 | AA14: =X14+Y14+Z14 -> 0 | AB14: =W14+AA14 -> 0 | AC14: =ROUND((W14+X14+Y14)*33.8%,0) -> 0 | AD14: 0 | AE14: =AC14+AD14 -> 0 | AF14: =ROUND(W14*1%,0) -> 0 | AG14: 0 | AH14: =AB14+AE14+AF14+AG14 -> 0 | AI14: 0 | AJ14: 0 | AK14: 0 | AL14: 0 | AM14: 0 | AN14: 0 | AO14: =SUM(AI14:AN14) -> 0 | AP14: =I14+AH14 -> 4746794 | AQ14: =J14+W14 -> 3521360 | AR14: =K14+AA14 -> 0 | AS14: =L14+AE14 -> 1190220 | AT14: =M14+AF14 -> 35214 | AU14: =N14+AG14 -> 0 | AV14: =O14+AO14 -> 6 | AW14: =SUM(AX14:BB14) -> 0 | AX14: 0 | AY14: 0 | AZ14: 0 | BA14: 0 | BB14: 0 | BC14: 0
