Workbook

Sheet komentář
A1: Komentář k úpravě rozpočtu přímých NIV k 6.10. 2026 (obecní školství)
A3: Vážená paní ředitelko, vážený pane řediteli,
A5: předkládáme vám úpravu rozpisu rozpočtu přímých NIV k 6. 10. 2026, která obsahuje:
A7: 1) | B7: navýšení rozpočtu o prostředky na personální podpůrná opatření (PO) podle stavu PO k 1.9. 2026, tj. sběr srpen 2026 (případně korekce vykázaných PO); finanční prostředky na PO ze sběru za září, tj. k 1.10.2026 budou přiděleny až po navýšení rozpočtu z MŠMT,
B8: naše současná rezerva dofinancovnání neumožňuje
A10: 2) | B10: individuální úpravy (důvod změny uveden v komentáři v příslušné buňce);
A12: 3) | B12: přesuny z prostředků na platy do OON (dohody) nebo z OON do platů, na základě požadavků ze škol k termínu sběru 15. 9. 2026;
A14: 4) | B14: přidělení finančních prostředků na podpůrné pedagogické pozice v základních školách na základě žádostí ze škol; do výše PHPmax
A16: 5) | B16: přidělení finančních prostředků na parametrizované asistenty pedadoga do prvních ročníků v základních školách na základě žádostí ze škol;
A18: Finanční rezerva OŠMTS KÚ neumožňuje v současné době přidělit prostředky na zvýšené výkony ve školách ani na bezplatnou jazykovou přípravu,
A19: změny rozpočtu (zvýšení prostředků na platy) budou provedeny v případě navýšení rezervy přímých NIV z MŠMT.
A20: Ze stejného důvodu nelze provést převody z odvodů do platů, tyto převody budeme moci provést až po úpravě (převodu) z MŠMT
A22: V Liberci dne 6. 10. 2026
A23: Zpracoval: OŠMTS KÚ LK, oddělení financování přímých nákladů

Sheet LB 
A1: Krajský úřad Libereckého kraje
A2: U Jezu 642/2a, Liberec 2, 461 80
A3: Odbor školství, mládeže, tělovýchovy a sportu
A5: Úprava rozpisu rozpočtu přímých NIV na rok 2026 ke dni 6. 10. 2026
I6: Rozpočet přímých nákladů k 19. 8. 2026 | P6: úprava | AP6: Rozpočet přímých nákladů k 6. 10. 2026 | AW6: Z rozpočtu přímých NIV na rok 2026
P7: ÚPRAVA PLATY | X7: ÚPRAVA OON | AB7: Mzdové prostředky celkem | AC7: ÚPRAVA ODVODŮ | AE7: Odvody CELKEM | AF7: FKSP | AG7: OBV | AH7: Úprava NIV celkem | AI7: ÚPRAVA POČTU PEDAGOGŮ | AW7: Stanovení dalších finančních prostředků pro základní školy zřizované krajem, obcí nebo dobrovolným svazkem obcí na rok 2026 na financování sociálního pedagoga a další přímou podporu žáků se sociálním znevýhodněním, VĚSTNÍK MŠMT 4/2026
I8: Celkem NIV | J8: z toho v Kč: | O8: Počet PEDAG. | AI8: převody (platy-dohody) | AJ8: Podpůrná opatření | AK8: Změna Phškoly/ podpůrné pozice | AL8: Jazyková příprava cizinců | AM8: AP v 1. ročníku | AN8: Individuální úpravy | AO8: Úprava PED. celkem | AP8: Celkem NIV | AQ8: z toho v Kč: | AV8: Počet PEDAG.
A9: SUMÁŘ - PO III LIBEREC | J9: Platy | K9: OON | L9: Odvody | M9: FKSP | N9: OBV | P9: Převody do OON | Q9: Převod úspor z odvodů | R9: Podpůrná opatření | S9: Jazyková příprava cizinců | T9: Změna Phškoly/ podpůrné pozice | U9: AP v 1. ročníku | V9: Individuální úpravy | W9: PLATY úprava celkem | X9: Dohody | Y9: OON do Phmax | Z9: Odstupné | AA9: OON úprava celkem | AC9: Odvody | AD9: Převod úspor z odvodů | AQ9: Platy | AR9: OON | AS9: Odvody | AT9: FKSP | AU9: OBV
A10: poř. | B10: č. KÚ | C10: RED IZO | D10: IČO | E10: škola - škol. zařízení (zkráceně) | F10: § | G10: druh činnosti | H10: rozpočet sestavil | AW10: NIV celkem | AX10: Platy | AY10: OON | AZ10: Odvody | BA10: FKSP | BB10: OBV | BC10: Počet PEDAG.
A11: por | B11: c_KU | C11: RED_IZO | D11: ICO | E11: Zkr_nazev | F11: § | G11: druh_cinnosti | H11: od | I11: NIV_CELKEM | J11: Platy_CELKEM | K11: OON_CELKEM | L11: ODVODY_CELKEM | M11: FKSP_CELKEM | N11: OBV_CELKEM | O11: PED_CELKEM | P11: Platy_Upr | Q11: Platy_Upr_ | R11: Platy_Upr_ | S11: Platy_Upr | T11: Platy_Upr | U11: Platy_Upr_ | V11: Platy_Upr_ | W11: Platy_Upr | X11: OON_Upr | Y11: OON_Upr | Z11: OON_Upr | AA11: OON_Upr | AB11: Upr_MP_Celkem | AC11: ODV_UPR | AD11: ODV_UPR | AE11: ODV_UPR | AF11: FKSP_UPR | AG11: OBV_UPR | AH11: NIV_UPR | AI11: PED_UPR | AJ11: PED_UPR | AK11: PED_UPR | AL11: PED_UPR | AM11: PED_UPR | AN11: PED_UPR | AO11: PED_UPR | AP11: NIV_CELKEM | AQ11: Platy_CELKEM | AR11: OON_CELKEM | AS11: ODVODY_CELKEM | AT11: FKSP_CELKEM | AU11: OBV_CELKEM | AV11: PED_CELKEM | AW11: NIV_SOCIAL | AX11: Platy_SOCIAL | AY11: OON__SOCIAL | AZ11: Odvody_SOCIAL | BA11: FKSP_SOCIAL | BB11: OBV_SOCIAL | BC11: PED_SOCIAL
A12: 1 | B12: 2330 | C12: 691009571 | D12: 71294511 | E12: DDM Liberec, Riegrova 1278/16 | F12: 3233 | G12: SVČ | H12: KÚ | I12: 7596596 | J12: 5039908 | K12: 600000 | L12: 1906289 | M12: 50399 | N12: 0 | O12: 8.51 | P12: =X12*-1 -> 250000 | Q12: 0 | R12: 0 | S12: 0 | T12: 0 | U12: 0 | V12: 0 | W12: =SUM(P12:V12) -> 250000 | X12: -250000 | Y12: 0 | Z12: 0 | AA12: =X12+Y12+Z12 -> -250000 | AB12: =W12+AA12 -> 0 | AC12: =ROUND((W12+X12+Y12)*33.8%,0) -> 0 | AD12: 0 | AE12: =AC12+AD12 -> 0 | AF12: =ROUND(W12*1%,0) -> 2500 | AG12: 0 | AH12: =AB12+AE12+AF12+AG12 -> 2500 | AI12: 0.43 | AJ12: 0 | AK12: 0 | AL12: 0 | AM12: 0 | AN12: 0 | AO12: =SUM(AI12:AN12) -> 0.43 | AP12: =I12+AH12 -> 7599096 | AQ12: =J12+W12 -> 5289908 | AR12: =K12+AA12 -> 350000 | AS12: =L12+AE12 -> 1906289 | AT12: =M12+AF12 -> 52899 | AU12: =N12+AG12 -> 0 | AV12: =O12+AO12 -> 8.94 | AW12: =SUM(AX12:BB12) -> 0 | AX12: 0 | AY12: 0 | AZ12: 0 | BA12: 0 | BB12: 0 | BC12: 0
A13: 1 | B13: 2330 | C13: 691009571 | D13: 71294511 | E13: DDM Liberec, Riegrova 1278/16 Celkem | I13: 7596596 | J13: 5039908 | K13: 600000 | L13: 1906289 | M13: 50399 | N13: 0 | O13: 8.51 | P13: =SUM(P12) -> 250000 | Q13: =SUM(Q12) -> 0 | R13: =SUM(R12) -> 0 | S13: =SUM(S12) -> 0 | T13: =SUM(T12) -> 0 | U13: =SUM(U12) -> 0 | V13: =SUM(V12) -> 0 | W13: =SUM(W12) -> 250000 | ... BC13: =SUM(BC12) -> 0
A14: 2 | B14: 2415 | C14: 600079465 | D14: 72742186 | E14: MŠ Liberec, Aloisina výšina 645/55 | F14: 3111 | G14: MŠ | H14: MŠMT | I14: 7642716 | J14: 5610116 | K14: 60000 | L14: 1916499 | M14: 56101 | N14: 0 | O14: 9.1881 | P14: =X14*-1 -> 29400 | Q14: 0 | R14: 0 | S14: 0 | T14: 0 | U14: 0 | V14: 0 | W14: =SUM(P14:V14) -> 29400 | X14: -29400 | Y14: 0 | Z14: 0 | AA14: =X14+Y14+Z14 -> -29400 | AB14: =W14+AA14 -> 0 | AC14: =ROUND((W14+X14+Y14)*33.8%,0) -> 0 | AD14: 0 | AE14: =AC14+AD14 -> 0 | AF14: =ROUND(W14*1%,0) -> 294 | AG14: 0 | AH14: =AB14+AE14+AF14+AG14 -> 294 | AI14: 0.07 | AJ14: 0 | AK14: 0 | AL14: 0 | AM14: 0 | AN14: 0 | AO14: =SUM(AI14:AN14) -> 0.07 | AP14: =I14+AH14 -> 7643010 | AQ14: =J14+W14 -> 5639516 | AR14: =K14+AA14 -> 30600 | AS14: =L14+AE14 -> 1916499 | AT14: =M14+AF14 -> 56395 | AU14: =N14+AG14 -> 0 | AV14: =O14+AO14 -> 9.2581 | AW14: =SUM(AX14:BB14) -> 0 | AX14: 0 | AY14: 0 | AZ14: 0 | BA14: 0 | BB14: 0 | BC14: 0
A15: 2 | B15: 2415 | C15: 600079465 | D15: 72742186 | E15: MŠ Liberec, Aloisina výšina 645/55 | F15: 3111 | G15: AP spec.tř. | H15: MŠMT | I15: 505284 | J15: 354988 | K15: 20000 | L15: 126746 | M15: 3550 | N15: 0 | O15: 1 | P15: =X15*-1 -> 20000 | Q15: 0 | R15: 0 | S15: 0 | T15: 0 | U15: 0 | V15: 0 | W15: =SUM(P15:V15) -> 20000 | X15: -20000 | Y15: 0 | Z15: 0 | AA15: =X15+Y15+Z15 -> -20000 | AB15: =W15+AA15 -> 0 | AC15: =ROUND((W15+X15+Y15)*33.8%,0) -> 0 | AD15: 0 | AE15: =AC15+AD15 -> 0 | AF15: =ROUND(W15*1%,0) -> 200 | AG15: 0 | AH15: =AB15+AE15+AF15+AG15 -> 200 | AI15: 0 | AJ15: 0 | AK15: 0 | AL15: 0 | AM15: 0 | AN15: 0 | AO15: =SUM(AI15:AN15) -> 0 | AP15: =I15+AH15 -> 505484 | AQ15: =J15+W15 -> 374988 | AR15: =K15+AA15 -> 0 | AS15: =L15+AE15 -> 126746 | AT15: =M15+AF15 -> 3750 | AU15: =N15+AG15 -> 0 | AV15: =O15+AO15 -> 1 | AW15: =SUM(AX15:BB15) -> 0 | AX15: 0 | AY15: 0 | AZ15: 0 | BA15: 0 | BB15: 0 | BC15: 0
A16: 2 | B16: 2415 | C16: 600079465 | D16: 72742186 | E16: MŠ Liberec, Aloisina výšina 645/55 | F16: 3111 | G16: PO | H16: KÚ | I16: 1456004 | J16: 1070196 | K16: 10000 | L16: 365106 | M16: 10702 | N16: 0 | O16: 2.5 | P16: =X16*-1 -> 10000 | Q16: 0 | R16: 0 | S16: 0 | T16: 0 | U16: 0 | V16: 0 | W16: =SUM(P16:V16) -> 10000 | X16: -10000 | Y16: 0 | Z16: 0 | AA16: =X16+Y16+Z16 -> -10000 | AB16: =W16+AA16 -> 0 | AC16: =ROUND((W16+X16+Y16)*33.8%,0) -> 0 | AD16: 0 | AE16: =AC16+AD16 -> 0 | AF16: =ROUND(W16*1%,0) -> 100 | AG16: 0 | AH16: =AB16+AE16+AF16+AG16 -> 100 | AI16: 0 | AJ16: 0 | AK16: 0 | AL16: 0 | AM16: 0 | AN16: 0 | AO16: =SUM(AI16:AN16) -> 0 | AP16: =I16+AH16 -> 1456104 | AQ16: =J16+W16 -> 1080196 | AR16: =K16+AA16 -> 0 | AS16: =L16+AE16 -> 365106 | AT16: =M16+AF16 -> 10802 | AU16: =N16+AG16 -> 0 | AV16: =O16+AO16 -> 2.5 | AW16: =SUM(AX16:BB16) -> 0 | AX16: 0 | AY16: 0 | AZ16: 0 | BA16: 0 | BB16: 0 | BC16: 0
A17: 2 | B17: 2415 | C17: 600079465 | D17: 72742186 | E17: MŠ Liberec, Aloisina výšina 645/55 Celkem | I17: 9604004 | J17: 7035300 | K17: 90000 | L17: 2408351 | M17: 70353 | N17: 0 | O17: 12.6881 | P17: =SUM(P14:P16) -> 59400 | Q17: =SUM(Q14:Q16) -> 0 | R17: =SUM(R14:R16) -> 0 | S17: =SUM(S14:S16) -> 0 | T17: =SUM(T14:T16) -> 0 | U17: =SUM(U14:U16) -> 0 | V17: =SUM(V14:V16) -> 0 | W17: =SUM(W14:W16) -> 59400 | ... BC17: =SUM(BC14:BC16) -> 0
A18: 3 | B18: 2442 | C18: 600079066 | D18: 72742101 | E18: MŠ Liberec, Bezová 274/1 | F18: 3111 | G18: MŠ | H18: MŠMT | I18: 8103348 | J18: 6011386 | K18: 0 | L18: 2031848 | M18: 60114 | N18: 0 | O18: 10 | P18: =X18*-1 -> 0 | Q18: 0 | R18: 0 | S18: 0 | T18: 0 | U18: 0 | V18: 0 | W18: =SUM(P18:V18) -> 0 | X18: 0 | Y18: 0 | Z18: 0 | AA18: =X18+Y18+Z18 -> 0 | AB18: =W18+AA18 -> 0 | AC18: =ROUND((W18+X18+Y18)*33.8%,0) -> 0 | AD18: 0 | AE18: =AC18+AD18 -> 0 | AF18: =ROUND(W18*1%,0) -> 0 | AG18: 0 | AH18: =AB18+AE18+AF18+AG18 -> 0 | AI18: 0 | AJ18: 0 | AK18: 0 | AL18: 0 | AM18: 0 | AN18: 0 | AO18: =SUM(AI18:AN18) -> 0 | AP18: =I18+AH18 -> 8103348 | AQ18: =J18+W18 -> 6011386 | AR18: =K18+AA18 -> 0 | AS18: =L18+AE18 -> 2031848 | AT18: =M18+AF18 -> 60114 | AU18: =N18+AG18 -> 0 | AV18: =O18+AO18 -> 10 | AW18: =SUM(AX18:BB18) -> 0 | AX18: 0 | AY18: 0 | AZ18: 0 | BA18: 0 | BB18: 0 | BC18: 0
A19: 3 | B19: 2442 | C19: 600079066 | D19: 72742101 | E19: MŠ Liberec, Bezová 274/1 | F19: 3111 | G19: PO | H19: KÚ | I19: 534949 | J19: 396847 | K19: 0 | L19: 134134 | M19: 3968 | N19: 0 | O19: 1 | P19: =X19*-1 -> 0 | Q19: 0 | R19: 0 | S19: 0 | T19: 0 | U19: 0 | V19: 0 | W19: =SUM(P19:V19) -> 0 | X19: 0 | Y19: 0 | Z19: 0 | AA19: =X19+Y19+Z19 -> 0 | AB19: =W19+AA19 -> 0 | AC19: =ROUND((W19+X19+Y19)*33.8%,0) -> 0 | AD19: 0 | AE19: =AC19+AD19 -> 0 | AF19: =ROUND(W19*1%,0) -> 0 | AG19: 0 | AH19: =AB19+AE19+AF19+AG19 -> 0 | AI19: 0 | AJ19: 0 | AK19: 0 | AL19: 0 | AM19: 0 | AN19: 0 | AO19: =SUM(AI19:AN19) -> 0 | AP19: =I19+AH19 -> 534949 | AQ19: =J19+W19 -> 396847 | AR19: =K19+AA19 -> 0 | AS19: =L19+AE19 -> 134134 | AT19: =M19+AF19 -> 3968 | AU19: =N19+AG19 -> 0 | AV19: =O19+AO19 -> 1 | AW19: =SUM(AX19:BB19) -> 0 | AX19: 0 | AY19: 0 | AZ19: 0 | BA19: 0 | BB19: 0 | BC19: 0
A20: 3 | B20: 2442 | C20: 600079066 | D20: 72742101 | E20: MŠ Liberec, Bezová 274/1 Celkem | I20: 8638297 | J20: 6408233 | K20: 0 | L20: 2165982 | M20: 64082 | N20: 0 | O20: 11 | P20: =SUM(P18:P19) -> 0 | Q20: =SUM(Q18:Q19) -> 0 | R20: =SUM(R18:R19) -> 0 | S20: =SUM(S18:S19) -> 0 | T20: =SUM(T18:T19) -> 0 | U20: =SUM(U18:U19) -> 0 | V20: =SUM(V18:V19) -> 0 | W20: =SUM(W18:W19) -> 0 | ... BC20: =SUM(BC18:BC19) -> 0
A21: 4 | B21: 2437 | C21: 600079074 | D21: 72743221 | E21: MŠ Liberec, Broumovská 840/7 | F21: 3111 | G21: MŠ | H21: MŠMT | I21: 13733741 | J21: 10188236 | K21: 0 | L21: 3443623 | M21: 101882 | N21: 0 | O21: 16.4838 | P21: =X21*-1 -> 0 | Q21: 0 | R21: 0 | S21: 0 | T21: 0 | U21: 0 | V21: 0 | W21: =SUM(P21:V21) -> 0 | X21: 0 | Y21: 0 | Z21: 0 | AA21: =X21+Y21+Z21 -> 0 | AB21: =W21+AA21 -> 0 | AC21: =ROUND((W21+X21+Y21)*33.8%,0) -> 0 | AD21: 0 | AE21: =AC21+AD21 -> 0 | AF21: =ROUND(W21*1%,0) -> 0 | AG21: 0 | AH21: =AB21+AE21+AF21+AG21 -> 0 | AI21: 0 | AJ21: 0 | AK21: 0 | AL21: 0 | AM21: 0 | AN21: 0 | AO21: =SUM(AI21:AN21) -> 0 | AP21: =I21+AH21 -> 13733741 | AQ21: =J21+W21 -> 10188236 | AR21: =K21+AA21 -> 0 | AS21: =L21+AE21 -> 3443623 | AT21: =M21+AF21 -> 101882 | AU21: =N21+AG21 -> 0 | AV21: =O21+AO21 -> 16.4838 | AW21: =SUM(AX21:BB21) -> 0 | AX21: 0 | AY21: 0 | AZ21: 0 | BA21: 0 | BB21: 0 | BC21: 0
A22: 4 | B22: 2437 | C22: 600079074 | D22: 72743221 | E22: MŠ Liberec, Broumovská 840/7 | F22: 3111 | G22: AP spec.tř. | H22: MŠMT | I22: 1161405 | J22: 861576 | K22: 0 | L22: 291213 | M22: 8616 | N22: 0 | O22: 2 | P22: =X22*-1 -> 0 | Q22: 0 | R22: 0 | S22: 0 | T22: 0 | U22: 0 | V22: 0 | W22: =SUM(P22:V22) -> 0 | X22: 0 | Y22: 0 | Z22: 0 | AA22: =X22+Y22+Z22 -> 0 | AB22: =W22+AA22 -> 0 | AC22: =ROUND((W22+X22+Y22)*33.8%,0) -> 0 | AD22: 0 | AE22: =AC22+AD22 -> 0 | AF22: =ROUND(W22*1%,0) -> 0 | AG22: 0 | AH22: =AB22+AE22+AF22+AG22 -> 0 | AI22: 0 | AJ22: 0 | AK22: 0 | AL22: 0 | AM22: 0 | AN22: 0 | AO22: =SUM(AI22:AN22) -> 0 | AP22: =I22+AH22 -> 1161405 | AQ22: =J22+W22 -> 861576 | AR22: =K22+AA22 -> 0 | AS22: =L22+AE22 -> 291213 | AT22: =M22+AF22 -> 8616 | AU22: =N22+AG22 -> 0 | AV22: =O22+AO22 -> 2 | AW22: =SUM(AX22:BB22) -> 0 | AX22: 0 | AY22: 0 | AZ22: 0 | BA22: 0 | BB22: 0 | BC22: 0
A23: 4 | B23: 2437 | C23: 600079074 | D23: 72743221 | E23: MŠ Liberec, Broumovská 840/7 | F23: 3111 | G23: PO | H23: KÚ | I23: 534949 | J23: 396847 | K23: 0 | L23: 134134 | M23: 3968 | N23: 0 | O23: 1 | P23: =X23*-1 -> 0 | Q23: 0 | R23: 0 | S23: 0 | T23: 0 | U23: 0 | V23: 0 | W23: =SUM(P23:V23) -> 0 | X23: 0 | Y23: 0 | Z23: 0 | AA23: =X23+Y23+Z23 -> 0 | AB23: =W23+AA23 -> 0 | AC23: =ROUND((W23+X23+Y23)*33.8%,0) -> 0 | AD23: 0 | AE23: =AC23+AD23 -> 0 | AF23: =ROUND(W23*1%,0) -> 0 | AG23: 0 | AH23: =AB23+AE23+AF23+AG23 -> 0 | AI23: 0 | AJ23: 0 | AK23: 0 | AL23: 0 | AM23: 0 | AN23: 0 | AO23: =SUM(AI23:AN23) -> 0 | AP23: =I23+AH23 -> 534949 | AQ23: =J23+W23 -> 396847 | AR23: =K23+AA23 -> 0 | AS23: =L23+AE23 -> 134134 | AT23: =M23+AF23 -> 3968 | AU23: =N23+AG23 -> 0 | AV23: =O23+AO23 -> 1 | AW23: =SUM(AX23:BB23) -> 0 | AX23: 0 | AY23: 0 | AZ23: 0 | BA23: 0 | BB23: 0 | BC23: 0
A24: 4 | B24: 2437 | C24: 600079074 | D24: 72743221 | E24: MŠ Liberec, Broumovská 840/7 Celkem | I24: 15430095 | J24: 11446659 | K24: 0 | L24: 3868970 | M24: 114466 | N24: 0 | O24: 19.4838 | P24: =SUM(P21:P23) -> 0 | Q24: =SUM(Q21:Q23) -> 0 | R24: =SUM(R21:R23) -> 0 | S24: =SUM(S21:S23) -> 0 | T24: =SUM(T21:T23) -> 0 | U24: =SUM(U21:U23) -> 0 | V24: =SUM(V21:V23) -> 0 | W24: =SUM(W21:W23) -> 0 | ... BC24: =SUM(BC21:BC23) -> 0
A25: 5 | B25: 2411 | C25: 600079554 | D25: 72742666 | E25: MŠ Liberec, Březinova 389/8 | F25: 3111 | G25: MŠ | H25: MŠMT | I25: 7029052 | J25: 5209467 | K25: 5000 | L25: 1762490 | M25: 52095 | N25: 0 | O25: 8.4193 | P25: =X25*-1 -> 5000 | Q25: 0 | R25: 0 | S25: 0 | T25: 0 | U25: 0 | V25: 0 | W25: =SUM(P25:V25) -> 5000 | X25: -5000 | Y25: 0 | Z25: 0 | AA25: =X25+Y25+Z25 -> -5000 | AB25: =W25+AA25 -> 0 | AC25: =ROUND((W25+X25+Y25)*33.8%,0) -> 0 | AD25: 0 | AE25: =AC25+AD25 -> 0 | AF25: =ROUND(W25*1%,0) -> 50 | AG25: 0 | AH25: =AB25+AE25+AF25+AG25 -> 50 | AI25: 0 | AJ25: 0 | AK25: 0 | AL25: 0 | AM25: 0 | AN25: 0 | AO25: =SUM(AI25:AN25) -> 0 | AP25: =I25+AH25 -> 7029102 | AQ25: =J25+W25 -> 5214467 | AR25: =K25+AA25 -> 0 | AS25: =L25+AE25 -> 1762490 | AT25: =M25+AF25 -> 52145 | AU25: =N25+AG25 -> 0 | AV25: =O25+AO25 -> 8.4193 | AW25: =SUM(AX25:BB25) -> 0 | AX25: 0 | AY25: 0 | AZ25: 0 | BA25: 0 | BB25: 0 | BC25: 0
A26: 5 | B26: 2411 | C26: 600079554 | D26: 72742666 | E26: MŠ Liberec, Březinova 389/8 | F26: 3111 | G26: PO | H26: KÚ | I26: 0 | J26: 0 | K26: 0 | L26: 0 | M26: 0 | N26: 0 | O26: 0 | P26: =X26*-1 -> 0 | Q26: 0 | R26: 73982 | S26: 0 | T26: 0 | U26: 0 | V26: 0 | W26: =SUM(P26:V26) -> 73982 | X26: 0 | Y26: 0 | Z26: 0 | AA26: =X26+Y26+Z26 -> 0 | AB26: =W26+AA26 -> 73982 | AC26: =ROUND((W26+X26+Y26)*33.8%,0) -> 25006 | AD26: 0 | AE26: =AC26+AD26 -> 25006 | AF26: =ROUND(W26*1%,0) -> 740 | AG26: 0 | AH26: =AB26+AE26+AF26+AG26 -> 99728 | AI26: 0 | AJ26: 0.25 | AK26: 0 | AL26: 0 | AM26: 0 | AN26: 0 | AO26: =SUM(AI26:AN26) -> 0.25 | AP26: =I26+AH26 -> 99728 | AQ26: =J26+W26 -> 73982 | AR26: =K26+AA26 -> 0 | AS26: =L26+AE26 -> 25006 | AT26: =M26+AF26 -> 740 | AU26: =N26+AG26 -> 0 | AV26: =O26+AO26 -> 0.25 | AW26: =SUM(AX26:BB26) -> 0 | AX26: 0 | AY26: 0 | AZ26: 0 | BA26: 0 | BB26: 0 | BC26: 0
A27: 5 | B27: 2411 | C27: 600079554 | D27: 72742666 | E27: MŠ Liberec, Březinova 389/8 Celkem | I27: 7029052 | J27: 5209467 | K27: 5000 | L27: 1762490 | M27: 52095 | N27: 0 | O27: 8.4193 | P27: =SUM(P25:P26) -> 5000 | Q27: =SUM(Q25:Q26) -> 0 | R27: =SUM(R25:R26) -> 73982 | S27: =SUM(S25:S26) -> 0 | T27: =SUM(T25:T26) -> 0 | U27: =SUM(U25:U26) -> 0 | V27: =SUM(V25:V26) -> 0 | W27: =SUM(W25:W26) -> 78982 | ... BC27: =SUM(BC25:BC26) -> 0
A28: 6 | B28: 2407 | C28: 600079520 | D28: 72741465 | E28: MŠ Liberec, Burianova 972/2 | F28: 3111 | G28: MŠ | H28: MŠMT | I28: 14180329 | J28: 10519532 | K28: 0 | L28: 3555602 | M28: 105195 | N28: 0 | O28: 17.4516 | P28: =X28*-1 -> 0 | Q28: 0 | R28: 0 | S28: 0 | T28: 0 | U28: 0 | V28: 0 | W28: =SUM(P28:V28) -> 0 | X28: 0 | Y28: 0 | Z28: 0 | AA28: =X28+Y28+Z28 -> 0 | AB28: =W28+AA28 -> 0 | AC28: =ROUND((W28+X28+Y28)*33.8%,0) -> 0 | AD28: 0 | AE28: =AC28+AD28 -> 0 | AF28: =ROUND(W28*1%,0) -> 0 | AG28: 0 | AH28: =AB28+AE28+AF28+AG28 -> 0 | AI28: 0 | AJ28: 0 | AK28: 0 | AL28: 0 | AM28: 0 | AN28: 0 | AO28: =SUM(AI28:AN28) -> 0 | AP28: =I28+AH28 -> 14180329 | AQ28: =J28+W28 -> 10519532 | AR28: =K28+AA28 -> 0 | AS28: =L28+AE28 -> 3555602 | AT28: =M28+AF28 -> 105195 | AU28: =N28+AG28 -> 0 | AV28: =O28+AO28 -> 17.4516 | AW28: =SUM(AX28:BB28) -> 0 | AX28: 0 | AY28: 0 | AZ28: 0 | BA28: 0 | BB28: 0 | BC28: 0
A29: 6 | B29: 2407 | C29: 600079520 | D29: 72741465 | E29: MŠ Liberec, Burianova 972/2 | F29: 3111 | G29: PO | H29: KÚ | I29: 1604849 | J29: 1190541 | K29: 0 | L29: 402403 | M29: 11905 | N29: 0 | O29: 3 | P29: =X29*-1 -> 0 | Q29: 0 | R29: -264565 | S29: 0 | T29: 0 | U29: 0 | V29: 0 | W29: =SUM(P29:V29) -> -264565 | X29: 0 | Y29: 0 | Z29: 0 | AA29: =X29+Y29+Z29 -> 0 | AB29: =W29+AA29 -> -264565 | AC29: =ROUND((W29+X29+Y29)*33.8%,0) -> -89423 | AD29: 0 | AE29: =AC29+AD29 -> -89423 | AF29: =ROUND(W29*1%,0) -> -2646 | AG29: 0 | AH29: =AB29+AE29+AF29+AG29 -> -356634 | AI29: 0 | AJ29: -0.67 | AK29: 0 | AL29: 0 | AM29: 0 | AN29: 0 | AO29: =SUM(AI29:AN29) -> -0.67 | AP29: =I29+AH29 -> 1248215 | AQ29: =J29+W29 -> 925976 | AR29: =K29+AA29 -> 0 | AS29: =L29+AE29 -> 312980 | AT29: =M29+AF29 -> 9259 | AU29: =N29+AG29 -> 0 | AV29: =O29+AO29 -> 2.33 | AW29: =SUM(AX29:BB29) -> 0 | AX29: 0 | AY29: 0 | AZ29: 0 | BA29: 0 | BB29: 0 | BC29: 0
A30: 6 | B30: 2407 | C30: 600079520 | D30: 72741465 | E30: MŠ Liberec, Burianova 972/2 Celkem | I30: 15785178 | J30: 11710073 | K30: 0 | L30: 3958005 | M30: 117100 | N30: 0 | O30: 20.4516 | P30: =SUM(P28:P29) -> 0 | Q30: =SUM(Q28:Q29) -> 0 | R30: =SUM(R28:R29) -> -264565 | S30: =SUM(S28:S29) -> 0 | T30: =SUM(T28:T29) -> 0 | U30: =SUM(U28:U29) -> 0 | V30: =SUM(V28:V29) -> 0 | W30: =SUM(W28:W29) -> -264565 | ... BC30: =SUM(BC28:BC29) -> 0
A31: 7 | B31: 2422 | C31: 600079082 | D31: 72742585 | E31: MŠ Liberec, Dělnická 831/7 | F31: 3111 | G31: MŠ | H31: MŠMT | I31: 8603914 | J31: 6308282 | K31: 75000 | L31: 2157549 | M31: 63083 | N31: 0 | O31: 10.8065 | P31: =X31*-1 -> 20000 | Q31: 0 | R31: 0 | S31: 0 | T31: 0 | U31: 0 | V31: 0 | W31: =SUM(P31:V31) -> 20000 | X31: -20000 | Y31: 0 | Z31: 0 | AA31: =X31+Y31+Z31 -> -20000 | AB31: =W31+AA31 -> 0 | AC31: =ROUND((W31+X31+Y31)*33.8%,0) -> 0 | AD31: 0 | AE31: =AC31+AD31 -> 0 | AF31: =ROUND(W31*1%,0) -> 200 | AG31: 0 | AH31: =AB31+AE31+AF31+AG31 -> 200 | AI31: -0.09 | AJ31: 0 | AK31: 0 | AL31: 0 | AM31: 0 | AN31: 0 | AO31: =SUM(AI31:AN31) -> -0.09 | AP31: =I31+AH31 -> 8604114 | AQ31: =J31+W31 -> 6328282 | AR31: =K31+AA31 -> 55000 | AS31: =L31+AE31 -> 2157549 | AT31: =M31+AF31 -> 63283 | AU31: =N31+AG31 -> 0 | AV31: =O31+AO31 -> 10.7165 | AW31: =SUM(AX31:BB31) -> 0 | AX31: 0 | AY31: 0 | AZ31: 0 | BA31: 0 | BB31: 0 | BC31: 0
A32: 7 | B32: 2422 | C32: 600079082 | D32: 72742585 | E32: MŠ Liberec, Dělnická 831/7 | F32: 3111 | G32: PO | H32: KÚ | I32: 742994 | J32: 551182 | K32: 0 | L32: 186300 | M32: 5512 | N32: 0 | O32: 1.39 | P32: =X32*-1 -> 0 | Q32: 0 | R32: -99212 | S32: 0 | T32: 0 | U32: 0 | V32: 0 | W32: =SUM(P32:V32) -> -99212 | X32: 0 | Y32: 0 | Z32: 0 | AA32: =X32+Y32+Z32 -> 0 | AB32: =W32+AA32 -> -99212 | AC32: =ROUND((W32+X32+Y32)*33.8%,0) -> -33534 | AD32: 0 | AE32: =AC32+AD32 -> -33534 | AF32: =ROUND(W32*1%,0) -> -992 | AG32: 0 | AH32: =AB32+AE32+AF32+AG32 -> -133738 | AI32: 0 | AJ32: -0.25 | AK32: 0 | AL32: 0 | AM32: 0 | AN32: 0 | AO32: =SUM(AI32:AN32) -> -0.25 | AP32: =I32+AH32 -> 609256 | AQ32: =J32+W32 -> 451970 | AR32: =K32+AA32 -> 0 | AS32: =L32+AE32 -> 152766 | AT32: =M32+AF32 -> 4520 | AU32: =N32+AG32 -> 0 | AV32: =O32+AO32 -> 1.14 | AW32: =SUM(AX32:BB32) -> 0 | AX32: 0 | AY32: 0 | AZ32: 0 | BA32: 0 | BB32: 0 | BC32: 0
A33: 7 | B33: 2422 | C33: 600079082 | D33: 72742585 | E33: MŠ Liberec, Dělnická 831/7 Celkem | I33: 9346908 | J33: 6859464 | K33: 75000 | L33: 2343849 | M33: 68595 | N33: 0 | O33: 12.1965 | P33: =SUM(P31:P32) -> 20000 | Q33: =SUM(Q31:Q32) -> 0 | R33: =SUM(R31:R32) -> -99212 | S33: =SUM(S31:S32) -> 0 | T33: =SUM(T31:T32) -> 0 | U33: =SUM(U31:U32) -> 0 | V33: =SUM(V31:V32) -> 0 | W33: =SUM(W31:W32) -> -79212 | ... BC33: =SUM(BC31:BC32) -> 0
A34: 8 | B34: 2427 | C34: 600079091 | D34: 72741627 | E34: MŠ Liberec, Dětská 461 | F34: 3111 | G34: MŠ | H34: MŠMT | I34: 4945987 | J34: 3669130 | K34: 0 | L34: 1240166 | M34: 36691 | N34: 0 | O34: 6.2418 | P34: =X34*-1 -> 0 | Q34: 0 | R34: 0 | S34: 0 | T34: 0 | U34: 0 | V34: 0 | W34: =SUM(P34:V34) -> 0 | X34: 0 | Y34: 0 | Z34: 0 | AA34: =X34+Y34+Z34 -> 0 | AB34: =W34+AA34 -> 0 | AC34: =ROUND((W34+X34+Y34)*33.8%,0) -> 0 | AD34: 0 | AE34: =AC34+AD34 -> 0 | AF34: =ROUND(W34*1%,0) -> 0 | AG34: 0 | AH34: =AB34+AE34+AF34+AG34 -> 0 | AI34: 0 | AJ34: 0 | AK34: 0 | AL34: 0 | AM34: 0 | AN34: 0 | AO34: =SUM(AI34:AN34) -> 0 | AP34: =I34+AH34 -> 4945987 | AQ34: =J34+W34 -> 3669130 | AR34: =K34+AA34 -> 0 | AS34: =L34+AE34 -> 1240166 | AT34: =M34+AF34 -> 36691 | AU34: =N34+AG34 -> 0 | AV34: =O34+AO34 -> 6.2418 | AW34: =SUM(AX34:BB34) -> 0 | AX34: 0 | AY34: 0 | AZ34: 0 | BA34: 0 | BB34: 0 | BC34: 0
A35: 8 | B35: 2427 | C35: 600079091 | D35: 72741627 | E35: MŠ Liberec, Dětská 461 | F35: 3111 | G35: PO | H35: KÚ | I35: 802427 | J35: 595272 | K35: 0 | L35: 201202 | M35: 5953 | N35: 0 | O35: 1.5 | P35: =X35*-1 -> 0 | Q35: 0 | R35: -99212 | S35: 0 | T35: 0 | U35: 0 | V35: 0 | W35: =SUM(P35:V35) -> -99212 | X35: 0 | Y35: 0 | Z35: 0 | AA35: =X35+Y35+Z35 -> 0 | AB35: =W35+AA35 -> -99212 | AC35: =ROUND((W35+X35+Y35)*33.8%,0) -> -33534 | AD35: 0 | AE35: =AC35+AD35 -> -33534 | AF35: =ROUND(W35*1%,0) -> -992 | AG35: 0 | AH35: =AB35+AE35+AF35+AG35 -> -133738 | AI35: 0 | AJ35: -0.25 | AK35: 0 | AL35: 0 | AM35: 0 | AN35: 0 | AO35: =SUM(AI35:AN35) -> -0.25 | AP35: =I35+AH35 -> 668689 | AQ35: =J35+W35 -> 496060 | AR35: =K35+AA35 -> 0 | AS35: =L35+AE35 -> 167668 | AT35: =M35+AF35 -> 4961 | AU35: =N35+AG35 -> 0 | AV35: =O35+AO35 -> 1.25 | AW35: =SUM(AX35:BB35) -> 0 | AX35: 0 | AY35: 0 | AZ35: 0 | BA35: 0 | BB35: 0 | BC35: 0
A36: 8 | B36: 2427 | C36: 600079091 | D36: 72741627 | E36: MŠ Liberec, Dětská 461 Celkem | I36: 5748414 | J36: 4264402 | K36: 0 | L36: 1441368 | M36: 42644 | N36: 0 | O36: 7.7418 | P36: =SUM(P34:P35) -> 0 | Q36: =SUM(Q34:Q35) -> 0 | R36: =SUM(R34:R35) -> -99212 | S36: =SUM(S34:S35) -> 0 | T36: =SUM(T34:T35) -> 0 | U36: =SUM(U34:U35) -> 0 | V36: =SUM(V34:V35) -> 0 | W36: =SUM(W34:W35) -> -99212 | ... BC36: =SUM(BC34:BC35) -> 0
A37: 9 | B37: 2327 | C37: 691002606 | D37: 72076950 | E37: MŠ Liberec, Gagarinova 788/9 | F37: 3111 | G37: MŠ | H37: MŠMT | I37: 9112551 | J37: 6760052 | K37: 0 | L37: 2284898 | M37: 67601 | N37: 0 | O37: 11.2096 | P37: =X37*-1 -> 0 | Q37: 0 | R37: 0 | S37: 0 | T37: 0 | U37: 0 | V37: 0 | W37: =SUM(P37:V37) -> 0 | X37: 0 | Y37: 0 | Z37: 0 | AA37: =X37+Y37+Z37 -> 0 | AB37: =W37+AA37 -> 0 | AC37: =ROUND((W37+X37+Y37)*33.8%,0) -> 0 | AD37: 0 | AE37: =AC37+AD37 -> 0 | AF37: =ROUND(W37*1%,0) -> 0 | AG37: 0 | AH37: =AB37+AE37+AF37+AG37 -> 0 | AI37: 0 | AJ37: 0 | AK37: 0 | AL37: 0 | AM37: 0 | AN37: 0 | AO37: =SUM(AI37:AN37) -> 0 | AP37: =I37+AH37 -> 9112551 | AQ37: =J37+W37 -> 6760052 | AR37: =K37+AA37 -> 0 | AS37: =L37+AE37 -> 2284898 | AT37: =M37+AF37 -> 67601 | AU37: =N37+AG37 -> 0 | AV37: =O37+AO37 -> 11.2096 | AW37: =SUM(AX37:BB37) -> 0 | AX37: 0 | AY37: 0 | AZ37: 0 | BA37: 0 | BB37: 0 | BC37: 0
A38: 9 | B38: 2327 | C38: 691002606 | D38: 72076950 | E38: MŠ Liberec, Gagarinova 788/9 | F38: 3111 | G38: PO | H38: KÚ | I38: 267475 | J38: 198424 | K38: 0 | L38: 67067 | M38: 1984 | N38: 0 | O38: 0.5 | P38: =X38*-1 -> 0 | Q38: 0 | R38: -66141 | S38: 0 | T38: 0 | U38: 0 | V38: 0 | W38: =SUM(P38:V38) -> -66141 | X38: 0 | Y38: 0 | Z38: 0 | AA38: =X38+Y38+Z38 -> 0 | AB38: =W38+AA38 -> -66141 | AC38: =ROUND((W38+X38+Y38)*33.8%,0) -> -22356 | AD38: 0 | AE38: =AC38+AD38 -> -22356 | AF38: =ROUND(W38*1%,0) -> -661 | AG38: 0 | AH38: =AB38+AE38+AF38+AG38 -> -89158 | AI38: 0 | AJ38: -0.17 | AK38: 0 | AL38: 0 | AM38: 0 | AN38: 0 | AO38: =SUM(AI38:AN38) -> -0.17 | AP38: =I38+AH38 -> 178317 | AQ38: =J38+W38 -> 132283 | AR38: =K38+AA38 -> 0 | AS38: =L38+AE38 -> 44711 | AT38: =M38+AF38 -> 1323 | AU38: =N38+AG38 -> 0 | AV38: =O38+AO38 -> 0.33 | AW38: =SUM(AX38:BB38) -> 0 | AX38: 0 | AY38: 0 | AZ38: 0 | BA38: 0 | BB38: 0 | BC38: 0
A39: 9 | B39: 2327 | C39: 691002606 | D39: 72076950 | E39: MŠ Liberec, Gagarinova 788/9 Celkem | I39: 9380026 | J39: 6958476 | K39: 0 | L39: 2351965 | M39: 69585 | N39: 0 | O39: 11.7096 | P39: =SUM(P37:P38) -> 0 | Q39: =SUM(Q37:Q38) -> 0 | R39: =SUM(R37:R38) -> -66141 | S39: =SUM(S37:S38) -> 0 | T39: =SUM(T37:T38) -> 0 | U39: =SUM(U37:U38) -> 0 | V39: =SUM(V37:V38) -> 0 | W39: =SUM(W37:W38) -> -66141 | ... BC39: =SUM(BC37:BC38) -> 0
A40: 10 | B40: 2321 | C40: 600079287 | D40: 72742976 | E40: MŠ Liberec, Horská 166/27 | F40: 3111 | G40: MŠ | H40: MŠMT | I40: 8792717 | J40: 6522787 | K40: 0 | L40: 2204702 | M40: 65228 | N40: 0 | O40: 10.4516 | P40: =X40*-1 -> 0 | Q40: 0 | R40: 0 | S40: 0 | T40: 0 | U40: 0 | V40: 0 | W40: =SUM(P40:V40) -> 0 | X40: 0 | Y40: 0 | Z40: 0 | AA40: =X40+Y40+Z40 -> 0 | AB40: =W40+AA40 -> 0 | AC40: =ROUND((W40+X40+Y40)*33.8%,0) -> 0 | AD40: 0 | AE40: =AC40+AD40 -> 0 | AF40: =ROUND(W40*1%,0) -> 0 | AG40: 0 | AH40: =AB40+AE40+AF40+AG40 -> 0 | AI40: 0 | AJ40: 0 | AK40: 0 | AL40: 0 | AM40: 0 | AN40: 0 | AO40: =SUM(AI40:AN40) -> 0 | AP40: =I40+AH40 -> 8792717 | AQ40: =J40+W40 -> 6522787 | AR40: =K40+AA40 -> 0 | AS40: =L40+AE40 -> 2204702 | AT40: =M40+AF40 -> 65228 | AU40: =N40+AG40 -> 0 | AV40: =O40+AO40 -> 10.4516 | AW40: =SUM(AX40:BB40) -> 0 | AX40: 0 | AY40: 0 | AZ40: 0 | BA40: 0 | BB40: 0 | BC40: 0
A41: 10 | B41: 2321 | C41: 600079287 | D41: 72742976 | E41: MŠ Liberec, Horská 166/27 Celkem | I41: 8792717 | J41: 6522787 | K41: 0 | L41: 2204702 | M41: 65228 | N41: 0 | O41: 10.4516 | P41: =SUM(P40:P40) -> 0 | Q41: =SUM(Q40:Q40) -> 0 | R41: =SUM(R40:R40) -> 0 | S41: =SUM(S40:S40) -> 0 | T41: =SUM(T40:T40) -> 0 | U41: =SUM(U40:U40) -> 0 | V41: =SUM(V40:V40) -> 0 | W41: =SUM(W40:W40) -> 0 | ... BC41: =SUM(BC40:BC40) -> 0
A42: 11 | B42: 2423 | C42: 600079368 | D42: 72742828 | E42: MŠ Liberec, Husova 184/72 | F42: 3111 | G42: MŠ | H42: MŠMT | I42: 3546990 | J42: 2611447 | K42: 20000 | L42: 889429 | M42: 26114 | N42: 0 | O42: 4.1958 | P42: =X42*-1 -> 20000 | Q42: 0 | R42: 0 | S42: 0 | T42: 0 | U42: 0 | V42: 0 | W42: =SUM(P42:V42) -> 20000 | X42: -20000 | Y42: 0 | Z42: 0 | AA42: =X42+Y42+Z42 -> -20000 | AB42: =W42+AA42 -> 0 | AC42: =ROUND((W42+X42+Y42)*33.8%,0) -> 0 | AD42: 0 | AE42: =AC42+AD42 -> 0 | AF42: =ROUND(W42*1%,0) -> 200 | AG42: 0 | AH42: =AB42+AE42+AF42+AG42 -> 200 | AI42: 0.03 | AJ42: 0 | AK42: 0 | AL42: 0 | AM42: 0 | AN42: 0 | AO42: =SUM(AI42:AN42) -> 0.03 | AP42: =I42+AH42 -> 3547190 | AQ42: =J42+W42 -> 2631447 | AR42: =K42+AA42 -> 0 | AS42: =L42+AE42 -> 889429 | AT42: =M42+AF42 -> 26314 | AU42: =N42+AG42 -> 0 | AV42: =O42+AO42 -> 4.2258 | AW42: =SUM(AX42:BB42) -> 0 | AX42: 0 | AY42: 0 | AZ42: 0 | BA42: 0 | BB42: 0 | BC42: 0
A43: 11 | B43: 2423 | C43: 600079368 | D43: 72742828 | E43: MŠ Liberec, Husova 184/72 Celkem | I43: 3546990 | J43: 2611447 | K43: 20000 | L43: 889429 | M43: 26114 | N43: 0 | O43: 4.1958 | P43: =SUM(P42:P42) -> 20000 | Q43: =SUM(Q42:Q42) -> 0 | R43: =SUM(R42:R42) -> 0 | S43: =SUM(S42:S42) -> 0 | T43: =SUM(T42:T42) -> 0 | U43: =SUM(U42:U42) -> 0 | V43: =SUM(V42:V42) -> 0 | W43: =SUM(W42:W42) -> 20000 | ... BC43: =SUM(BC42:BC42) -> 0
A44: 12 | B44: 2428 | C44: 600079112 | D44: 72743140 | E44: MŠ Liberec, Jabloňová 446/29 | F44: 3111 | G44: MŠ | H44: MŠMT | I44: 7354366 | J44: 5455761 | K44: 0 | L44: 1844047 | M44: 54558 | N44: 0 | O44: 8.7742 | P44: =X44*-1 -> -62800 | Q44: 0 | R44: 0 | S44: 0 | T44: 0 | U44: 0 | V44: 0 | W44: =SUM(P44:V44) -> -62800 | X44: 62800 | Y44: 0 | Z44: 0 | AA44: =X44+Y44+Z44 -> 62800 | AB44: =W44+AA44 -> 0 | AC44: =ROUND((W44+X44+Y44)*33.8%,0) -> 0 | AD44: 0 | AE44: =AC44+AD44 -> 0 | AF44: =ROUND(W44*1%,0) -> -628 | AG44: 0 | AH44: =AB44+AE44+AF44+AG44 -> -628 | AI44: 0 | AJ44: 0 | AK44: 0 | AL44: 0 | AM44: 0 | AN44: 0 | AO44: =SUM(AI44:AN44) -> 0 | AP44: =I44+AH44 -> 7353738 | AQ44: =J44+W44 -> 5392961 | AR44: =K44+AA44 -> 62800 | AS44: =L44+AE44 -> 1844047 | AT44: =M44+AF44 -> 53930 | AU44: =N44+AG44 -> 0 | AV44: =O44+AO44 -> 8.7742 | AW44: =SUM(AX44:BB44) -> 0 | AX44: 0 | AY44: 0 | AZ44: 0 | BA44: 0 | BB44: 0 | BC44: 0
A45: 12 | B45: 2428 | C45: 600079112 | D45: 72743140 | E45: MŠ Liberec, Jabloňová 446/29 Celkem | I45: 7354366 | J45: 5455761 | K45: 0 | L45: 1844047 | M45: 54558 | N45: 0 | O45: 8.7742 | P45: =SUM(P44:P44) -> -62800 | Q45: =SUM(Q44:Q44) -> 0 | R45: =SUM(R44:R44) -> 0 | S45: =SUM(S44:S44) -> 0 | T45: =SUM(T44:T44) -> 0 | U45: =SUM(U44:U44) -> 0 | V45: =SUM(V44:V44) -> 0 | W45: =SUM(W44:W44) -> -62800 | ... BC45: =SUM(BC44:BC44) -> 0
A46: 13 | B46: 2413 | C46: 600079601 | D46: 72742909 | E46: MŠ Liberec, Jeřmanická 487/27 | F46: 3111 | G46: MŠ | H46: MŠMT | I46: 4969207 | J46: 3686355 | K46: 0 | L46: 1245988 | M46: 36864 | N46: 0 | O46: 6.2418 | P46: =X46*-1 -> 0 | Q46: 0 | R46: 0 | S46: 0 | T46: 0 | U46: 0 | V46: 0 | W46: =SUM(P46:V46) -> 0 | X46: 0 | Y46: 0 | Z46: 0 | AA46: =X46+Y46+Z46 -> 0 | AB46: =W46+AA46 -> 0 | AC46: =ROUND((W46+X46+Y46)*33.8%,0) -> 0 | AD46: 0 | AE46: =AC46+AD46 -> 0 | AF46: =ROUND(W46*1%,0) -> 0 | AG46: 0 | AH46: =AB46+AE46+AF46+AG46 -> 0 | AI46: 0 | AJ46: 0 | AK46: 0 | AL46: 0 | AM46: 0 | AN46: 0 | AO46: =SUM(AI46:AN46) -> 0 | AP46: =I46+AH46 -> 4969207 | AQ46: =J46+W46 -> 3686355 | AR46: =K46+AA46 -> 0 | AS46: =L46+AE46 -> 1245988 | AT46: =M46+AF46 -> 36864 | AU46: =N46+AG46 -> 0 | AV46: =O46+AO46 -> 6.2418 | AW46: =SUM(AX46:BB46) -> 0 | AX46: 0 | AY46: 0 | AZ46: 0 | BA46: 0 | BB46: 0 | BC46: 0
A47: 13 | B47: 2413 | C47: 600079601 | D47: 72742909 | E47: MŠ Liberec, Jeřmanická 487/27 | F47: 3111 | G47: PO | H47: KÚ | I47: 267475 | J47: 198424 | K47: 0 | L47: 67067 | M47: 1984 | N47: 0 | O47: 0.5 | P47: =X47*-1 -> 0 | Q47: 0 | R47: 0 | S47: 0 | T47: 0 | U47: 0 | V47: 0 | W47: =SUM(P47:V47) -> 0 | X47: 0 | Y47: 0 | Z47: 0 | AA47: =X47+Y47+Z47 -> 0 | AB47: =W47+AA47 -> 0 | AC47: =ROUND((W47+X47+Y47)*33.8%,0) -> 0 | AD47: 0 | AE47: =AC47+AD47 -> 0 | AF47: =ROUND(W47*1%,0) -> 0 | AG47: 0 | AH47: =AB47+AE47+AF47+AG47 -> 0 | AI47: 0 | AJ47: 0 | AK47: 0 | AL47: 0 | AM47: 0 | AN47: 0 | AO47: =SUM(AI47:AN47) -> 0 | AP47: =I47+AH47 -> 267475 | AQ47: =J47+W47 -> 198424 | AR47: =K47+AA47 -> 0 | AS47: =L47+AE47 -> 67067 | AT47: =M47+AF47 -> 1984 | AU47: =N47+AG47 -> 0 | AV47: =O47+AO47 -> 0.5 | AW47: =SUM(AX47:BB47) -> 0 | AX47: 0 | AY47: 0 | AZ47: 0 | BA47: 0 | BB47: 0 | BC47: 0
A48: 13 | B48: 2413 | C48: 600079601 | D48: 72742909 | E48: MŠ Liberec, Jeřmanická 487/27 Celkem | I48: 5236682 | J48: 3884779 | K48: 0 | L48: 1313055 | M48: 38848 | N48: 0 | O48: 6.7418 | P48: =SUM(P46:P47) -> 0 | Q48: =SUM(Q46:Q47) -> 0 | R48: =SUM(R46:R47) -> 0 | S48: =SUM(S46:S47) -> 0 | T48: =SUM(T46:T47) -> 0 | U48: =SUM(U46:U47) -> 0 | V48: =SUM(V46:V47) -> 0 | W48: =SUM(W46:W47) -> 0 | ... BC48: =SUM(BC46:BC47) -> 0
A49: 14 | B49: 2410 | C49: 600079121 | D49: 72742348 | E49: MŠ Liberec, Jugoslávská 128/1 | F49: 3111 | G49: MŠ | H49: MŠMT | I49: 7132530 | J49: 5249109 | K49: 42400 | L49: 1788530 | M49: 52491 | N49: 0 | O49: 8.5106 | P49: =X49*-1 -> 0 | Q49: 0 | R49: 0 | S49: 0 | T49: 0 | U49: 0 | V49: 0 | W49: =SUM(P49:V49) -> 0 | X49: 0 | Y49: 0 | Z49: 0 | AA49: =X49+Y49+Z49 -> 0 | AB49: =W49+AA49 -> 0 | AC49: =ROUND((W49+X49+Y49)*33.8%,0) -> 0 | AD49: 0 | AE49: =AC49+AD49 -> 0 | AF49: =ROUND(W49*1%,0) -> 0 | AG49: 0 | AH49: =AB49+AE49+AF49+AG49 -> 0 | AI49: 0 | AJ49: 0 | AK49: 0 | AL49: 0 | AM49: 0 | AN49: 0 | AO49: =SUM(AI49:AN49) -> 0 | AP49: =I49+AH49 -> 7132530 | AQ49: =J49+W49 -> 5249109 | AR49: =K49+AA49 -> 42400 | AS49: =L49+AE49 -> 1788530 | AT49: =M49+AF49 -> 52491 | AU49: =N49+AG49 -> 0 | AV49: =O49+AO49 -> 8.5106 | AW49: =SUM(AX49:BB49) -> 0 | AX49: 0 | AY49: 0 | AZ49: 0 | BA49: 0 | BB49: 0 | BC49: 0
A50: 14 | B50: 2410 | C50: 600079121 | D50: 72742348 | E50: MŠ Liberec, Jugoslávská 128/1 | F50: 3111 | G50: AP spec.tř. | H50: MŠMT | I50: 467309 | J50: 346668 | K50: 0 | L50: 117174 | M50: 3467 | N50: 0 | O50: 1 | P50: =X50*-1 -> 0 | Q50: 0 | R50: 0 | S50: 0 | T50: 0 | U50: 0 | V50: 0 | W50: =SUM(P50:V50) -> 0 | X50: 0 | Y50: 0 | Z50: 0 | AA50: =X50+Y50+Z50 -> 0 | AB50: =W50+AA50 -> 0 | AC50: =ROUND((W50+X50+Y50)*33.8%,0) -> 0 | AD50: 0 | AE50: =AC50+AD50 -> 0 | AF50: =ROUND(W50*1%,0) -> 0 | AG50: 0 | AH50: =AB50+AE50+AF50+AG50 -> 0 | AI50: 0 | AJ50: 0 | AK50: 0 | AL50: 0 | AM50: 0 | AN50: 0 | AO50: =SUM(AI50:AN50) -> 0 | AP50: =I50+AH50 -> 467309 | AQ50: =J50+W50 -> 346668 | AR50: =K50+AA50 -> 0 | AS50: =L50+AE50 -> 117174 | AT50: =M50+AF50 -> 3467 | AU50: =N50+AG50 -> 0 | AV50: =O50+AO50 -> 1 | AW50: =SUM(AX50:BB50) -> 0 | AX50: 0 | AY50: 0 | AZ50: 0 | BA50: 0 | BB50: 0 | BC50: 0
A51: 14 | B51: 2410 | C51: 600079121 | D51: 72742348 | E51: MŠ Liberec, Jugoslávská 128/1 Celkem | I51: 7599839 | J51: 5595777 | K51: 42400 | L51: 1905704 | M51: 55958 | N51: 0 | O51: 9.5106 | P51: =SUM(P49:P50) -> 0 | Q51: =SUM(Q49:Q50) -> 0 | R51: =SUM(R49:R50) -> 0 | S51: =SUM(S49:S50) -> 0 | T51: =SUM(T49:T50) -> 0 | U51: =SUM(U49:U50) -> 0 | V51: =SUM(V49:V50) -> 0 | W51: =SUM(W49:W50) -> 0 | ... BC51: =SUM(BC49:BC50) -> 0
A52: 15 | B52: 2436 | C52: 600079538 | D52: 72741546 | E52: MŠ Liberec, Kaplického 386 | F52: 3111 | G52: MŠ | H52: MŠMT | I52: 8474344 | J52: 6236976 | K52: 50000 | L52: 2124998 | M52: 62370 | N52: 0 | O52: 10.6451 | P52: =X52*-1 -> 50000 | Q52: 0 | R52: 0 | S52: 0 | T52: 0 | U52: 0 | V52: 0 | W52: =SUM(P52:V52) -> 50000 | X52: -50000 | Y52: 0 | Z52: 0 | AA52: =X52+Y52+Z52 -> -50000 | AB52: =W52+AA52 -> 0 | AC52: =ROUND((W52+X52+Y52)*33.8%,0) -> 0 | AD52: 0 | AE52: =AC52+AD52 -> 0 | AF52: =ROUND(W52*1%,0) -> 500 | AG52: 0 | AH52: =AB52+AE52+AF52+AG52 -> 500 | AI52: 0 | AJ52: 0 | AK52: 0 | AL52: 0 | AM52: 0 | AN52: 0 | AO52: =SUM(AI52:AN52) -> 0 | AP52: =I52+AH52 -> 8474844 | AQ52: =J52+W52 -> 6286976 | AR52: =K52+AA52 -> 0 | AS52: =L52+AE52 -> 2124998 | AT52: =M52+AF52 -> 62870 | AU52: =N52+AG52 -> 0 | AV52: =O52+AO52 -> 10.6451 | AW52: =SUM(AX52:BB52) -> 0 | AX52: 0 | AY52: 0 | AZ52: 0 | BA52: 0 | BB52: 0 | BC52: 0
A53: 15 | B53: 2436 | C53: 600079538 | D53: 72741546 | E53: MŠ Liberec, Kaplického 386 | F53: 3111 | G53: PO | H53: KÚ | I53: 1337376 | J53: 992119 | K53: 0 | L53: 335336 | M53: 9921 | N53: 0 | O53: 2.5 | P53: =X53*-1 -> 0 | Q53: 0 | R53: 0 | S53: 0 | T53: 0 | U53: 0 | V53: 0 | W53: =SUM(P53:V53) -> 0 | X53: 0 | Y53: 0 | Z53: 0 | AA53: =X53+Y53+Z53 -> 0 | AB53: =W53+AA53 -> 0 | AC53: =ROUND((W53+X53+Y53)*33.8%,0) -> 0 | AD53: 0 | AE53: =AC53+AD53 -> 0 | AF53: =ROUND(W53*1%,0) -> 0 | AG53: 0 | AH53: =AB53+AE53+AF53+AG53 -> 0 | AI53: 0 | AJ53: 0 | AK53: 0 | AL53: 0 | AM53: 0 | AN53: 0 | AO53: =SUM(AI53:AN53) -> 0 | AP53: =I53+AH53 -> 1337376 | AQ53: =J53+W53 -> 992119 | AR53: =K53+AA53 -> 0 | AS53: =L53+AE53 -> 335336 | AT53: =M53+AF53 -> 9921 | AU53: =N53+AG53 -> 0 | AV53: =O53+AO53 -> 2.5 | AW53: =SUM(AX53:BB53) -> 0 | AX53: 0 | AY53: 0 | AZ53: 0 | BA53: 0 | BB53: 0 | BC53: 0
A54: 15 | B54: 2436 | C54: 600079538 | D54: 72741546 | E54: MŠ Liberec, Kaplického 386 Celkem | I54: 9811720 | J54: 7229095 | K54: 50000 | L54: 2460334 | M54: 72291 | N54: 0 | O54: 13.1451 | P54: =SUM(P52:P53) -> 50000 | Q54: =SUM(Q52:Q53) -> 0 | R54: =SUM(R52:R53) -> 0 | S54: =SUM(S52:S53) -> 0 | T54: =SUM(T52:T53) -> 0 | U54: =SUM(U52:U53) -> 0 | V54: =SUM(V52:V53) -> 0 | W54: =SUM(W52:W53) -> 50000 | ... BC54: =SUM(BC52:BC53) -> 0
A55: 16 | B55: 2424 | C55: 600079147 | D55: 72741945 | E55: MŠ Liberec, Klášterní 149/16 | F55: 3111 | G55: MŠ | H55: MŠMT | I55: 3155082 | J55: 2340565 | K55: 0 | L55: 791111 | M55: 23406 | N55: 0 | O55: 4 | P55: =X55*-1 -> 0 | Q55: 0 | R55: 0 | S55: 0 | T55: 0 | U55: 0 | V55: 0 | W55: =SUM(P55:V55) -> 0 | X55: 0 | Y55: 0 | Z55: 0 | AA55: =X55+Y55+Z55 -> 0 | AB55: =W55+AA55 -> 0 | AC55: =ROUND((W55+X55+Y55)*33.8%,0) -> 0 | AD55: 0 | AE55: =AC55+AD55 -> 0 | AF55: =ROUND(W55*1%,0) -> 0 | AG55: 0 | AH55: =AB55+AE55+AF55+AG55 -> 0 | AI55: 0 | AJ55: 0 | AK55: 0 | AL55: 0 | AM55: 0 | AN55: 0 | AO55: =SUM(AI55:AN55) -> 0 | AP55: =I55+AH55 -> 3155082 | AQ55: =J55+W55 -> 2340565 | AR55: =K55+AA55 -> 0 | AS55: =L55+AE55 -> 791111 | AT55: =M55+AF55 -> 23406 | AU55: =N55+AG55 -> 0 | AV55: =O55+AO55 -> 4 | AW55: =SUM(AX55:BB55) -> 0 | AX55: 0 | AY55: 0 | AZ55: 0 | BA55: 0 | BB55: 0 | BC55: 0
A56: 16 | B56: 2424 | C56: 600079147 | D56: 72741945 | E56: MŠ Liberec, Klášterní 149/16 Celkem | I56: 3155082 | J56: 2340565 | K56: 0 | L56: 791111 | M56: 23406 | N56: 0 | O56: 4 | P56: =SUM(P55:P55) -> 0 | Q56: =SUM(Q55:Q55) -> 0 | R56: =SUM(R55:R55) -> 0 | S56: =SUM(S55:S55) -> 0 | T56: =SUM(T55:T55) -> 0 | U56: =SUM(U55:U55) -> 0 | V56: =SUM(V55:V55) -> 0 | W56: =SUM(W55:W55) -> 0 | ... BC56: =SUM(BC55:BC55) -> 0
A57: 17 | B57: 2417 | C57: 600079562 | D57: 72742810 | E57: MŠ Liberec, Klášterní 466/4 | F57: 3111 | G57: MŠ | H57: MŠMT | I57: 17277887 | J57: 12817424 | K57: 0 | L57: 4332289 | M57: 128174 | N57: 0 | O57: 21 | P57: =X57*-1 -> 0 | Q57: 0 | R57: 0 | S57: 0 | T57: 0 | U57: 0 | V57: 0 | W57: =SUM(P57:V57) -> 0 | X57: 0 | Y57: 0 | Z57: 0 | AA57: =X57+Y57+Z57 -> 0 | AB57: =W57+AA57 -> 0 | AC57: =ROUND((W57+X57+Y57)*33.8%,0) -> 0 | AD57: 0 | AE57: =AC57+AD57 -> 0 | AF57: =ROUND(W57*1%,0) -> 0 | AG57: 0 | AH57: =AB57+AE57+AF57+AG57 -> 0 | AI57: 0 | AJ57: 0 | AK57: 0 | AL57: 0 | AM57: 0 | AN57: 0 | AO57: =SUM(AI57:AN57) -> 0 | AP57: =I57+AH57 -> 17277887 | AQ57: =J57+W57 -> 12817424 | AR57: =K57+AA57 -> 0 | AS57: =L57+AE57 -> 4332289 | AT57: =M57+AF57 -> 128174 | AU57: =N57+AG57 -> 0 | AV57: =O57+AO57 -> 21 | AW57: =SUM(AX57:BB57) -> 0 | AX57: 0 | AY57: 0 | AZ57: 0 | BA57: 0 | BB57: 0 | BC57: 0
A58: 17 | B58: 2417 | C58: 600079562 | D58: 72742810 | E58: MŠ Liberec, Klášterní 466/4 | F58: 3111 | G58: AP spec.tř. | H58: MŠMT | I58: 1922938 | J58: 1426512 | K58: 0 | L58: 482161 | M58: 14265 | N58: 0 | O58: 4 | P58: =X58*-1 -> 0 | Q58: 0 | R58: 0 | S58: 0 | T58: 0 | U58: 0 | V58: 0 | W58: =SUM(P58:V58) -> 0 | X58: 0 | Y58: 0 | Z58: 0 | AA58: =X58+Y58+Z58 -> 0 | AB58: =W58+AA58 -> 0 | AC58: =ROUND((W58+X58+Y58)*33.8%,0) -> 0 | AD58: 0 | AE58: =AC58+AD58 -> 0 | AF58: =ROUND(W58*1%,0) -> 0 | AG58: 0 | AH58: =AB58+AE58+AF58+AG58 -> 0 | AI58: 0 | AJ58: 0 | AK58: 0 | AL58: 0 | AM58: 0 | AN58: 0 | AO58: =SUM(AI58:AN58) -> 0 | AP58: =I58+AH58 -> 1922938 | AQ58: =J58+W58 -> 1426512 | AR58: =K58+AA58 -> 0 | AS58: =L58+AE58 -> 482161 | AT58: =M58+AF58 -> 14265 | AU58: =N58+AG58 -> 0 | AV58: =O58+AO58 -> 4 | AW58: =SUM(AX58:BB58) -> 0 | AX58: 0 | AY58: 0 | AZ58: 0 | BA58: 0 | BB58: 0 | BC58: 0
A59: 17 | B59: 2417 | C59: 600079562 | D59: 72742810 | E59: MŠ Liberec, Klášterní 466/4 | F59: 3111 | G59: PO | H59: KÚ | I59: 0 | J59: 0 | K59: 0 | L59: 0 | M59: 0 | N59: 0 | O59: 0 | P59: =X59*-1 -> 0 | Q59: 0 | R59: 132282 | S59: 0 | T59: 0 | U59: 0 | V59: 0 | W59: =SUM(P59:V59) -> 132282 | X59: 0 | Y59: 0 | Z59: 0 | AA59: =X59+Y59+Z59 -> 0 | AB59: =W59+AA59 -> 132282 | AC59: =ROUND((W59+X59+Y59)*33.8%,0) -> 44711 | AD59: 0 | AE59: =AC59+AD59 -> 44711 | AF59: =ROUND(W59*1%,0) -> 1323 | AG59: 0 | AH59: =AB59+AE59+AF59+AG59 -> 178316 | AI59: 0 | AJ59: 0.33 | AK59: 0 | AL59: 0 | AM59: 0 | AN59: 0 | AO59: =SUM(AI59:AN59) -> 0.33 | AP59: =I59+AH59 -> 178316 | AQ59: =J59+W59 -> 132282 | AR59: =K59+AA59 -> 0 | AS59: =L59+AE59 -> 44711 | AT59: =M59+AF59 -> 1323 | AU59: =N59+AG59 -> 0 | AV59: =O59+AO59 -> 0.33 | AW59: =SUM(AX59:BB59) -> 0 | AX59: 0 | AY59: 0 | AZ59: 0 | BA59: 0 | BB59: 0 | BC59: 0
A60: 17 | B60: 2417 | C60: 600079562 | D60: 72742810 | E60: MŠ Liberec, Klášterní 466/4 Celkem | I60: 19200825 | J60: 14243936 | K60: 0 | L60: 4814450 | M60: 142439 | N60: 0 | O60: 25 | P60: =SUM(P57:P59) -> 0 | Q60: =SUM(Q57:Q59) -> 0 | R60: =SUM(R57:R59) -> 132282 | S60: =SUM(S57:S59) -> 0 | T60: =SUM(T57:T59) -> 0 | U60: =SUM(U57:U59) -> 0 | V60: =SUM(V57:V59) -> 0 | W60: =SUM(W57:W59) -> 132282 | ... BC60: =SUM(BC57:BC59) -> 0
A61: 18 | B61: 2416 | C61: 600079571 | D61: 72742895 | E61: MŠ Liberec, Matoušova 468/12 | F61: 3111 | G61: MŠ | H61: MŠMT | I61: 5308189 | J61: 3937826 | K61: 0 | L61: 1330985 | M61: 39378 | N61: 0 | O61: 6.5645 | P61: =X61*-1 -> 0 | Q61: 0 | R61: 0 | S61: 0 | T61: 0 | U61: 0 | V61: 0 | W61: =SUM(P61:V61) -> 0 | X61: 0 | Y61: 0 | Z61: 0 | AA61: =X61+Y61+Z61 -> 0 | AB61: =W61+AA61 -> 0 | AC61: =ROUND((W61+X61+Y61)*33.8%,0) -> 0 | AD61: 0 | AE61: =AC61+AD61 -> 0 | AF61: =ROUND(W61*1%,0) -> 0 | AG61: 0 | AH61: =AB61+AE61+AF61+AG61 -> 0 | AI61: 0 | AJ61: 0 | AK61: 0 | AL61: 0 | AM61: 0 | AN61: 0 | AO61: =SUM(AI61:AN61) -> 0 | AP61: =I61+AH61 -> 5308189 | AQ61: =J61+W61 -> 3937826 | AR61: =K61+AA61 -> 0 | AS61: =L61+AE61 -> 1330985 | AT61: =M61+AF61 -> 39378 | AU61: =N61+AG61 -> 0 | AV61: =O61+AO61 -> 6.5645 | AW61: =SUM(AX61:BB61) -> 0 | AX61: 0 | AY61: 0 | AZ61: 0 | BA61: 0 | BB61: 0 | BC61: 0
A62: 18 | B62: 2416 | C62: 600079571 | D62: 72742895 | E62: MŠ Liberec, Matoušova 468/12 | F62: 3111 | G62: AP spec.tř. | H62: MŠMT | I62: 967181 | J62: 717493 | K62: 0 | L62: 242513 | M62: 7175 | N62: 0 | O62: 1.9 | P62: =X62*-1 -> 0 | Q62: 0 | R62: 0 | S62: 0 | T62: 0 | U62: 0 | V62: 0 | W62: =SUM(P62:V62) -> 0 | X62: 0 | Y62: 0 | Z62: 0 | AA62: =X62+Y62+Z62 -> 0 | AB62: =W62+AA62 -> 0 | AC62: =ROUND((W62+X62+Y62)*33.8%,0) -> 0 | AD62: 0 | AE62: =AC62+AD62 -> 0 | AF62: =ROUND(W62*1%,0) -> 0 | AG62: 0 | AH62: =AB62+AE62+AF62+AG62 -> 0 | AI62: 0 | AJ62: 0 | AK62: 0 | AL62: 0 | AM62: 0 | AN62: 0 | AO62: =SUM(AI62:AN62) -> 0 | AP62: =I62+AH62 -> 967181 | AQ62: =J62+W62 -> 717493 | AR62: =K62+AA62 -> 0 | AS62: =L62+AE62 -> 242513 | AT62: =M62+AF62 -> 7175 | AU62: =N62+AG62 -> 0 | AV62: =O62+AO62 -> 1.9 | AW62: =SUM(AX62:BB62) -> 0 | AX62: 0 | AY62: 0 | AZ62: 0 | BA62: 0 | BB62: 0 | BC62: 0
A63: 18 | B63: 2416 | C63: 600079571 | D63: 72742895 | E63: MŠ Liberec, Matoušova 468/12 Celkem | I63: 6275370 | J63: 4655319 | K63: 0 | L63: 1573498 | M63: 46553 | N63: 0 | O63: 8.4645 | P63: =SUM(P61:P62) -> 0 | Q63: =SUM(Q61:Q62) -> 0 | R63: =SUM(R61:R62) -> 0 | S63: =SUM(S61:S62) -> 0 | T63: =SUM(T61:T62) -> 0 | U63: =SUM(U61:U62) -> 0 | V63: =SUM(V61:V62) -> 0 | W63: =SUM(W61:W62) -> 0 | ... BC63: =SUM(BC61:BC62) -> 0
A64: 19 | B64: 2421 | C64: 600079163 | D64: 72743301 | E64: MŠ Liberec, Na Pískovně 761/3 | F64: 3111 | G64: MŠ | H64: MŠMT | I64: 10371380 | J64: 7693902 | K64: 0 | L64: 2600539 | M64: 76939 | N64: 0 | O64: 12.2532 | P64: =X64*-1 -> 0 | Q64: 0 | R64: 0 | S64: 0 | T64: 0 | U64: 0 | V64: 0 | W64: =SUM(P64:V64) -> 0 | X64: 0 | Y64: 0 | Z64: 0 | AA64: =X64+Y64+Z64 -> 0 | AB64: =W64+AA64 -> 0 | AC64: =ROUND((W64+X64+Y64)*33.8%,0) -> 0 | AD64: 0 | AE64: =AC64+AD64 -> 0 | AF64: =ROUND(W64*1%,0) -> 0 | AG64: 0 | AH64: =AB64+AE64+AF64+AG64 -> 0 | AI64: 0 | AJ64: 0 | AK64: 0 | AL64: 0 | AM64: 0 | AN64: 0 | AO64: =SUM(AI64:AN64) -> 0 | AP64: =I64+AH64 -> 10371380 | AQ64: =J64+W64 -> 7693902 | AR64: =K64+AA64 -> 0 | AS64: =L64+AE64 -> 2600539 | AT64: =M64+AF64 -> 76939 | AU64: =N64+AG64 -> 0 | AV64: =O64+AO64 -> 12.2532 | AW64: =SUM(AX64:BB64) -> 0 | AX64: 0 | AY64: 0 | AZ64: 0 | BA64: 0 | BB64: 0 | BC64: 0
A65: 19 | B65: 2421 | C65: 600079163 | D65: 72743301 | E65: MŠ Liberec, Na Pískovně 761/3 | F65: 3111 | G65: PO | H65: KÚ | I65: 1010466 | J65: 749604 | K65: 0 | L65: 253366 | M65: 7496 | N65: 0 | O65: 1.89 | P65: =X65*-1 -> 0 | Q65: 0 | R65: -117586 | S65: 0 | T65: 0 | U65: 0 | V65: 0 | W65: =SUM(P65:V65) -> -117586 | X65: 0 | Y65: 0 | Z65: 0 | AA65: =X65+Y65+Z65 -> 0 | AB65: =W65+AA65 -> -117586 | AC65: =ROUND((W65+X65+Y65)*33.8%,0) -> -39744 | AD65: 0 | AE65: =AC65+AD65 -> -39744 | AF65: =ROUND(W65*1%,0) -> -1176 | AG65: 0 | AH65: =AB65+AE65+AF65+AG65 -> -158506 | AI65: 0 | AJ65: -0.3 | AK65: 0 | AL65: 0 | AM65: 0 | AN65: 0 | AO65: =SUM(AI65:AN65) -> -0.3 | AP65: =I65+AH65 -> 851960 | AQ65: =J65+W65 -> 632018 | AR65: =K65+AA65 -> 0 | AS65: =L65+AE65 -> 213622 | AT65: =M65+AF65 -> 6320 | AU65: =N65+AG65 -> 0 | AV65: =O65+AO65 -> 1.59 | AW65: =SUM(AX65:BB65) -> 0 | AX65: 0 | AY65: 0 | AZ65: 0 | BA65: 0 | BB65: 0 | BC65: 0
A66: 19 | B66: 2421 | C66: 600079163 | D66: 72743301 | E66: MŠ Liberec, Na Pískovně 761/3 Celkem | I66: 11381846 | J66: 8443506 | K66: 0 | L66: 2853905 | M66: 84435 | N66: 0 | O66: 14.1432 | P66: =SUM(P64:P65) -> 0 | Q66: =SUM(Q64:Q65) -> 0 | R66: =SUM(R64:R65) -> -117586 | S66: =SUM(S64:S65) -> 0 | T66: =SUM(T64:T65) -> 0 | U66: =SUM(U64:U65) -> 0 | V66: =SUM(V64:V65) -> 0 | W66: =SUM(W64:W65) -> -117586 | ... BC66: =SUM(BC64:BC65) -> 0
A67: 20 | B67: 2419 | C67: 600079171 | D67: 72742500 | E67: MŠ Liberec, Nezvalova 661/20 | F67: 3111 | G67: MŠ | H67: MŠMT | I67: 5156944 | J67: 3825626 | K67: 0 | L67: 1293062 | M67: 38256 | N67: 0 | O67: 6.2419 | P67: =X67*-1 -> 0 | Q67: 0 | R67: 0 | S67: 0 | T67: 0 | U67: 0 | V67: 0 | W67: =SUM(P67:V67) -> 0 | X67: 0 | Y67: 0 | Z67: 0 | AA67: =X67+Y67+Z67 -> 0 | AB67: =W67+AA67 -> 0 | AC67: =ROUND((W67+X67+Y67)*33.8%,0) -> 0 | AD67: 0 | AE67: =AC67+AD67 -> 0 | AF67: =ROUND(W67*1%,0) -> 0 | AG67: 0 | AH67: =AB67+AE67+AF67+AG67 -> 0 | AI67: 0 | AJ67: 0 | AK67: 0 | AL67: 0 | AM67: 0 | AN67: 0 | AO67: =SUM(AI67:AN67) -> 0 | AP67: =I67+AH67 -> 5156944 | AQ67: =J67+W67 -> 3825626 | AR67: =K67+AA67 -> 0 | AS67: =L67+AE67 -> 1293062 | AT67: =M67+AF67 -> 38256 | AU67: =N67+AG67 -> 0 | AV67: =O67+AO67 -> 6.2419 | AW67: =SUM(AX67:BB67) -> 0 | AX67: 0 | AY67: 0 | AZ67: 0 | BA67: 0 | BB67: 0 | BC67: 0
A68: 20 | B68: 2419 | C68: 600079171 | D68: 72742500 | E68: MŠ Liberec, Nezvalova 661/20 | F68: 3111 | G68: PO | H68: KÚ | I68: 0 | J68: 0 | K68: 0 | L68: 0 | M68: 0 | N68: 0 | O68: 0 | P68: =X68*-1 -> 0 | Q68: 0 | R68: 0 | S68: 0 | T68: 0 | U68: 0 | V68: 0 | W68: =SUM(P68:V68) -> 0 | X68: 0 | Y68: 0 | Z68: 0 | AA68: =X68+Y68+Z68 -> 0 | AB68: =W68+AA68 -> 0 | AC68: =ROUND((W68+X68+Y68)*33.8%,0) -> 0 | AD68: 0 | AE68: =AC68+AD68 -> 0 | AF68: =ROUND(W68*1%,0) -> 0 | AG68: 0 | AH68: =AB68+AE68+AF68+AG68 -> 0 | AI68: 0 | AJ68: 0 | AK68: 0 | AL68: 0 | AM68: 0 | AN68: 0 | AO68: =SUM(AI68:AN68) -> 0 | AP68: =I68+AH68 -> 0 | AQ68: =J68+W68 -> 0 | AR68: =K68+AA68 -> 0 | AS68: =L68+AE68 -> 0 | AT68: =M68+AF68 -> 0 | AU68: =N68+AG68 -> 0 | AV68: =O68+AO68 -> 0 | AW68: =SUM(AX68:BB68) -> 0 | AX68: 0 | AY68: 0 | AZ68: 0 | BA68: 0 | BB68: 0 | BC68: 0
A69: 20 | B69: 2419 | C69: 600079171 | D69: 72742500 | E69: MŠ Liberec, Nezvalova 661/20 Celkem | I69: 5156944 | J69: 3825626 | K69: 0 | L69: 1293062 | M69: 38256 | N69: 0 | O69: 6.2419 | P69: =SUM(P67:P68) -> 0 | Q69: =SUM(Q67:Q68) -> 0 | R69: =SUM(R67:R68) -> 0 | S69: =SUM(S67:S68) -> 0 | T69: =SUM(T67:T68) -> 0 | U69: =SUM(U67:U68) -> 0 | V69: =SUM(V67:V68) -> 0 | W69: =SUM(W67:W68) -> 0 | ... BC69: =SUM(BC67:BC68) -> 0
A70: 21 | B70: 2430 | C70: 600079180 | D70: 46747532 | E70: MŠ Liberec, Oldřichova 836/5 | F70: 3111 | G70: MŠ | H70: MŠMT | I70: 5053083 | J70: 3748578 | K70: 0 | L70: 1267019 | M70: 37486 | N70: 0 | O70: 6 | P70: =X70*-1 -> 0 | Q70: 0 | R70: 0 | S70: 0 | T70: 0 | U70: 0 | V70: 0 | W70: =SUM(P70:V70) -> 0 | X70: 0 | Y70: 0 | Z70: 0 | AA70: =X70+Y70+Z70 -> 0 | AB70: =W70+AA70 -> 0 | AC70: =ROUND((W70+X70+Y70)*33.8%,0) -> 0 | AD70: 0 | AE70: =AC70+AD70 -> 0 | AF70: =ROUND(W70*1%,0) -> 0 | AG70: 0 | AH70: =AB70+AE70+AF70+AG70 -> 0 | AI70: 0 | AJ70: 0 | AK70: 0 | AL70: 0 | AM70: 0 | AN70: 0 | AO70: =SUM(AI70:AN70) -> 0 | AP70: =I70+AH70 -> 5053083 | AQ70: =J70+W70 -> 3748578 | AR70: =K70+AA70 -> 0 | AS70: =L70+AE70 -> 1267019 | AT70: =M70+AF70 -> 37486 | AU70: =N70+AG70 -> 0 | AV70: =O70+AO70 -> 6 | AW70: =SUM(AX70:BB70) -> 0 | AX70: 0 | AY70: 0 | AZ70: 0 | BA70: 0 | BB70: 0 | BC70: 0
A71: 21 | B71: 2430 | C71: 600079180 | D71: 46747532 | E71: MŠ Liberec, Oldřichova 836/5 | F71: 3111 | G71: PO | H71: KÚ | I71: 0 | J71: 0 | K71: 0 | L71: 0 | M71: 0 | N71: 0 | O71: 0 | P71: =X71*-1 -> 0 | Q71: 0 | R71: 0 | S71: 0 | T71: 0 | U71: 0 | V71: 0 | W71: =SUM(P71:V71) -> 0 | X71: 0 | Y71: 0 | Z71: 0 | AA71: =X71+Y71+Z71 -> 0 | AB71: =W71+AA71 -> 0 | AC71: =ROUND((W71+X71+Y71)*33.8%,0) -> 0 | AD71: 0 | AE71: =AC71+AD71 -> 0 | AF71: =ROUND(W71*1%,0) -> 0 | AG71: 0 | AH71: =AB71+AE71+AF71+AG71 -> 0 | AI71: 0 | AJ71: 0 | AK71: 0 | AL71: 0 | AM71: 0 | AN71: 0 | AO71: =SUM(AI71:AN71) -> 0 | AP71: =I71+AH71 -> 0 | AQ71: =J71+W71 -> 0 | AR71: =K71+AA71 -> 0 | AS71: =L71+AE71 -> 0 | AT71: =M71+AF71 -> 0 | AU71: =N71+AG71 -> 0 | AV71: =O71+AO71 -> 0 | AW71: =SUM(AX71:BB71) -> 0 | AX71: 0 | AY71: 0 | AZ71: 0 | BA71: 0 | BB71: 0 | BC71: 0
A72: 21 | B72: 2430 | C72: 600079180 | D72: 46747532 | E72: MŠ Liberec, Oldřichova 836/5 Celkem | I72: 5053083 | J72: 3748578 | K72: 0 | L72: 1267019 | M72: 37486 | N72: 0 | O72: 6 | P72: =SUM(P70:P71) -> 0 | Q72: =SUM(Q70:Q71) -> 0 | R72: =SUM(R70:R71) -> 0 | S72: =SUM(S70:S71) -> 0 | T72: =SUM(T70:T71) -> 0 | U72: =SUM(U70:U71) -> 0 | V72: =SUM(V70:V71) -> 0 | W72: =SUM(W70:W71) -> 0 | ... BC72: =SUM(BC70:BC71) -> 0
A73: 22 | B73: 2409 | C73: 600079635 | D73: 72742747 | E73: MŠ Liberec, Purkyňova 458/19 | F73: 3111 | G73: MŠ | H73: MŠMT | I73: 7478701 | J73: 5547998 | K73: 0 | L73: 1875223 | M73: 55480 | N73: 0 | O73: 8.9 | P73: =X73*-1 -> 0 | Q73: 0 | R73: 0 | S73: 0 | T73: 0 | U73: 0 | V73: 0 | W73: =SUM(P73:V73) -> 0 | X73: 0 | Y73: 0 | Z73: 0 | AA73: =X73+Y73+Z73 -> 0 | AB73: =W73+AA73 -> 0 | AC73: =ROUND((W73+X73+Y73)*33.8%,0) -> 0 | AD73: 0 | AE73: =AC73+AD73 -> 0 | AF73: =ROUND(W73*1%,0) -> 0 | AG73: 0 | AH73: =AB73+AE73+AF73+AG73 -> 0 | AI73: 0 | AJ73: 0 | AK73: 0 | AL73: 0 | AM73: 0 | AN73: 0 | AO73: =SUM(AI73:AN73) -> 0 | AP73: =I73+AH73 -> 7478701 | AQ73: =J73+W73 -> 5547998 | AR73: =K73+AA73 -> 0 | AS73: =L73+AE73 -> 1875223 | AT73: =M73+AF73 -> 55480 | AU73: =N73+AG73 -> 0 | AV73: =O73+AO73 -> 8.9 | AW73: =SUM(AX73:BB73) -> 0 | AX73: 0 | AY73: 0 | AZ73: 0 | BA73: 0 | BB73: 0 | BC73: 0
A74: 22 | B74: 2409 | C74: 600079635 | D74: 72742747 | E74: MŠ Liberec, Purkyňova 458/19 | F74: 3111 | G74: PO | H74: KÚ | I74: 802426 | J74: 595271 | K74: 0 | L74: 201202 | M74: 5953 | N74: 0 | O74: 1.5 | P74: =X74*-1 -> 0 | Q74: 0 | R74: 0 | S74: 0 | T74: 0 | U74: 0 | V74: 0 | W74: =SUM(P74:V74) -> 0 | X74: 0 | Y74: 0 | Z74: 0 | AA74: =X74+Y74+Z74 -> 0 | AB74: =W74+AA74 -> 0 | AC74: =ROUND((W74+X74+Y74)*33.8%,0) -> 0 | AD74: 0 | AE74: =AC74+AD74 -> 0 | AF74: =ROUND(W74*1%,0) -> 0 | AG74: 0 | AH74: =AB74+AE74+AF74+AG74 -> 0 | AI74: 0 | AJ74: 0 | AK74: 0 | AL74: 0 | AM74: 0 | AN74: 0 | AO74: =SUM(AI74:AN74) -> 0 | AP74: =I74+AH74 -> 802426 | AQ74: =J74+W74 -> 595271 | AR74: =K74+AA74 -> 0 | AS74: =L74+AE74 -> 201202 | AT74: =M74+AF74 -> 5953 | AU74: =N74+AG74 -> 0 | AV74: =O74+AO74 -> 1.5 | AW74: =SUM(AX74:BB74) -> 0 | AX74: 0 | AY74: 0 | AZ74: 0 | BA74: 0 | BB74: 0 | BC74: 0
A75: 22 | B75: 2409 | C75: 600079635 | D75: 72742747 | E75: MŠ Liberec, Purkyňova 458/19 Celkem | I75: 8281127 | J75: 6143269 | K75: 0 | L75: 2076425 | M75: 61433 | N75: 0 | O75: 10.4 | P75: =SUM(P73:P74) -> 0 | Q75: =SUM(Q73:Q74) -> 0 | R75: =SUM(R73:R74) -> 0 | S75: =SUM(S73:S74) -> 0 | T75: =SUM(T73:T74) -> 0 | U75: =SUM(U73:U74) -> 0 | V75: =SUM(V73:V74) -> 0 | W75: =SUM(W73:W74) -> 0 | ... BC75: =SUM(BC73:BC74) -> 0
A76: 23 | B76: 2429 | C76: 600079244 | D76: 72741708 | E76: MŠ Liberec, Strakonická 211/12 | F76: 3111 | G76: MŠ | H76: MŠMT | I76: 6886483 | J76: 5108667 | K76: 0 | L76: 1726729 | M76: 51087 | N76: 0 | O76: 8.4516 | P76: =X76*-1 -> 0 | Q76: 0 | R76: 0 | S76: 0 | T76: 0 | U76: 0 | V76: 0 | W76: =SUM(P76:V76) -> 0 | X76: 0 | Y76: 0 | Z76: 0 | AA76: =X76+Y76+Z76 -> 0 | AB76: =W76+AA76 -> 0 | AC76: =ROUND((W76+X76+Y76)*33.8%,0) -> 0 | AD76: 0 | AE76: =AC76+AD76 -> 0 | AF76: =ROUND(W76*1%,0) -> 0 | AG76: 0 | AH76: =AB76+AE76+AF76+AG76 -> 0 | AI76: 0 | AJ76: 0 | AK76: 0 | AL76: 0 | AM76: 0 | AN76: 0 | AO76: =SUM(AI76:AN76) -> 0 | AP76: =I76+AH76 -> 6886483 | AQ76: =J76+W76 -> 5108667 | AR76: =K76+AA76 -> 0 | AS76: =L76+AE76 -> 1726729 | AT76: =M76+AF76 -> 51087 | AU76: =N76+AG76 -> 0 | AV76: =O76+AO76 -> 8.4516 | AW76: =SUM(AX76:BB76) -> 0 | AX76: 0 | AY76: 0 | AZ76: 0 | BA76: 0 | BB76: 0 | BC76: 0
A77: 23 | B77: 2429 | C77: 600079244 | D77: 72741708 | E77: MŠ Liberec, Strakonická 211/12 | F77: 3111 | G77: PO | H77: KÚ | I77: 534949 | J77: 396847 | K77: 0 | L77: 134134 | M77: 3968 | N77: 0 | O77: 1 | P77: =X77*-1 -> 0 | Q77: 0 | R77: -33640 | S77: 0 | T77: 0 | U77: 0 | V77: 0 | W77: =SUM(P77:V77) -> -33640 | X77: 0 | Y77: 0 | Z77: 0 | AA77: =X77+Y77+Z77 -> 0 | AB77: =W77+AA77 -> -33640 | AC77: =ROUND((W77+X77+Y77)*33.8%,0) -> -11370 | AD77: 0 | AE77: =AC77+AD77 -> -11370 | AF77: =ROUND(W77*1%,0) -> -336 | AG77: 0 | AH77: =AB77+AE77+AF77+AG77 -> -45346 | AI77: 0 | AJ77: 0 | AK77: 0 | AL77: 0 | AM77: 0 | AN77: 0 | AO77: =SUM(AI77:AN77) -> 0 | AP77: =I77+AH77 -> 489603 | AQ77: =J77+W77 -> 363207 | AR77: =K77+AA77 -> 0 | AS77: =L77+AE77 -> 122764 | AT77: =M77+AF77 -> 3632 | AU77: =N77+AG77 -> 0 | AV77: =O77+AO77 -> 1 | AW77: =SUM(AX77:BB77) -> 0 | AX77: 0 | AY77: 0 | AZ77: 0 | BA77: 0 | BB77: 0 | BC77: 0
A78: 23 | B78: 2429 | C78: 600079244 | D78: 72741708 | E78: MŠ Liberec, Strakonická 211/12 Celkem | I78: 7421432 | J78: 5505514 | K78: 0 | L78: 1860863 | M78: 55055 | N78: 0 | O78: 9.4516 | P78: =SUM(P76:P77) -> 0 | Q78: =SUM(Q76:Q77) -> 0 | R78: =SUM(R76:R77) -> -33640 | S78: =SUM(S76:S77) -> 0 | T78: =SUM(T76:T77) -> 0 | U78: =SUM(U76:U77) -> 0 | V78: =SUM(V76:V77) -> 0 | W78: =SUM(W76:W77) -> -33640 | ... BC78: =SUM(BC76:BC77) -> 0
A79: 24 | B79: 2412 | C79: 600079252 | D79: 72742429 | E79: MŠ Liberec, Stromovka 285/1 | F79: 3111 | G79: MŠ | H79: MŠMT | I79: 11557938 | J79: 8574138 | K79: 0 | L79: 2898059 | M79: 85741 | N79: 0 | O79: 14.8709 | P79: =X79*-1 -> 0 | Q79: 0 | R79: 0 | S79: 0 | T79: 0 | U79: 0 | V79: 0 | W79: =SUM(P79:V79) -> 0 | X79: 0 | Y79: 0 | Z79: 0 | AA79: =X79+Y79+Z79 -> 0 | AB79: =W79+AA79 -> 0 | AC79: =ROUND((W79+X79+Y79)*33.8%,0) -> 0 | AD79: 0 | AE79: =AC79+AD79 -> 0 | AF79: =ROUND(W79*1%,0) -> 0 | AG79: 0 | AH79: =AB79+AE79+AF79+AG79 -> 0 | AI79: 0 | AJ79: 0 | AK79: 0 | AL79: 0 | AM79: 0 | AN79: 0 | AO79: =SUM(AI79:AN79) -> 0 | AP79: =I79+AH79 -> 11557938 | AQ79: =J79+W79 -> 8574138 | AR79: =K79+AA79 -> 0 | AS79: =L79+AE79 -> 2898059 | AT79: =M79+AF79 -> 85741 | AU79: =N79+AG79 -> 0 | AV79: =O79+AO79 -> 14.8709 | AW79: =SUM(AX79:BB79) -> 0 | AX79: 0 | AY79: 0 | AZ79: 0 | BA79: 0 | BB79: 0 | BC79: 0
A80: 24 | B80: 2412 | C80: 600079252 | D80: 72742429 | E80: MŠ Liberec, Stromovka 285/1 | F80: 3111 | G80: PO | H80: KÚ | I80: 1979860 | J80: 1451210 | K80: 17660 | L80: 496478 | M80: 14512 | N80: 0 | O80: 3.91 | P80: =X80*-1 -> 0 | Q80: 0 | R80: -141112 | S80: 0 | T80: 0 | U80: 0 | V80: 0 | W80: =SUM(P80:V80) -> -141112 | X80: 0 | Y80: 0 | Z80: 0 | AA80: =X80+Y80+Z80 -> 0 | AB80: =W80+AA80 -> -141112 | AC80: =ROUND((W80+X80+Y80)*33.8%,0) -> -47696 | AD80: 0 | AE80: =AC80+AD80 -> -47696 | AF80: =ROUND(W80*1%,0) -> -1411 | AG80: 0 | AH80: =AB80+AE80+AF80+AG80 -> -190219 | AI80: 0 | AJ80: -0.35 | AK80: 0 | AL80: 0 | AM80: 0 | AN80: 0 | AO80: =SUM(AI80:AN80) -> -0.35 | AP80: =I80+AH80 -> 1789641 | AQ80: =J80+W80 -> 1310098 | AR80: =K80+AA80 -> 17660 | AS80: =L80+AE80 -> 448782 | AT80: =M80+AF80 -> 13101 | AU80: =N80+AG80 -> 0 | AV80: =O80+AO80 -> 3.56 | AW80: =SUM(AX80:BB80) -> 0 | AX80: 0 | AY80: 0 | AZ80: 0 | BA80: 0 | BB80: 0 | BC80: 0
A81: 24 | B81: 2412 | C81: 600079252 | D81: 72742429 | E81: MŠ Liberec, Stromovka 285/1 Celkem | I81: 13537798 | J81: 10025348 | K81: 17660 | L81: 3394537 | M81: 100253 | N81: 0 | O81: 18.7809 | P81: =SUM(P79:P80) -> 0 | Q81: =SUM(Q79:Q80) -> 0 | R81: =SUM(R79:R80) -> -141112 | S81: =SUM(S79:S80) -> 0 | T81: =SUM(T79:T80) -> 0 | U81: =SUM(U79:U80) -> 0 | V81: =SUM(V79:V80) -> 0 | W81: =SUM(W79:W80) -> -141112 | ... BC81: =SUM(BC79:BC80) -> 0
A82: 25 | B82: 2418 | C82: 600079261 | D82: 72741783 | E82: MŠ Liberec, Školní vršek 503/3 | F82: 3111 | G82: MŠ | H82: MŠMT | I82: 3283271 | J82: 2435661 | K82: 0 | L82: 823253 | M82: 24357 | N82: 0 | O82: 4 | P82: =X82*-1 -> 0 | Q82: 0 | R82: 0 | S82: 0 | T82: 0 | U82: 0 | V82: 0 | W82: =SUM(P82:V82) -> 0 | X82: 0 | Y82: 0 | Z82: 0 | AA82: =X82+Y82+Z82 -> 0 | AB82: =W82+AA82 -> 0 | AC82: =ROUND((W82+X82+Y82)*33.8%,0) -> 0 | AD82: 0 | AE82: =AC82+AD82 -> 0 | AF82: =ROUND(W82*1%,0) -> 0 | AG82: 0 | AH82: =AB82+AE82+AF82+AG82 -> 0 | AI82: 0 | AJ82: 0 | AK82: 0 | AL82: 0 | AM82: 0 | AN82: 0 | AO82: =SUM(AI82:AN82) -> 0 | AP82: =I82+AH82 -> 3283271 | AQ82: =J82+W82 -> 2435661 | AR82: =K82+AA82 -> 0 | AS82: =L82+AE82 -> 823253 | AT82: =M82+AF82 -> 24357 | AU82: =N82+AG82 -> 0 | AV82: =O82+AO82 -> 4 | AW82: =SUM(AX82:BB82) -> 0 | AX82: 0 | AY82: 0 | AZ82: 0 | BA82: 0 | BB82: 0 | BC82: 0
A83: 25 | B83: 2418 | C83: 600079261 | D83: 72741783 | E83: MŠ Liberec, Školní vršek 503/3 Celkem | I83: 3283271 | J83: 2435661 | K83: 0 | L83: 823253 | M83: 24357 | N83: 0 | O83: 4 | P83: =SUM(P82:P82) -> 0 | Q83: =SUM(Q82:Q82) -> 0 | R83: =SUM(R82:R82) -> 0 | S83: =SUM(S82:S82) -> 0 | T83: =SUM(T82:T82) -> 0 | U83: =SUM(U82:U82) -> 0 | V83: =SUM(V82:V82) -> 0 | W83: =SUM(W82:W82) -> 0 | ... BC83: =SUM(BC82:BC82) -> 0
A84: 26 | B84: 2414 | C84: 600079295 | D84: 72742020 | E84: MŠ Liberec, Truhlářská 340/7 | F84: 3111 | G84: MŠ | H84: MŠMT | I84: 4829785 | J84: 3582927 | K84: 0 | L84: 1211029 | M84: 35829 | N84: 0 | O84: 6.2419 | P84: =X84*-1 -> -10000 | Q84: 0 | R84: 0 | S84: 0 | T84: 0 | U84: 0 | V84: 0 | W84: =SUM(P84:V84) -> -10000 | X84: 10000 | Y84: 0 | Z84: 0 | AA84: =X84+Y84+Z84 -> 10000 | AB84: =W84+AA84 -> 0 | AC84: =ROUND((W84+X84+Y84)*33.8%,0) -> 0 | AD84: 0 | AE84: =AC84+AD84 -> 0 | AF84: =ROUND(W84*1%,0) -> -100 | AG84: 0 | AH84: =AB84+AE84+AF84+AG84 -> -100 | AI84: -0.02 | AJ84: 0 | AK84: 0 | AL84: 0 | AM84: 0 | AN84: 0 | AO84: =SUM(AI84:AN84) -> -0.02 | AP84: =I84+AH84 -> 4829685 | AQ84: =J84+W84 -> 3572927 | AR84: =K84+AA84 -> 10000 | AS84: =L84+AE84 -> 1211029 | AT84: =M84+AF84 -> 35729 | AU84: =N84+AG84 -> 0 | AV84: =O84+AO84 -> 6.2219 | AW84: =SUM(AX84:BB84) -> 0 | AX84: 0 | AY84: 0 | AZ84: 0 | BA84: 0 | BB84: 0 | BC84: 0
A85: 26 | B85: 2414 | C85: 600079295 | D85: 72742020 | E85: MŠ Liberec, Truhlářská 340/7 | F85: 3111 | G85: PO | H85: KÚ | I85: 66869 | J85: 49606 | K85: 0 | L85: 16767 | M85: 496 | N85: 0 | O85: 0.12 | P85: =X85*-1 -> 0 | Q85: 0 | R85: 99212 | S85: 0 | T85: 0 | U85: 0 | V85: 0 | W85: =SUM(P85:V85) -> 99212 | X85: 0 | Y85: 0 | Z85: 0 | AA85: =X85+Y85+Z85 -> 0 | AB85: =W85+AA85 -> 99212 | AC85: =ROUND((W85+X85+Y85)*33.8%,0) -> 33534 | AD85: 0 | AE85: =AC85+AD85 -> 33534 | AF85: =ROUND(W85*1%,0) -> 992 | AG85: 0 | AH85: =AB85+AE85+AF85+AG85 -> 133738 | AI85: 0 | AJ85: 0.25 | AK85: 0 | AL85: 0 | AM85: 0 | AN85: 0 | AO85: =SUM(AI85:AN85) -> 0.25 | AP85: =I85+AH85 -> 200607 | AQ85: =J85+W85 -> 148818 | AR85: =K85+AA85 -> 0 | AS85: =L85+AE85 -> 50301 | AT85: =M85+AF85 -> 1488 | AU85: =N85+AG85 -> 0 | AV85: =O85+AO85 -> 0.37 | AW85: =SUM(AX85:BB85) -> 0 | AX85: 0 | AY85: 0 | AZ85: 0 | BA85: 0 | BB85: 0 | BC85: 0
A86: 26 | B86: 2414 | C86: 600079295 | D86: 72742020 | E86: MŠ Liberec, Truhlářská 340/7 Celkem | I86: 4896654 | J86: 3632533 | K86: 0 | L86: 1227796 | M86: 36325 | N86: 0 | O86: 6.3619 | P86: =SUM(P84:P85) -> -10000 | Q86: =SUM(Q84:Q85) -> 0 | R86: =SUM(R84:R85) -> 99212 | S86: =SUM(S84:S85) -> 0 | T86: =SUM(T84:T85) -> 0 | U86: =SUM(U84:U85) -> 0 | V86: =SUM(V84:V85) -> 0 | W86: =SUM(W84:W85) -> 89212 | ... BC86: =SUM(BC84:BC85) -> 0
A87: 27 | B87: 2443 | C87: 600079309 | D87: 72743051 | E87: MŠ Liberec, U Školky 67 | F87: 3111 | G87: MŠ | H87: MŠMT | I87: 4812223 | J87: 3569898 | K87: 0 | L87: 1206626 | M87: 35699 | N87: 0 | O87: 6 | P87: =X87*-1 -> 0 | Q87: 0 | R87: 0 | S87: 0 | T87: 0 | U87: 0 | V87: 0 | W87: =SUM(P87:V87) -> 0 | X87: 0 | Y87: 0 | Z87: 0 | AA87: =X87+Y87+Z87 -> 0 | AB87: =W87+AA87 -> 0 | AC87: =ROUND((W87+X87+Y87)*33.8%,0) -> 0 | AD87: 0 | AE87: =AC87+AD87 -> 0 | AF87: =ROUND(W87*1%,0) -> 0 | AG87: 0 | AH87: =AB87+AE87+AF87+AG87 -> 0 | AI87: 0 | AJ87: 0 | AK87: 0 | AL87: 0 | AM87: 0 | AN87: 0 | AO87: =SUM(AI87:AN87) -> 0 | AP87: =I87+AH87 -> 4812223 | AQ87: =J87+W87 -> 3569898 | AR87: =K87+AA87 -> 0 | AS87: =L87+AE87 -> 1206626 | AT87: =M87+AF87 -> 35699 | AU87: =N87+AG87 -> 0 | AV87: =O87+AO87 -> 6 | AW87: =SUM(AX87:BB87) -> 0 | AX87: 0 | AY87: 0 | AZ87: 0 | BA87: 0 | BB87: 0 | BC87: 0
A88: 27 | B88: 2443 | C88: 600079309 | D88: 72743051 | E88: MŠ Liberec, U Školky 67 | F88: 3111 | G88: PO | H88: KÚ | I88: 0 | J88: 0 | K88: 0 | L88: 0 | M88: 0 | N88: 0 | O88: 0 | P88: =X88*-1 -> 0 | Q88: 0 | R88: 0 | S88: 0 | T88: 0 | U88: 0 | V88: 0 | W88: =SUM(P88:V88) -> 0 | X88: 0 | Y88: 0 | Z88: 0 | AA88: =X88+Y88+Z88 -> 0 | AB88: =W88+AA88 -> 0 | AC88: =ROUND((W88+X88+Y88)*33.8%,0) -> 0 | AD88: 0 | AE88: =AC88+AD88 -> 0 | AF88: =ROUND(W88*1%,0) -> 0 | AG88: 0 | AH88: =AB88+AE88+AF88+AG88 -> 0 | AI88: 0 | AJ88: 0 | AK88: 0 | AL88: 0 | AM88: 0 | AN88: 0 | AO88: =SUM(AI88:AN88) -> 0 | AP88: =I88+AH88 -> 0 | AQ88: =J88+W88 -> 0 | AR88: =K88+AA88 -> 0 | AS88: =L88+AE88 -> 0 | AT88: =M88+AF88 -> 0 | AU88: =N88+AG88 -> 0 | AV88: =O88+AO88 -> 0 | AW88: =SUM(AX88:BB88) -> 0 | AX88: 0 | AY88: 0 | AZ88: 0 | BA88: 0 | BB88: 0 | BC88: 0
A89: 27 | B89: 2443 | C89: 600079309 | D89: 72743051 | E89: MŠ Liberec, U Školky 67 Celkem | I89: 4812223 | J89: 3569898 | K89: 0 | L89: 1206626 | M89: 35699 | N89: 0 | O89: 6 | P89: =SUM(P87:P88) -> 0 | Q89: =SUM(Q87:Q88) -> 0 | R89: =SUM(R87:R88) -> 0 | S89: =SUM(S87:S88) -> 0 | T89: =SUM(T87:T88) -> 0 | U89: =SUM(U87:U88) -> 0 | V89: =SUM(V87:V88) -> 0 | W89: =SUM(W87:W88) -> 0 | ... BC89: =SUM(BC87:BC88) -> 0
A90: 28 | B90: 2425 | C90: 600079333 | D90: 72741864 | E90: MŠ Liberec, Vzdušná 509/20 | F90: 3111 | G90: MŠ | H90: MŠMT | I90: 3185046 | J90: 2362794 | K90: 0 | L90: 798624 | M90: 23628 | N90: 0 | O90: 4 | P90: =X90*-1 -> 0 | Q90: 0 | R90: 0 | S90: 0 | T90: 0 | U90: 0 | V90: 0 | W90: =SUM(P90:V90) -> 0 | X90: 0 | Y90: 0 | Z90: 0 | AA90: =X90+Y90+Z90 -> 0 | AB90: =W90+AA90 -> 0 | AC90: =ROUND((W90+X90+Y90)*33.8%,0) -> 0 | AD90: 0 | AE90: =AC90+AD90 -> 0 | AF90: =ROUND(W90*1%,0) -> 0 | AG90: 0 | AH90: =AB90+AE90+AF90+AG90 -> 0 | AI90: 0 | AJ90: 0 | AK90: 0 | AL90: 0 | AM90: 0 | AN90: 0 | AO90: =SUM(AI90:AN90) -> 0 | AP90: =I90+AH90 -> 3185046 | AQ90: =J90+W90 -> 2362794 | AR90: =K90+AA90 -> 0 | AS90: =L90+AE90 -> 798624 | AT90: =M90+AF90 -> 23628 | AU90: =N90+AG90 -> 0 | AV90: =O90+AO90 -> 4 | AW90: =SUM(AX90:BB90) -> 0 | AX90: 0 | AY90: 0 | AZ90: 0 | BA90: 0 | BB90: 0 | BC90: 0
A91: 28 | B91: 2425 | C91: 600079333 | D91: 72741864 | E91: MŠ Liberec, Vzdušná 509/20 Celkem | I91: 3185046 | J91: 2362794 | K91: 0 | L91: 798624 | M91: 23628 | N91: 0 | O91: 4 | P91: =SUM(P90:P90) -> 0 | Q91: =SUM(Q90:Q90) -> 0 | R91: =SUM(R90:R90) -> 0 | S91: =SUM(S90:S90) -> 0 | T91: =SUM(T90:T90) -> 0 | U91: =SUM(U90:U90) -> 0 | V91: =SUM(V90:V90) -> 0 | W91: =SUM(W90:W90) -> 0 | ... BC91: =SUM(BC90:BC90) -> 0
A92: 29 | B92: 2433 | C92: 600079643 | D92: 66113334 | E92: MŠ Liberec, Žitavská 122/68 | F92: 3111 | G92: MŠ | H92: MŠMT | I92: 6600280 | J92: 4896350 | K92: 0 | L92: 1654966 | M92: 48964 | N92: 0 | O92: 8.4193 | P92: =X92*-1 -> 0 | Q92: 0 | R92: 0 | S92: 0 | T92: 0 | U92: 0 | V92: 0 | W92: =SUM(P92:V92) -> 0 | X92: 0 | Y92: 0 | Z92: 0 | AA92: =X92+Y92+Z92 -> 0 | AB92: =W92+AA92 -> 0 | AC92: =ROUND((W92+X92+Y92)*33.8%,0) -> 0 | AD92: 0 | AE92: =AC92+AD92 -> 0 | AF92: =ROUND(W92*1%,0) -> 0 | AG92: 0 | AH92: =AB92+AE92+AF92+AG92 -> 0 | AI92: 0 | AJ92: 0 | AK92: 0 | AL92: 0 | AM92: 0 | AN92: 0 | AO92: =SUM(AI92:AN92) -> 0 | AP92: =I92+AH92 -> 6600280 | AQ92: =J92+W92 -> 4896350 | AR92: =K92+AA92 -> 0 | AS92: =L92+AE92 -> 1654966 | AT92: =M92+AF92 -> 48964 | AU92: =N92+AG92 -> 0 | AV92: =O92+AO92 -> 8.4193 | AW92: =SUM(AX92:BB92) -> 0 | AX92: 0 | AY92: 0 | AZ92: 0 | BA92: 0 | BB92: 0 | BC92: 0
A93: 29 | B93: 2433 | C93: 600079643 | D93: 66113334 | E93: MŠ Liberec, Žitavská 122/68 | F93: 3111 | G93: PO | H93: KÚ | I93: 1277941 | J93: 948028 | K93: 0 | L93: 320433 | M93: 9480 | N93: 0 | O93: 2.39 | P93: =X93*-1 -> 0 | Q93: 0 | R93: 132282 | S93: 0 | T93: 0 | U93: 0 | V93: 0 | W93: =SUM(P93:V93) -> 132282 | X93: 0 | Y93: 0 | Z93: 0 | AA93: =X93+Y93+Z93 -> 0 | AB93: =W93+AA93 -> 132282 | AC93: =ROUND((W93+X93+Y93)*33.8%,0) -> 44711 | AD93: 0 | AE93: =AC93+AD93 -> 44711 | AF93: =ROUND(W93*1%,0) -> 1323 | AG93: 0 | AH93: =AB93+AE93+AF93+AG93 -> 178316 | AI93: 0 | AJ93: 0.33 | AK93: 0 | AL93: 0 | AM93: 0 | AN93: 0 | AO93: =SUM(AI93:AN93) -> 0.33 | AP93: =I93+AH93 -> 1456257 | AQ93: =J93+W93 -> 1080310 | AR93: =K93+AA93 -> 0 | AS93: =L93+AE93 -> 365144 | AT93: =M93+AF93 -> 10803 | AU93: =N93+AG93 -> 0 | AV93: =O93+AO93 -> 2.72 | AW93: =SUM(AX93:BB93) -> 0 | AX93: 0 | AY93: 0 | AZ93: 0 | BA93: 0 | BB93: 0 | BC93: 0
A94: 29 | B94: 2433 | C94: 600079643 | D94: 66113334 | E94: MŠ Liberec, Žitavská 122/68 Celkem | I94: 7878221 | J94: 5844378 | K94: 0 | L94: 1975399 | M94: 58444 | N94: 0 | O94: 10.8093 | P94: =SUM(P92:P93) -> 0 | Q94: =SUM(Q92:Q93) -> 0 | R94: =SUM(R92:R93) -> 132282 | S94: =SUM(S92:S93) -> 0 | T94: =SUM(T92:T93) -> 0 | U94: =SUM(U92:U93) -> 0 | V94: =SUM(V92:V93) -> 0 | W94: =SUM(W92:W93) -> 132282 | ... BC94: =SUM(BC92:BC93) -> 0
A95: 30 | B95: 2435 | C95: 600079341 | D95: 72743069 | E95: MŠ Liberec, Žitná 832/19 | F95: 3111 | G95: MŠ | H95: MŠMT | I95: 6856747 | J95: 5086607 | K95: 0 | L95: 1719274 | M95: 50866 | N95: 0 | O95: 8.0731 | P95: =X95*-1 -> 0 | Q95: 0 | R95: 0 | S95: 0 | T95: 0 | U95: 0 | V95: 0 | W95: =SUM(P95:V95) -> 0 | X95: 0 | Y95: 0 | Z95: 0 | AA95: =X95+Y95+Z95 -> 0 | AB95: =W95+AA95 -> 0 | AC95: =ROUND((W95+X95+Y95)*33.8%,0) -> 0 | AD95: 0 | AE95: =AC95+AD95 -> 0 | AF95: =ROUND(W95*1%,0) -> 0 | AG95: 0 | AH95: =AB95+AE95+AF95+AG95 -> 0 | AI95: 0 | AJ95: 0 | AK95: 0 | AL95: 0 | AM95: 0 | AN95: 0 | AO95: =SUM(AI95:AN95) -> 0 | AP95: =I95+AH95 -> 6856747 | AQ95: =J95+W95 -> 5086607 | AR95: =K95+AA95 -> 0 | AS95: =L95+AE95 -> 1719274 | AT95: =M95+AF95 -> 50866 | AU95: =N95+AG95 -> 0 | AV95: =O95+AO95 -> 8.0731 | AW95: =SUM(AX95:BB95) -> 0 | AX95: 0 | AY95: 0 | AZ95: 0 | BA95: 0 | BB95: 0 | BC95: 0
A96: 30 | B96: 2435 | C96: 600079341 | D96: 72743069 | E96: MŠ Liberec, Žitná 832/19 | F96: 3111 | G96: AP spec.tř. | H96: MŠMT | I96: 512149 | J96: 379933 | K96: 0 | L96: 128417 | M96: 3799 | N96: 0 | O96: 0.9 | P96: =X96*-1 -> 0 | Q96: 0 | R96: 0 | S96: 0 | T96: 0 | U96: 0 | V96: 0 | W96: =SUM(P96:V96) -> 0 | X96: 0 | Y96: 0 | Z96: 0 | AA96: =X96+Y96+Z96 -> 0 | AB96: =W96+AA96 -> 0 | AC96: =ROUND((W96+X96+Y96)*33.8%,0) -> 0 | AD96: 0 | AE96: =AC96+AD96 -> 0 | AF96: =ROUND(W96*1%,0) -> 0 | AG96: 0 | AH96: =AB96+AE96+AF96+AG96 -> 0 | AI96: 0 | AJ96: 0 | AK96: 0 | AL96: 0 | AM96: 0 | AN96: 0 | AO96: =SUM(AI96:AN96) -> 0 | AP96: =I96+AH96 -> 512149 | AQ96: =J96+W96 -> 379933 | AR96: =K96+AA96 -> 0 | AS96: =L96+AE96 -> 128417 | AT96: =M96+AF96 -> 3799 | AU96: =N96+AG96 -> 0 | AV96: =O96+AO96 -> 0.9 | AW96: =SUM(AX96:BB96) -> 0 | AX96: 0 | AY96: 0 | AZ96: 0 | BA96: 0 | BB96: 0 | BC96: 0
A97: 30 | B97: 2435 | C97: 600079341 | D97: 72743069 | E97: MŠ Liberec, Žitná 832/19 | F97: 3111 | G97: PO | H97: KÚ | I97: 534949 | J97: 396847 | K97: 0 | L97: 134134 | M97: 3968 | N97: 0 | O97: 1 | P97: =X97*-1 -> 0 | Q97: 0 | R97: 0 | S97: 0 | T97: 0 | U97: 0 | V97: 0 | W97: =SUM(P97:V97) -> 0 | X97: 0 | Y97: 0 | Z97: 0 | AA97: =X97+Y97+Z97 -> 0 | AB97: =W97+AA97 -> 0 | AC97: =ROUND((W97+X97+Y97)*33.8%,0) -> 0 | AD97: 0 | AE97: =AC97+AD97 -> 0 | AF97: =ROUND(W97*1%,0) -> 0 | AG97: 0 | AH97: =AB97+AE97+AF97+AG97 -> 0 | AI97: 0 | AJ97: 0 | AK97: 0 | AL97: 0 | AM97: 0 | AN97: 0 | AO97: =SUM(AI97:AN97) -> 0 | AP97: =I97+AH97 -> 534949 | AQ97: =J97+W97 -> 396847 | AR97: =K97+AA97 -> 0 | AS97: =L97+AE97 -> 134134 | AT97: =M97+AF97 -> 3968 | AU97: =N97+AG97 -> 0 | AV97: =O97+AO97 -> 1 | AW97: =SUM(AX97:BB97) -> 0 | AX97: 0 | AY97: 0 | AZ97: 0 | BA97: 0 | BB97: 0 | BC97: 0
A98: 30 | B98: 2435 | C98: 600079341 | D98: 72743069 | E98: MŠ Liberec, Žitná 832/19 Celkem | I98: 7903845 | J98: 5863387 | K98: 0 | L98: 1981825 | M98: 58633 | N98: 0 | O98: 9.9731 | P98: =SUM(P95:P97) -> 0 | Q98: =SUM(Q95:Q97) -> 0 | R98: =SUM(R95:R97) -> 0 | S98: =SUM(S95:S97) -> 0 | T98: =SUM(T95:T97) -> 0 | U98: =SUM(U95:U97) -> 0 | V98: =SUM(V95:V97) -> 0 | W98: =SUM(W95:W97) -> 0 | ... BC98: =SUM(BC95:BC97) -> 0
A99: 31 | B99: 2474 | C99: 600080307 | D99: 65635612 | E99: ZŠ a MŠ Liberec, Proboštská 38/6 | F99: 3111 | G99: MŠ | H99: MŠMT | I99: 3536548 | J99: 2613626 | K99: 10000 | L99: 886786 | M99: 26136 | N99: 0 | O99: 4 | P99: =X99*-1 -> 10000 | Q99: 0 | R99: 0 | S99: 0 | T99: 0 | U99: 0 | V99: 0 | W99: =SUM(P99:V99) -> 10000 | X99: -10000 | Y99: 0 | Z99: 0 | AA99: =X99+Y99+Z99 -> -10000 | AB99: =W99+AA99 -> 0 | AC99: =ROUND((W99+X99+Y99)*33.8%,0) -> 0 | AD99: 0 | AE99: =AC99+AD99 -> 0 | AF99: =ROUND(W99*1%,0) -> 100 | AG99: 0 | AH99: =AB99+AE99+AF99+AG99 -> 100 | AI99: 0 | AJ99: 0 | AK99: 0 | AL99: 0 | AM99: 0 | AN99: 0 | AO99: =SUM(AI99:AN99) -> 0 | AP99: =I99+AH99 -> 3536648 | AQ99: =J99+W99 -> 2623626 | AR99: =K99+AA99 -> 0 | AS99: =L99+AE99 -> 886786 | AT99: =M99+AF99 -> 26236 | AU99: =N99+AG99 -> 0 | AV99: =O99+AO99 -> 4 | AW99: =SUM(AX99:BB99) -> 0 | AX99: 0 | AY99: 0 | AZ99: 0 | BA99: 0 | BB99: 0 | BC99: 0
A100: 31 | B100: 2474 | C100: 600080307 | D100: 65635612 | E100: ZŠ a MŠ Liberec, Proboštská 38/6 | F100: 3113 | G100: ZŠ | H100: MŠMT | I100: 28249040 | J100: 20752536 | K100: 40000 | L100: 7027877 | M100: 207527 | N100: 221100 | O100: 27.9972 | P100: =X100*-1 -> -130000 | Q100: 0 | R100: 0 | S100: 0 | T100: 0 | U100: 0 | V100: 0 | W100: =SUM(P100:V100) -> -130000 | X100: 130000 | Y100: 0 | Z100: 0 | AA100: =X100+Y100+Z100 -> 130000 | AB100: =W100+AA100 -> 0 | AC100: =ROUND((W100+X100+Y100)*33.8%,0) -> 0 | AD100: 0 | AE100: =AC100+AD100 -> 0 | AF100: =ROUND(W100*1%,0) -> -1300 | AG100: 0 | AH100: =AB100+AE100+AF100+AG100 -> -1300 | AI100: -0.2 | AJ100: 0 | AK100: 0 | AL100: 0 | AM100: 0 | AN100: 0 | AO100: =SUM(AI100:AN100) -> -0.2 | AP100: =I100+AH100 -> 28247740 | AQ100: =J100+W100 -> 20622536 | AR100: =K100+AA100 -> 170000 | AS100: =L100+AE100 -> 7027877 | AT100: =M100+AF100 -> 206227 | AU100: =N100+AG100 -> 221100 | AV100: =O100+AO100 -> 27.7972 | AW100: =SUM(AX100:BB100) -> 592364 | AX100: 275418 | AY100: 0 | AZ100: 93091 | BA100: 2755 | BB100: 221100 | BC100: 0.5
A101: 31 | B101: 2474 | C101: 600080307 | D101: 65635612 | E101: ZŠ a MŠ Liberec, Proboštská 38/6 | F101: 3113 | G101: ZŠ PPP | H101: MŠMT | I101: 719330 | J101: 533628 | K101: 0 | L101: 180366 | M101: 5336 | N101: 0 | O101: 1 | P101: =X101*-1 -> 0 | Q101: 0 | R101: 0 | S101: 0 | T101: -38559 | U101: 0 | V101: 0 | W101: =SUM(P101:V101) -> -38559 | X101: 0 | Y101: 0 | Z101: 0 | AA101: =X101+Y101+Z101 -> 0 | AB101: =W101+AA101 -> -38559 | AC101: =ROUND((W101+X101+Y101)*33.8%,0) -> -13033 | AD101: 0 | AE101: =AC101+AD101 -> -13033 | AF101: =ROUND(W101*1%,0) -> -386 | AG101: 0 | AH101: =AB101+AE101+AF101+AG101 -> -51978 | AI101: 0 | AJ101: 0 | AK101: -0.07 | AL101: 0 | AM101: 0 | AN101: 0 | AO101: =SUM(AI101:AN101) -> -0.07 | AP101: =I101+AH101 -> 667352 | AQ101: =J101+W101 -> 495069 | AR101: =K101+AA101 -> 0 | AS101: =L101+AE101 -> 167333 | AT101: =M101+AF101 -> 4950 | AU101: =N101+AG101 -> 0 | AV101: =O101+AO101 -> 0.93 | AW101: =SUM(AX101:BB101) -> 0 | AX101: 0 | AY101: 0 | AZ101: 0 | BA101: 0 | BB101: 0 | BC101: 0
...

Sheet FR
A1: Krajský úřad Libereckého kraje
A2: U Jezu 642/2a, Liberec 2, 461 80
A3: Odbor školství, mládeže, tělovýchovy a sportu
A5: Úprava rozpisu rozpočtu přímých NIV na rok 2026 ke dni 6. 10. 2026
I6: Rozpočet přímých nákladů k 19. 8. 2026 | P6: úprava | AP6: Rozpočet přímých nákladů k 6. 10. 2026 | AW6: Z rozpočtu přímých NIV na rok 2026
P7: ÚPRAVA PLATY | X7: ÚPRAVA OON | AB7: Mzdové prostředky celkem | AC7: ÚPRAVA ODVODŮ | AE7: Odvody CELKEM | AF7: FKSP | AG7: OBV | AH7: Úprava NIV celkem | AI7: ÚPRAVA POČTU PEDAGOGŮ | AW7: Stanovení dalších finančních prostředků pro základní školy zřizované krajem, obcí nebo dobrovolným svazkem obcí na rok 2026 na financování sociálního pedagoga a další přímou podporu žáků se sociálním znevýhodněním, VĚSTNÍK MŠMT 4/2026
I8: Celkem NIV | J8: z toho v Kč: | O8: Počet PEDAG. | AI8: převody (platy-dohody) | AJ8: Podpůrná opatření | AK8: Změna Phškoly/ podpůrné pozice | AL8: Jazyková příprava cizinců | AM8: AP v 1. ročníku | AN8: Individuální úpravy | AO8: Úprava PED. celkem | AP8: Celkem NIV | AQ8: z toho v Kč: | AV8: Počet PEDAG.
A9: SUMÁŘ - PO III FRÝDLANT | J9: Platy | K9: OON | L9: Odvody | M9: FKSP | N9: OBV | P9: Převody do OON | Q9: Převod úspor z odvodů | R9: Podpůrná opatření | S9: Jazyková příprava cizinců | T9: Změna Phškoly/ podpůrné pozice | U9: AP v 1. ročníku | V9: Individuální úpravy | W9: PLATY úprava celkem | X9: Dohody | Y9: OON do Phmax | Z9: Odstupné | AA9: OON úprava celkem | AC9: Odvody | AD9: Převod úspor z odvodů | AQ9: Platy | AR9: OON | AS9: Odvody | AT9: FKSP | AU9: OBV
A10: poř. | B10: č. KÚ | C10: RED IZO | D10: IČO | E10: škola - škol. zařízení (zkráceně) | F10: § | G10: druh činnosti | H10: rozpočet sestavil | AW10: NIV celkem | AX10: Platy | AY10: OON | AZ10: Odvody | BA10: FKSP | BB10: OBV | BC10: Počet PEDAG.
A11: por | B11: c_KU | C11: RED_IZO | D11: ICO | E11: Zkr_nazev | F11: § | G11: druh_cinnosti | H11: od | I11: NIV_CELKEM | J11: Platy_CELKEM | K11: OON_CELKEM | L11: ODVODY_CELKEM | M11: FKSP_CELKEM | N11: OBV_CELKEM | O11: ZAM_CELKEM | P11: Platy_Upr | Q11: Platy_Upr_ | R11: Platy_Upr_ | S11: Platy_Upr | T11: Platy_Upr | U11: Platy_Upr_ | V11: Platy_Upr_ | W11: Platy_Upr | X11: OON_Upr | Y11: OON_Upr | Z11: OON_Upr | AA11: OON_Upr | AB11: Upr_MP_Celkem | AC11: ODV_UPR | AD11: ODV_UPR | AE11: ODV_UPR | AF11: FKSP_UPR | AG11: OBV_UPR | AH11: NIV_UPR | AI11: PED_UPR | AJ11: PED_UPR | AK11: PED_UPR | AL11: PED_UPR | AM11: PED_UPR | AN11: PED_UPR | AO11: PED_UPR | AP11: NIV_CELKEM | AQ11: Platy_CELKEM | AR11: OON_CELKEM | AS11: ODVODY_CELKEM | AT11: FKSP_CELKEM | AU11: OBV_CELKEM | AV11: ZAM_CELKEM | AW11: NIV_SOCIAL | AX11: Platy_SOCIAL | AY11: OON__SOCIAL | AZ11: Odvody_SOCIAL | BA11: FKSP_SOCIAL | BB11: OBV_SOCIAL | BC11: PED_SOCIAL
A12: 1 | B12: 2314 | C12: 600080358 | D12: 46745751 | E12: ZŠ speciální, Frýdlant, Husova 784 | F12: 3114 | G12: ZŠ spec. | H12: MŠMT | I12: 12295833 | J12: 9121537 | K12: 0 | L12: 3083080 | M12: 91216 | N12: 0 | O12: 11.9346 | P12: =X12*-1 -> 0 | Q12: 0 | R12: 0 | S12: 0 | T12: 0 | U12: 0 | V12: 4881 | W12: =SUM(P12:V12) -> 4881 | X12: 0 | Y12: 0 | Z12: 0 | AA12: =X12+Y12+Z12 -> 0 | AB12: =W12+AA12 -> 4881 | AC12: =ROUND((W12+X12+Y12)*33.8%,0) -> 1650 | AD12: 0 | AE12: =AC12+AD12 -> 1650 | AF12: =ROUND(W12*1%,0) -> 49 | AG12: 0 | AH12: =AB12+AE12+AF12+AG12 -> 6580 | AI12: 0 | AJ12: 0 | AK12: 0 | AL12: 0 | AM12: 0 | AN12: 0 | AO12: =SUM(AI12:AN12) -> 0 | AP12: =I12+AH12 -> 12302413 | AQ12: =J12+W12 -> 9126418 | AR12: =K12+AA12 -> 0 | AS12: =L12+AE12 -> 3084730 | AT12: =M12+AF12 -> 91265 | AU12: =N12+AG12 -> 0 | AV12: =O12+AO12 -> 11.9346 | AW12: =SUM(AX12:BB12) -> 0 | AX12: 0 | AY12: 0 | AZ12: 0 | BA12: 0 | BB12: 0 | BC12: 0
A13: 1 | B13: 2314 | C13: 600080358 | D13: 46745751 | E13: ZŠ speciální, Frýdlant, Husova 784 | F13: 3114 | G13: AP spec.tř. | H13: MŠMT | I13: 3560961 | J13: 2641663 | K13: 0 | L13: 892882 | M13: 26416 | N13: 0 | O13: 6.4448 | P13: =X13*-1 -> 0 | Q13: 0 | R13: 0 | S13: 0 | T13: 0 | U13: 0 | V13: 0 | W13: =SUM(P13:V13) -> 0 | X13: 0 | Y13: 0 | Z13: 0 | AA13: =X13+Y13+Z13 -> 0 | AB13: =W13+AA13 -> 0 | AC13: =ROUND((W13+X13+Y13)*33.8%,0) -> 0 | AD13: 0 | AE13: =AC13+AD13 -> 0 | AF13: =ROUND(W13*1%,0) -> 0 | AG13: 0 | AH13: =AB13+AE13+AF13+AG13 -> 0 | AI13: 0 | AJ13: 0 | AK13: 0 | AL13: 0 | AM13: 0 | AN13: 0 | AO13: =SUM(AI13:AN13) -> 0 | AP13: =I13+AH13 -> 3560961 | AQ13: =J13+W13 -> 2641663 | AR13: =K13+AA13 -> 0 | AS13: =L13+AE13 -> 892882 | AT13: =M13+AF13 -> 26416 | AU13: =N13+AG13 -> 0 | AV13: =O13+AO13 -> 6.4448 | AW13: =SUM(AX13:BB13) -> 0 | AX13: 0 | AY13: 0 | AZ13: 0 | BA13: 0 | BB13: 0 | BC13: 0
A14: 1 | B14: 2314 | C14: 600080358 | D14: 46745751 | E14: ZŠ speciální, Frýdlant, Husova 784 | F14: 3114 | G14: PO | H14: KÚ | I14: 0 | J14: 0 | K14: 0 | L14: 0 | M14: 0 | N14: 0 | O14: 0 | P14: =X14*-1 -> 0 | Q14: 0 | R14: 0 | S14: 0 | T14: 0 | U14: 0 | V14: 0 | W14: =SUM(P14:V14) -> 0 | X14: 0 | Y14: 0 | Z14: 0 | AA14: =X14+Y14+Z14 -> 0 | AB14: =W14+AA14 -> 0 | AC14: =ROUND((W14+X14+Y14)*33.8%,0) -> 0 | AD14: 0 | AE14: =AC14+AD14 -> 0 | AF14: =ROUND(W14*1%,0) -> 0 | AG14: 0 | AH14: =AB14+AE14+AF14+AG14 -> 0 | AI14: 0 | AJ14: 0 | AK14: 0 | AL14: 0 | AM14: 0 | AN14: 0 | AO14: =SUM(AI14:AN14) -> 0 | AP14: =I14+AH14 -> 0 | AQ14: =J14+W14 -> 0 | AR14: =K14+AA14 -> 0 | AS14: =L14+AE14 -> 0 | AT14: =M14+AF14 -> 0 | AU14: =N14+AG14 -> 0 | AV14: =O14+AO14 -> 0 | AW14: =SUM(AX14:BB14) -> 0 | AX14: 0 | AY14: 0 | AZ14: 0 | BA14: 0 | BB14: 0 | BC14: 0
A15: 1 | B15: 2314 | C15: 600080358 | D15: 46745751 | E15: ZŠ speciální, Frýdlant, Husova 784 | F15: 3143 | G15: ŠD | H15: MŠMT | I15: 852847 | J15: 632676 | K15: 0 | L15: 213844 | M15: 6327 | N15: 0 | O15: 1.3215 | P15: =X15*-1 -> 0 | Q15: 0 | R15: 0 | S15: 0 | T15: 0 | U15: 0 | V15: 0 | W15: =SUM(P15:V15) -> 0 | X15: 0 | Y15: 0 | Z15: 0 | AA15: =X15+Y15+Z15 -> 0 | AB15: =W15+AA15 -> 0 | AC15: =ROUND((W15+X15+Y15)*33.8%,0) -> 0 | AD15: 0 | AE15: =AC15+AD15 -> 0 | AF15: =ROUND(W15*1%,0) -> 0 | AG15: 0 | AH15: =AB15+AE15+AF15+AG15 -> 0 | AI15: 0 | AJ15: 0 | AK15: 0 | AL15: 0 | AM15: 0 | AN15: 0 | AO15: =SUM(AI15:AN15) -> 0 | AP15: =I15+AH15 -> 852847 | AQ15: =J15+W15 -> 632676 | AR15: =K15+AA15 -> 0 | AS15: =L15+AE15 -> 213844 | AT15: =M15+AF15 -> 6327 | AU15: =N15+AG15 -> 0 | AV15: =O15+AO15 -> 1.3215 | AW15: =SUM(AX15:BB15) -> 0 | AX15: 0 | AY15: 0 | AZ15: 0 | BA15: 0 | BB15: 0 | BC15: 0
A16: 1 | B16: 2314 | C16: 600080358 | D16: 46745751 | E16: ZŠ speciální, Frýdlant, Husova 784 Celkem | I16: 16709641 | J16: 12395876 | K16: 0 | L16: 4189806 | M16: 123959 | N16: 0 | O16: 19.7009 | P16: =SUM(P12:P15) -> 0 | Q16: =SUM(Q12:Q15) -> 0 | R16: =SUM(R12:R15) -> 0 | S16: =SUM(S12:S15) -> 0 | T16: =SUM(T12:T15) -> 0 | U16: =SUM(U12:U15) -> 0 | V16: =SUM(V12:V15) -> 4881 | W16: =SUM(W12:W15) -> 4881 | ... BC16: =SUM(BC12:BC15) -> 0
A17: 2 | B17: 2448 | C17: 600080269 | D17: 63154617 | E17: ZŠ, ZUŠ a MŠ Frýdlant, Purkyňova 510 | F17: 3111 | G17: MŠ | H17: MŠMT | I17: 17049588 | J17: 12548804 | K17: 100000 | L17: 4275296 | M17: 125488 | N17: 0 | O17: 20.61 | P17: =X17*-1 -> -45000 | Q17: 0 | R17: 0 | S17: 0 | T17: 0 | U17: 0 | V17: 0 | W17: =SUM(P17:V17) -> -45000 | X17: 45000 | Y17: 0 | Z17: 0 | AA17: =X17+Y17+Z17 -> 45000 | AB17: =W17+AA17 -> 0 | AC17: =ROUND((W17+X17+Y17)*33.8%,0) -> 0 | AD17: 0 | AE17: =AC17+AD17 -> 0 | AF17: =ROUND(W17*1%,0) -> -450 | AG17: 0 | AH17: =AB17+AE17+AF17+AG17 -> -450 | AI17: 0 | AJ17: 0 | AK17: 0 | AL17: 0 | AM17: 0 | AN17: 0 | AO17: =SUM(AI17:AN17) -> 0 | AP17: =I17+AH17 -> 17049138 | AQ17: =J17+W17 -> 12503804 | AR17: =K17+AA17 -> 145000 | AS17: =L17+AE17 -> 4275296 | AT17: =M17+AF17 -> 125038 | AU17: =N17+AG17 -> 0 | AV17: =O17+AO17 -> 20.61 | AW17: =SUM(AX17:BB17) -> 0 | AX17: 0 | AY17: 0 | AZ17: 0 | BA17: 0 | BB17: 0 | BC17: 0
A18: 2 | B18: 2448 | C18: 600080269 | D18: 63154617 | E18: ZŠ, ZUŠ a MŠ Frýdlant, Purkyňova 510 | F18: 3113 | G18: ZŠ | H18: MŠMT | I18: 60635106 | J18: 44540278 | K18: 45000 | L18: 15069824 | M18: 445404 | N18: 534600 | O18: 59.0593 | P18: =X18*-1 -> -39000 | Q18: 0 | R18: 0 | S18: 0 | T18: 0 | U18: 0 | V18: 0 | W18: =SUM(P18:V18) -> -39000 | X18: 39000 | Y18: 0 | Z18: 138498 | AA18: =X18+Y18+Z18 -> 177498 | AB18: =W18+AA18 -> 138498 | AC18: =ROUND((W18+X18+Y18)*33.8%,0) -> 0 | AD18: 0 | AE18: =AC18+AD18 -> 0 | AF18: =ROUND(W18*1%,0) -> -390 | AG18: 0 | AH18: =AB18+AE18+AF18+AG18 -> 138108 | AI18: 0 | AJ18: 0 | AK18: 0 | AL18: 0 | AM18: 0 | AN18: 0 | AO18: =SUM(AI18:AN18) -> 0 | AP18: =I18+AH18 -> 60773214 | AQ18: =J18+W18 -> 44501278 | AR18: =K18+AA18 -> 222498 | AS18: =L18+AE18 -> 15069824 | AT18: =M18+AF18 -> 445014 | AU18: =N18+AG18 -> 534600 | AV18: =O18+AO18 -> 59.0593 | AW18: =SUM(AX18:BB18) -> 1153373 | AX18: 459030 | AY18: 0 | AZ18: 155152 | BA18: 4591 | BB18: 534600 | BC18: 0.83
A19: 2 | B19: 2448 | C19: 600080269 | D19: 63154617 | E19: ZŠ, ZUŠ a MŠ Frýdlant, Purkyňova 510 | F19: 3113 | G19: ZŠ PPP | H19: MŠMT | I19: 1334811 | J19: 990216 | K19: 0 | L19: 334693 | M19: 9902 | N19: 0 | O19: 2 | P19: =X19*-1 -> 0 | Q19: 0 | R19: 0 | S19: 0 | T19: 0 | U19: 0 | V19: 0 | W19: =SUM(P19:V19) -> 0 | X19: 0 | Y19: 0 | Z19: 0 | AA19: =X19+Y19+Z19 -> 0 | AB19: =W19+AA19 -> 0 | AC19: =ROUND((W19+X19+Y19)*33.8%,0) -> 0 | AD19: 0 | AE19: =AC19+AD19 -> 0 | AF19: =ROUND(W19*1%,0) -> 0 | AG19: 0 | AH19: =AB19+AE19+AF19+AG19 -> 0 | AI19: 0 | AJ19: 0 | AK19: 0 | AL19: 0 | AM19: 0 | AN19: 0 | AO19: =SUM(AI19:AN19) -> 0 | AP19: =I19+AH19 -> 1334811 | AQ19: =J19+W19 -> 990216 | AR19: =K19+AA19 -> 0 | AS19: =L19+AE19 -> 334693 | AT19: =M19+AF19 -> 9902 | AU19: =N19+AG19 -> 0 | AV19: =O19+AO19 -> 2 | AW19: =SUM(AX19:BB19) -> 0 | AX19: 0 | AY19: 0 | AZ19: 0 | BA19: 0 | BB19: 0 | BC19: 0
A20: 2 | B20: 2448 | C20: 600080269 | D20: 63154617 | E20: ZŠ, ZUŠ a MŠ Frýdlant, Purkyňova 510 | F20: 3113 | G20: AP 1.ročník | H20: MŠMT | I20: 0 | J20: 0 | K20: 0 | L20: 0 | M20: 0 | N20: 0 | O20: 0 | P20: =X20*-1 -> 0 | Q20: 0 | R20: 0 | S20: 0 | T20: 0 | U20: 314227 | V20: 0 | W20: =SUM(P20:V20) -> 314227 | X20: 0 | Y20: 0 | Z20: 0 | AA20: =X20+Y20+Z20 -> 0 | AB20: =W20+AA20 -> 314227 | AC20: =ROUND((W20+X20+Y20)*33.8%,0) -> 106209 | AD20: 0 | AE20: =AC20+AD20 -> 106209 | AF20: =ROUND(W20*1%,0) -> 3142 | AG20: 0 | AH20: =AB20+AE20+AF20+AG20 -> 423578 | AI20: 0 | AJ20: 0 | AK20: 0 | AL20: 0 | AM20: 0.75 | AN20: 0 | AO20: =SUM(AI20:AN20) -> 0.75 | AP20: =I20+AH20 -> 423578 | AQ20: =J20+W20 -> 314227 | AR20: =K20+AA20 -> 0 | AS20: =L20+AE20 -> 106209 | AT20: =M20+AF20 -> 3142 | AU20: =N20+AG20 -> 0 | AV20: =O20+AO20 -> 0.75 | AW20: =SUM(AX20:BB20) -> 0 | AX20: 0 | AY20: 0 | AZ20: 0 | BA20: 0 | BB20: 0 | BC20: 0
A21: 2 | B21: 2448 | C21: 600080269 | D21: 63154617 | E21: ZŠ, ZUŠ a MŠ Frýdlant, Purkyňova 510 | F21: 3113 | G21: PO | H21: KÚ | I21: 10010384 | J21: 7426102 | K21: 0 | L21: 2510022 | M21: 74260 | N21: 0 | O21: 18.82 | P21: =X21*-1 -> 0 | Q21: 0 | R21: 187404 | S21: 0 | T21: 0 | U21: 0 | V21: 0 | W21: =SUM(P21:V21) -> 187404 | X21: 0 | Y21: 0 | Z21: 0 | AA21: =X21+Y21+Z21 -> 0 | AB21: =W21+AA21 -> 187404 | AC21: =ROUND((W21+X21+Y21)*33.8%,0) -> 63343 | AD21: 0 | AE21: =AC21+AD21 -> 63343 | AF21: =ROUND(W21*1%,0) -> 1874 | AG21: 0 | AH21: =AB21+AE21+AF21+AG21 -> 252621 | AI21: 0 | AJ21: 0.47 | AK21: 0 | AL21: 0 | AM21: 0 | AN21: 0 | AO21: =SUM(AI21:AN21) -> 0.47 | AP21: =I21+AH21 -> 10263005 | AQ21: =J21+W21 -> 7613506 | AR21: =K21+AA21 -> 0 | AS21: =L21+AE21 -> 2573365 | AT21: =M21+AF21 -> 76134 | AU21: =N21+AG21 -> 0 | AV21: =O21+AO21 -> 19.29 | AW21: =SUM(AX21:BB21) -> 0 | AX21: 0 | AY21: 0 | AZ21: 0 | BA21: 0 | BB21: 0 | BC21: 0
A22: 2 | B22: 2448 | C22: 600080269 | D22: 63154617 | E22: ZŠ, ZUŠ a MŠ Frýdlant, Purkyňova 510 | F22: 3143 | G22: ŠD | H22: MŠMT | I22: 4663090 | J22: 3409637 | K22: 50000 | L22: 1169357 | M22: 34096 | N22: 0 | O22: 6.3 | P22: =X22*-1 -> -19000 | Q22: 0 | R22: 0 | S22: 0 | T22: 0 | U22: 0 | V22: 0 | W22: =SUM(P22:V22) -> -19000 | X22: 19000 | Y22: 0 | Z22: 0 | AA22: =X22+Y22+Z22 -> 19000 | AB22: =W22+AA22 -> 0 | AC22: =ROUND((W22+X22+Y22)*33.8%,0) -> 0 | AD22: 0 | AE22: =AC22+AD22 -> 0 | AF22: =ROUND(W22*1%,0) -> -190 | AG22: 0 | AH22: =AB22+AE22+AF22+AG22 -> -190 | AI22: 0 | AJ22: 0 | AK22: 0 | AL22: 0 | AM22: 0 | AN22: 0 | AO22: =SUM(AI22:AN22) -> 0 | AP22: =I22+AH22 -> 4662900 | AQ22: =J22+W22 -> 3390637 | AR22: =K22+AA22 -> 69000 | AS22: =L22+AE22 -> 1169357 | AT22: =M22+AF22 -> 33906 | AU22: =N22+AG22 -> 0 | AV22: =O22+AO22 -> 6.3 | AW22: =SUM(AX22:BB22) -> 0 | AX22: 0 | AY22: 0 | AZ22: 0 | BA22: 0 | BB22: 0 | BC22: 0
A23: 2 | B23: 2448 | C23: 600080269 | D23: 63154617 | E23: ZŠ, ZUŠ a MŠ Frýdlant, Purkyňova 510 | F23: 3231 | G23: ZUŠ | H23: MŠMT | I23: 9669278 | J23: 7068834 | K23: 105000 | L23: 2424756 | M23: 70688 | N23: 0 | O23: 10.6237 | P23: =X23*-1 -> -19000 | Q23: 0 | R23: 0 | S23: 0 | T23: 0 | U23: 0 | V23: 0 | W23: =SUM(P23:V23) -> -19000 | X23: 19000 | Y23: 0 | Z23: 0 | AA23: =X23+Y23+Z23 -> 19000 | AB23: =W23+AA23 -> 0 | AC23: =ROUND((W23+X23+Y23)*33.8%,0) -> 0 | AD23: 0 | AE23: =AC23+AD23 -> 0 | AF23: =ROUND(W23*1%,0) -> -190 | AG23: 0 | AH23: =AB23+AE23+AF23+AG23 -> -190 | AI23: -0.03 | AJ23: 0 | AK23: 0 | AL23: 0 | AM23: 0 | AN23: 0 | AO23: =SUM(AI23:AN23) -> -0.03 | AP23: =I23+AH23 -> 9669088 | AQ23: =J23+W23 -> 7049834 | AR23: =K23+AA23 -> 124000 | AS23: =L23+AE23 -> 2424756 | AT23: =M23+AF23 -> 70498 | AU23: =N23+AG23 -> 0 | AV23: =O23+AO23 -> 10.5937 | AW23: =SUM(AX23:BB23) -> 0 | AX23: 0 | AY23: 0 | AZ23: 0 | BA23: 0 | BB23: 0 | BC23: 0
A24: 2 | B24: 2448 | C24: 600080269 | D24: 63154617 | E24: ZŠ, ZUŠ a MŠ Frýdlant, Purkyňova 510 | F24: 3233 | G24: SVČ | H24: KÚ | I24: 1620584 | J24: 1202214 | K24: 0 | L24: 406348 | M24: 12022 | N24: 0 | O24: 2.03 | P24: =X24*-1 -> 0 | Q24: 0 | R24: 0 | S24: 0 | T24: 0 | U24: 0 | V24: 0 | W24: =SUM(P24:V24) -> 0 | X24: 0 | Y24: 0 | Z24: 0 | AA24: =X24+Y24+Z24 -> 0 | AB24: =W24+AA24 -> 0 | AC24: =ROUND((W24+X24+Y24)*33.8%,0) -> 0 | AD24: 0 | AE24: =AC24+AD24 -> 0 | AF24: =ROUND(W24*1%,0) -> 0 | AG24: 0 | AH24: =AB24+AE24+AF24+AG24 -> 0 | AI24: 0 | AJ24: 0 | AK24: 0 | AL24: 0 | AM24: 0 | AN24: 0 | AO24: =SUM(AI24:AN24) -> 0 | AP24: =I24+AH24 -> 1620584 | AQ24: =J24+W24 -> 1202214 | AR24: =K24+AA24 -> 0 | AS24: =L24+AE24 -> 406348 | AT24: =M24+AF24 -> 12022 | AU24: =N24+AG24 -> 0 | AV24: =O24+AO24 -> 2.03 | AW24: =SUM(AX24:BB24) -> 0 | AX24: 0 | AY24: 0 | AZ24: 0 | BA24: 0 | BB24: 0 | BC24: 0
A25: 2 | B25: 2448 | C25: 600080269 | D25: 63154617 | E25: ZŠ, ZUŠ a MŠ Frýdlant, Purkyňova 510 Celkem | I25: 104982841 | J25: 77186085 | K25: 300000 | L25: 26190296 | M25: 771860 | N25: 534600 | O25: 119.443 | P25: =SUM(P17:P24) -> -122000 | Q25: =SUM(Q17:Q24) -> 0 | R25: =SUM(R17:R24) -> 187404 | S25: =SUM(S17:S24) -> 0 | T25: =SUM(T17:T24) -> 0 | U25: =SUM(U17:U24) -> 314227 | V25: =SUM(V17:V24) -> 0 | W25: =SUM(W17:W24) -> 379631 | ... BC25: =SUM(BC17:BC24) -> 0.83
A26: 3 | B26: 2450 | C26: 600080234 | D26: 72745045 | E26: ZŠ a MŠ Bílý Potok 220 | F26: 3111 | G26: MŠ | H26: MŠMT | I26: 1244952 | J26: 834223 | K26: 90000 | L26: 312387 | M26: 8342 | N26: 0 | O26: 1.706 | P26: =X26*-1 -> 65000 | Q26: 0 | R26: 0 | S26: 0 | T26: 0 | U26: 0 | V26: 0 | W26: =SUM(P26:V26) -> 65000 | X26: -65000 | Y26: 0 | Z26: 0 | AA26: =X26+Y26+Z26 -> -65000 | AB26: =W26+AA26 -> 0 | AC26: =ROUND((W26+X26+Y26)*33.8%,0) -> 0 | AD26: 0 | AE26: =AC26+AD26 -> 0 | AF26: =ROUND(W26*1%,0) -> 650 | AG26: 0 | AH26: =AB26+AE26+AF26+AG26 -> 650 | AI26: 0 | AJ26: 0 | AK26: 0 | AL26: 0 | AM26: 0 | AN26: 0 | AO26: =SUM(AI26:AN26) -> 0 | AP26: =I26+AH26 -> 1245602 | AQ26: =J26+W26 -> 899223 | AR26: =K26+AA26 -> 25000 | AS26: =L26+AE26 -> 312387 | AT26: =M26+AF26 -> 8992 | AU26: =N26+AG26 -> 0 | AV26: =O26+AO26 -> 1.706 | AW26: =SUM(AX26:BB26) -> 0 | AX26: 0 | AY26: 0 | AZ26: 0 | BA26: 0 | BB26: 0 | BC26: 0
A27: 3 | B27: 2450 | C27: 600080234 | D27: 72745045 | E27: ZŠ a MŠ Bílý Potok 220 | F27: 3117 | G27: ZŠ | H27: MŠMT | I27: 2068940 | J27: 1534821 | K27: 0 | L27: 518770 | M27: 15349 | N27: 0 | O27: 2.4806 | P27: =X27*-1 -> 0 | Q27: 0 | R27: 0 | S27: 0 | T27: 0 | U27: 0 | V27: 0 | W27: =SUM(P27:V27) -> 0 | X27: 0 | Y27: 0 | Z27: 0 | AA27: =X27+Y27+Z27 -> 0 | AB27: =W27+AA27 -> 0 | AC27: =ROUND((W27+X27+Y27)*33.8%,0) -> 0 | AD27: 0 | AE27: =AC27+AD27 -> 0 | AF27: =ROUND(W27*1%,0) -> 0 | AG27: 0 | AH27: =AB27+AE27+AF27+AG27 -> 0 | AI27: 0 | AJ27: 0 | AK27: 0 | AL27: 0 | AM27: 0 | AN27: 0 | AO27: =SUM(AI27:AN27) -> 0 | AP27: =I27+AH27 -> 2068940 | AQ27: =J27+W27 -> 1534821 | AR27: =K27+AA27 -> 0 | AS27: =L27+AE27 -> 518770 | AT27: =M27+AF27 -> 15349 | AU27: =N27+AG27 -> 0 | AV27: =O27+AO27 -> 2.4806 | AW27: =SUM(AX27:BB27) -> 0 | AX27: 0 | AY27: 0 | AZ27: 0 | BA27: 0 | BB27: 0 | BC27: 0
A28: 3 | B28: 2450 | C28: 600080234 | D28: 72745045 | E28: ZŠ a MŠ Bílý Potok 220 | F28: 3117 | G28: PO | H28: KÚ | I28: 509509 | J28: 377974 | K28: 0 | L28: 127755 | M28: 3780 | N28: 0 | O28: 0.87 | P28: =X28*-1 -> 0 | Q28: 0 | R28: 126045 | S28: 0 | T28: 0 | U28: 0 | V28: 0 | W28: =SUM(P28:V28) -> 126045 | X28: 0 | Y28: 0 | Z28: 0 | AA28: =X28+Y28+Z28 -> 0 | AB28: =W28+AA28 -> 126045 | AC28: =ROUND((W28+X28+Y28)*33.8%,0) -> 42603 | AD28: 0 | AE28: =AC28+AD28 -> 42603 | AF28: =ROUND(W28*1%,0) -> 1260 | AG28: 0 | AH28: =AB28+AE28+AF28+AG28 -> 169908 | AI28: 0 | AJ28: 0.43 | AK28: 0 | AL28: 0 | AM28: 0 | AN28: 0 | AO28: =SUM(AI28:AN28) -> 0.43 | AP28: =I28+AH28 -> 679417 | AQ28: =J28+W28 -> 504019 | AR28: =K28+AA28 -> 0 | AS28: =L28+AE28 -> 170358 | AT28: =M28+AF28 -> 5040 | AU28: =N28+AG28 -> 0 | AV28: =O28+AO28 -> 1.3 | AW28: =SUM(AX28:BB28) -> 0 | AX28: 0 | AY28: 0 | AZ28: 0 | BA28: 0 | BB28: 0 | BC28: 0
A29: 3 | B29: 2450 | C29: 600080234 | D29: 72745045 | E29: ZŠ a MŠ Bílý Potok 220 | F29: 3143 | G29: ŠD | H29: MŠMT | I29: 676365 | J29: 491829 | K29: 10000 | L29: 169618 | M29: 4918 | N29: 0 | O29: 1 | P29: =X29*-1 -> 10000 | Q29: 0 | R29: 0 | S29: 0 | T29: 0 | U29: 0 | V29: 0 | W29: =SUM(P29:V29) -> 10000 | X29: -10000 | Y29: 0 | Z29: 0 | AA29: =X29+Y29+Z29 -> -10000 | AB29: =W29+AA29 -> 0 | AC29: =ROUND((W29+X29+Y29)*33.8%,0) -> 0 | AD29: 0 | AE29: =AC29+AD29 -> 0 | AF29: =ROUND(W29*1%,0) -> 100 | AG29: 0 | AH29: =AB29+AE29+AF29+AG29 -> 100 | AI29: 0 | AJ29: 0 | AK29: 0 | AL29: 0 | AM29: 0 | AN29: 0 | AO29: =SUM(AI29:AN29) -> 0 | AP29: =I29+AH29 -> 676465 | AQ29: =J29+W29 -> 501829 | AR29: =K29+AA29 -> 0 | AS29: =L29+AE29 -> 169618 | AT29: =M29+AF29 -> 5018 | AU29: =N29+AG29 -> 0 | AV29: =O29+AO29 -> 1 | AW29: =SUM(AX29:BB29) -> 0 | AX29: 0 | AY29: 0 | AZ29: 0 | BA29: 0 | BB29: 0 | BC29: 0
A30: 3 | B30: 2450 | C30: 600080234 | D30: 72745045 | E30: ZŠ a MŠ Bílý Potok 220 Celkem | I30: 4499766 | J30: 3238847 | K30: 100000 | L30: 1128530 | M30: 32389 | N30: 0 | O30: 6.0566 | P30: =SUM(P26:P29) -> 75000 | Q30: =SUM(Q26:Q29) -> 0 | R30: =SUM(R26:R29) -> 126045 | S30: =SUM(S26:S29) -> 0 | T30: =SUM(T26:T29) -> 0 | U30: =SUM(U26:U29) -> 0 | V30: =SUM(V26:V29) -> 0 | W30: =SUM(W26:W29) -> 201045 | ... BC30: =SUM(BC26:BC29) -> 0
A31: 4 | B31: 2451 | C31: 650037901 | D31: 72744880 | E31: ZŠ a MŠ Bulovka 156 | F31: 3111 | G31: MŠ | H31: MŠMT | I31: 1553262 | J31: 1152271 | K31: 0 | L31: 389468 | M31: 11523 | N31: 0 | O31: 2 | P31: =X31*-1 -> 0 | Q31: 0 | R31: 0 | S31: 0 | T31: 0 | U31: 0 | V31: 0 | W31: =SUM(P31:V31) -> 0 | X31: 0 | Y31: 0 | Z31: 0 | AA31: =X31+Y31+Z31 -> 0 | AB31: =W31+AA31 -> 0 | AC31: =ROUND((W31+X31+Y31)*33.8%,0) -> 0 | AD31: 0 | AE31: =AC31+AD31 -> 0 | AF31: =ROUND(W31*1%,0) -> 0 | AG31: 0 | AH31: =AB31+AE31+AF31+AG31 -> 0 | AI31: 0 | AJ31: 0 | AK31: 0 | AL31: 0 | AM31: 0 | AN31: 0 | AO31: =SUM(AI31:AN31) -> 0 | AP31: =I31+AH31 -> 1553262 | AQ31: =J31+W31 -> 1152271 | AR31: =K31+AA31 -> 0 | AS31: =L31+AE31 -> 389468 | AT31: =M31+AF31 -> 11523 | AU31: =N31+AG31 -> 0 | AV31: =O31+AO31 -> 2 | AW31: =SUM(AX31:BB31) -> 0 | AX31: 0 | AY31: 0 | AZ31: 0 | BA31: 0 | BB31: 0 | BC31: 0
A32: 4 | B32: 2451 | C32: 650037901 | D32: 72744880 | E32: ZŠ a MŠ Bulovka 156 | F32: 3117 | G32: ZŠ | H32: MŠMT | I32: 3704593 | J32: 2748215 | K32: 0 | L32: 928896 | M32: 27482 | N32: 0 | O32: 4 | P32: =X32*-1 -> -30000 | Q32: 0 | R32: 0 | S32: 0 | T32: 0 | U32: 0 | V32: 0 | W32: =SUM(P32:V32) -> -30000 | X32: 30000 | Y32: 0 | Z32: 0 | AA32: =X32+Y32+Z32 -> 30000 | AB32: =W32+AA32 -> 0 | AC32: =ROUND((W32+X32+Y32)*33.8%,0) -> 0 | AD32: 0 | AE32: =AC32+AD32 -> 0 | AF32: =ROUND(W32*1%,0) -> -300 | AG32: 0 | AH32: =AB32+AE32+AF32+AG32 -> -300 | AI32: -0.04 | AJ32: 0 | AK32: 0 | AL32: 0 | AM32: 0 | AN32: 0 | AO32: =SUM(AI32:AN32) -> -0.04 | AP32: =I32+AH32 -> 3704293 | AQ32: =J32+W32 -> 2718215 | AR32: =K32+AA32 -> 30000 | AS32: =L32+AE32 -> 928896 | AT32: =M32+AF32 -> 27182 | AU32: =N32+AG32 -> 0 | AV32: =O32+AO32 -> 3.96 | AW32: =SUM(AX32:BB32) -> 0 | AX32: 0 | AY32: 0 | AZ32: 0 | BA32: 0 | BB32: 0 | BC32: 0
A33: 4 | B33: 2451 | C33: 650037901 | D33: 72744880 | E33: ZŠ a MŠ Bulovka 156 | F33: 3117 | G33: PO | H33: KÚ | I33: 1325987 | J33: 983670 | K33: 0 | L33: 332480 | M33: 9837 | N33: 0 | O33: 2.3 | P33: =X33*-1 -> 0 | Q33: 0 | R33: -26490 | S33: 0 | T33: 0 | U33: 0 | V33: 0 | W33: =SUM(P33:V33) -> -26490 | X33: 0 | Y33: 0 | Z33: 0 | AA33: =X33+Y33+Z33 -> 0 | AB33: =W33+AA33 -> -26490 | AC33: =ROUND((W33+X33+Y33)*33.8%,0) -> -8954 | AD33: 0 | AE33: =AC33+AD33 -> -8954 | AF33: =ROUND(W33*1%,0) -> -265 | AG33: 0 | AH33: =AB33+AE33+AF33+AG33 -> -35709 | AI33: 0 | AJ33: -0.04 | AK33: 0 | AL33: 0 | AM33: 0 | AN33: 0 | AO33: =SUM(AI33:AN33) -> -0.04 | AP33: =I33+AH33 -> 1290278 | AQ33: =J33+W33 -> 957180 | AR33: =K33+AA33 -> 0 | AS33: =L33+AE33 -> 323526 | AT33: =M33+AF33 -> 9572 | AU33: =N33+AG33 -> 0 | AV33: =O33+AO33 -> 2.26 | AW33: =SUM(AX33:BB33) -> 0 | AX33: 0 | AY33: 0 | AZ33: 0 | BA33: 0 | BB33: 0 | BC33: 0
A34: 4 | B34: 2451 | C34: 650037901 | D34: 72744880 | E34: ZŠ a MŠ Bulovka 156 | F34: 3143 | G34: ŠD | H34: MŠMT | I34: 690013 | J34: 511879 | K34: 0 | L34: 173015 | M34: 5119 | N34: 0 | O34: 1 | P34: =X34*-1 -> 0 | Q34: 0 | R34: 0 | S34: 0 | T34: 0 | U34: 0 | V34: 0 | W34: =SUM(P34:V34) -> 0 | X34: 0 | Y34: 0 | Z34: 0 | AA34: =X34+Y34+Z34 -> 0 | AB34: =W34+AA34 -> 0 | AC34: =ROUND((W34+X34+Y34)*33.8%,0) -> 0 | AD34: 0 | AE34: =AC34+AD34 -> 0 | AF34: =ROUND(W34*1%,0) -> 0 | AG34: 0 | AH34: =AB34+AE34+AF34+AG34 -> 0 | AI34: 0 | AJ34: 0 | AK34: 0 | AL34: 0 | AM34: 0 | AN34: 0 | AO34: =SUM(AI34:AN34) -> 0 | AP34: =I34+AH34 -> 690013 | AQ34: =J34+W34 -> 511879 | AR34: =K34+AA34 -> 0 | AS34: =L34+AE34 -> 173015 | AT34: =M34+AF34 -> 5119 | AU34: =N34+AG34 -> 0 | AV34: =O34+AO34 -> 1 | AW34: =SUM(AX34:BB34) -> 0 | AX34: 0 | AY34: 0 | AZ34: 0 | BA34: 0 | BB34: 0 | BC34: 0
A35: 4 | B35: 2451 | C35: 650037901 | D35: 72744880 | E35: ZŠ a MŠ Bulovka 156 Celkem | I35: 7273855 | J35: 5396035 | K35: 0 | L35: 1823859 | M35: 53961 | N35: 0 | O35: 9.3 | P35: =SUM(P31:P34) -> -30000 | Q35: =SUM(Q31:Q34) -> 0 | R35: =SUM(R31:R34) -> -26490 | S35: =SUM(S31:S34) -> 0 | T35: =SUM(T31:T34) -> 0 | U35: =SUM(U31:U34) -> 0 | V35: =SUM(V31:V34) -> 0 | W35: =SUM(W31:W34) -> -56490 | ... BC35: =SUM(BC31:BC34) -> 0
A36: 5 | B36: 2453 | C36: 600079686 | D36: 72743603 | E36: ZŠ a MŠ Dětřichov 234 | F36: 3111 | G36: MŠ | H36: MŠMT | I36: 3831673 | J36: 2820650 | K36: 22000 | L36: 960816 | M36: 28207 | N36: 0 | O36: 4.4761 | P36: =X36*-1 -> 6000 | Q36: 0 | R36: 0 | S36: 0 | T36: 0 | U36: 0 | V36: 0 | W36: =SUM(P36:V36) -> 6000 | X36: -6000 | Y36: 0 | Z36: 0 | AA36: =X36+Y36+Z36 -> -6000 | AB36: =W36+AA36 -> 0 | AC36: =ROUND((W36+X36+Y36)*33.8%,0) -> 0 | AD36: 0 | AE36: =AC36+AD36 -> 0 | AF36: =ROUND(W36*1%,0) -> 60 | AG36: 0 | AH36: =AB36+AE36+AF36+AG36 -> 60 | AI36: 0.01 | AJ36: 0 | AK36: 0 | AL36: 0 | AM36: 0 | AN36: 0 | AO36: =SUM(AI36:AN36) -> 0.01 | AP36: =I36+AH36 -> 3831733 | AQ36: =J36+W36 -> 2826650 | AR36: =K36+AA36 -> 16000 | AS36: =L36+AE36 -> 960816 | AT36: =M36+AF36 -> 28267 | AU36: =N36+AG36 -> 0 | AV36: =O36+AO36 -> 4.4861 | AW36: =SUM(AX36:BB36) -> 0 | AX36: 0 | AY36: 0 | AZ36: 0 | BA36: 0 | BB36: 0 | BC36: 0
A37: 5 | B37: 2453 | C37: 600079686 | D37: 72743603 | E37: ZŠ a MŠ Dětřichov 234 | F37: 3117 | G37: ZŠ | H37: MŠMT | I37: 6035529 | J37: 4370767 | K37: 107425 | L37: 1513629 | M37: 43708 | N37: 0 | O37: 6.3974 | P37: =X37*-1 -> 67425 | Q37: 0 | R37: 0 | S37: 0 | T37: 0 | U37: 0 | V37: 0 | W37: =SUM(P37:V37) -> 67425 | X37: -67425 | Y37: 0 | Z37: 0 | AA37: =X37+Y37+Z37 -> -67425 | AB37: =W37+AA37 -> 0 | AC37: =ROUND((W37+X37+Y37)*33.8%,0) -> 0 | AD37: 0 | AE37: =AC37+AD37 -> 0 | AF37: =ROUND(W37*1%,0) -> 674 | AG37: 0 | AH37: =AB37+AE37+AF37+AG37 -> 674 | AI37: 0.06 | AJ37: 0 | AK37: 0 | AL37: 0 | AM37: 0 | AN37: 0 | AO37: =SUM(AI37:AN37) -> 0.06 | AP37: =I37+AH37 -> 6036203 | AQ37: =J37+W37 -> 4438192 | AR37: =K37+AA37 -> 40000 | AS37: =L37+AE37 -> 1513629 | AT37: =M37+AF37 -> 44382 | AU37: =N37+AG37 -> 0 | AV37: =O37+AO37 -> 6.4574 | AW37: =SUM(AX37:BB37) -> 0 | AX37: 0 | AY37: 0 | AZ37: 0 | BA37: 0 | BB37: 0 | BC37: 0
A38: 5 | B38: 2453 | C38: 600079686 | D38: 72743603 | E38: ZŠ a MŠ Dětřichov 234 | F38: 3117 | G38: AP 1.ročník | H38: MŠMT | I38: 0 | J38: 0 | K38: 0 | L38: 0 | M38: 0 | N38: 0 | O38: 0 | P38: =X38*-1 -> 0 | Q38: 0 | R38: 0 | S38: 0 | T38: 0 | U38: 78557 | V38: 0 | W38: =SUM(P38:V38) -> 78557 | X38: 0 | Y38: 0 | Z38: 0 | AA38: =X38+Y38+Z38 -> 0 | AB38: =W38+AA38 -> 78557 | AC38: =ROUND((W38+X38+Y38)*33.8%,0) -> 26552 | AD38: 0 | AE38: =AC38+AD38 -> 26552 | AF38: =ROUND(W38*1%,0) -> 786 | AG38: 0 | AH38: =AB38+AE38+AF38+AG38 -> 105895 | AI38: 0 | AJ38: 0 | AK38: 0 | AL38: 0 | AM38: 0.19 | AN38: 0 | AO38: =SUM(AI38:AN38) -> 0.19 | AP38: =I38+AH38 -> 105895 | AQ38: =J38+W38 -> 78557 | AR38: =K38+AA38 -> 0 | AS38: =L38+AE38 -> 26552 | AT38: =M38+AF38 -> 786 | AU38: =N38+AG38 -> 0 | AV38: =O38+AO38 -> 0.19 | AW38: =SUM(AX38:BB38) -> 0 | AX38: 0 | AY38: 0 | AZ38: 0 | BA38: 0 | BB38: 0 | BC38: 0
A39: 5 | B39: 2453 | C39: 600079686 | D39: 72743603 | E39: ZŠ a MŠ Dětřichov 234 | F39: 3117 | G39: PO | H39: KÚ | I39: 2535485 | J39: 1880924 | K39: 0 | L39: 635752 | M39: 18809 | N39: 0 | O39: 4.59 | P39: =X39*-1 -> 0 | Q39: 0 | R39: -231494 | S39: 0 | T39: 0 | U39: 0 | V39: 0 | W39: =SUM(P39:V39) -> -231494 | X39: 0 | Y39: 0 | Z39: 0 | AA39: =X39+Y39+Z39 -> 0 | AB39: =W39+AA39 -> -231494 | AC39: =ROUND((W39+X39+Y39)*33.8%,0) -> -78245 | AD39: 0 | AE39: =AC39+AD39 -> -78245 | AF39: =ROUND(W39*1%,0) -> -2315 | AG39: 0 | AH39: =AB39+AE39+AF39+AG39 -> -312054 | AI39: 0 | AJ39: -0.58 | AK39: 0 | AL39: 0 | AM39: 0 | AN39: 0 | AO39: =SUM(AI39:AN39) -> -0.58 | AP39: =I39+AH39 -> 2223431 | AQ39: =J39+W39 -> 1649430 | AR39: =K39+AA39 -> 0 | AS39: =L39+AE39 -> 557507 | AT39: =M39+AF39 -> 16494 | AU39: =N39+AG39 -> 0 | AV39: =O39+AO39 -> 4.01 | AW39: =SUM(AX39:BB39) -> 0 | AX39: 0 | AY39: 0 | AZ39: 0 | BA39: 0 | BB39: 0 | BC39: 0
A40: 5 | B40: 2453 | C40: 600079686 | D40: 72743603 | E40: ZŠ a MŠ Dětřichov 234 | F40: 3143 | G40: ŠD | H40: MŠMT | I40: 1477185 | J40: 1095835 | K40: 0 | L40: 370392 | M40: 10958 | N40: 0 | O40: 1.9822 | P40: =X40*-1 -> 0 | Q40: 0 | R40: 0 | S40: 0 | T40: 0 | U40: 0 | V40: 0 | W40: =SUM(P40:V40) -> 0 | X40: 0 | Y40: 0 | Z40: 0 | AA40: =X40+Y40+Z40 -> 0 | AB40: =W40+AA40 -> 0 | AC40: =ROUND((W40+X40+Y40)*33.8%,0) -> 0 | AD40: 0 | AE40: =AC40+AD40 -> 0 | AF40: =ROUND(W40*1%,0) -> 0 | AG40: 0 | AH40: =AB40+AE40+AF40+AG40 -> 0 | AI40: 0 | AJ40: 0 | AK40: 0 | AL40: 0 | AM40: 0 | AN40: 0 | AO40: =SUM(AI40:AN40) -> 0 | AP40: =I40+AH40 -> 1477185 | AQ40: =J40+W40 -> 1095835 | AR40: =K40+AA40 -> 0 | AS40: =L40+AE40 -> 370392 | AT40: =M40+AF40 -> 10958 | AU40: =N40+AG40 -> 0 | AV40: =O40+AO40 -> 1.9822 | AW40: =SUM(AX40:BB40) -> 0 | AX40: 0 | AY40: 0 | AZ40: 0 | BA40: 0 | BB40: 0 | BC40: 0
A41: 5 | B41: 2453 | C41: 600079686 | D41: 72743603 | E41: ZŠ a MŠ Dětřichov 234 Celkem | I41: 13879872 | J41: 10168176 | K41: 129425 | L41: 3480589 | M41: 101682 | N41: 0 | O41: 17.4457 | P41: =SUM(P36:P40) -> 73425 | Q41: =SUM(Q36:Q40) -> 0 | R41: =SUM(R36:R40) -> -231494 | S41: =SUM(S36:S40) -> 0 | T41: =SUM(T36:T40) -> 0 | U41: =SUM(U36:U40) -> 78557 | V41: =SUM(V36:V40) -> 0 | W41: =SUM(W36:W40) -> -79512 | ... BC41: =SUM(BC36:BC40) -> 0
A42: 6 | B42: 2320 | C42: 650034180 | D42: 72755369 | E42: ZŠ a MŠ Dolní Řasnice 270 | F42: 3111 | G42: MŠ | H42: MŠMT | I42: 3082160 | J42: 2281506 | K42: 5000 | L42: 772839 | M42: 22815 | N42: 0 | O42: 4 | P42: =X42*-1 -> 5000 | Q42: 0 | R42: 0 | S42: 0 | T42: 0 | U42: 0 | V42: 0 | W42: =SUM(P42:V42) -> 5000 | X42: -5000 | Y42: 0 | Z42: 0 | AA42: =X42+Y42+Z42 -> -5000 | AB42: =W42+AA42 -> 0 | AC42: =ROUND((W42+X42+Y42)*33.8%,0) -> 0 | AD42: 0 | AE42: =AC42+AD42 -> 0 | AF42: =ROUND(W42*1%,0) -> 50 | AG42: 0 | AH42: =AB42+AE42+AF42+AG42 -> 50 | AI42: 0 | AJ42: 0 | AK42: 0 | AL42: 0 | AM42: 0 | AN42: 0 | AO42: =SUM(AI42:AN42) -> 0 | AP42: =I42+AH42 -> 3082210 | AQ42: =J42+W42 -> 2286506 | AR42: =K42+AA42 -> 0 | AS42: =L42+AE42 -> 772839 | AT42: =M42+AF42 -> 22865 | AU42: =N42+AG42 -> 0 | AV42: =O42+AO42 -> 4 | AW42: =SUM(AX42:BB42) -> 0 | AX42: 0 | AY42: 0 | AZ42: 0 | BA42: 0 | BB42: 0 | BC42: 0
A43: 6 | B43: 2320 | C43: 650034180 | D43: 72755369 | E43: ZŠ a MŠ Dolní Řasnice 270 | F43: 3117 | G43: ZŠ | H43: MŠMT | I43: 3922890 | J43: 2895267 | K43: 15000 | L43: 983670 | M43: 28953 | N43: 0 | O43: 4.1263 | P43: =X43*-1 -> 6200 | Q43: 0 | R43: 0 | S43: 0 | T43: 0 | U43: 0 | V43: 0 | W43: =SUM(P43:V43) -> 6200 | X43: -6200 | Y43: 0 | Z43: 0 | AA43: =X43+Y43+Z43 -> -6200 | AB43: =W43+AA43 -> 0 | AC43: =ROUND((W43+X43+Y43)*33.8%,0) -> 0 | AD43: 0 | AE43: =AC43+AD43 -> 0 | AF43: =ROUND(W43*1%,0) -> 62 | AG43: 0 | AH43: =AB43+AE43+AF43+AG43 -> 62 | AI43: 0.01 | AJ43: 0 | AK43: 0 | AL43: 0 | AM43: 0 | AN43: 0 | AO43: =SUM(AI43:AN43) -> 0.01 | AP43: =I43+AH43 -> 3922952 | AQ43: =J43+W43 -> 2901467 | AR43: =K43+AA43 -> 8800 | AS43: =L43+AE43 -> 983670 | AT43: =M43+AF43 -> 29015 | AU43: =N43+AG43 -> 0 | AV43: =O43+AO43 -> 4.1363 | AW43: =SUM(AX43:BB43) -> 0 | AX43: 0 | AY43: 0 | AZ43: 0 | BA43: 0 | BB43: 0 | BC43: 0
A44: 6 | B44: 2320 | C44: 650034180 | D44: 72755369 | E44: ZŠ a MŠ Dolní Řasnice 270 | F44: 3117 | G44: PO | H44: KÚ | I44: 609256 | J44: 451970 | K44: 0 | L44: 152766 | M44: 4520 | N44: 0 | O44: 1.14 | P44: =X44*-1 -> 0 | Q44: 0 | R44: 55608 | S44: 0 | T44: 0 | U44: 0 | V44: 0 | W44: =SUM(P44:V44) -> 55608 | X44: 0 | Y44: 0 | Z44: 0 | AA44: =X44+Y44+Z44 -> 0 | AB44: =W44+AA44 -> 55608 | AC44: =ROUND((W44+X44+Y44)*33.8%,0) -> 18796 | AD44: 0 | AE44: =AC44+AD44 -> 18796 | AF44: =ROUND(W44*1%,0) -> 556 | AG44: 0 | AH44: =AB44+AE44+AF44+AG44 -> 74960 | AI44: 0 | AJ44: 0.2 | AK44: 0 | AL44: 0 | AM44: 0 | AN44: 0 | AO44: =SUM(AI44:AN44) -> 0.2 | AP44: =I44+AH44 -> 684216 | AQ44: =J44+W44 -> 507578 | AR44: =K44+AA44 -> 0 | AS44: =L44+AE44 -> 171562 | AT44: =M44+AF44 -> 5076 | AU44: =N44+AG44 -> 0 | AV44: =O44+AO44 -> 1.34 | AW44: =SUM(AX44:BB44) -> 0 | AX44: 0 | AY44: 0 | AZ44: 0 | BA44: 0 | BB44: 0 | BC44: 0
A45: 6 | B45: 2320 | C45: 650034180 | D45: 72755369 | E45: ZŠ a MŠ Dolní Řasnice 270 | F45: 3143 | G45: ŠD | H45: MŠMT | I45: 989292 | J45: 733896 | K45: 0 | L45: 248057 | M45: 7339 | N45: 0 | O45: 1.458 | P45: =X45*-1 -> -11200 | Q45: 0 | R45: 0 | S45: 0 | T45: 0 | U45: 0 | V45: 0 | W45: =SUM(P45:V45) -> -11200 | X45: 11200 | Y45: 0 | Z45: 0 | AA45: =X45+Y45+Z45 -> 11200 | AB45: =W45+AA45 -> 0 | AC45: =ROUND((W45+X45+Y45)*33.8%,0) -> 0 | AD45: 0 | AE45: =AC45+AD45 -> 0 | AF45: =ROUND(W45*1%,0) -> -112 | AG45: 0 | AH45: =AB45+AE45+AF45+AG45 -> -112 | AI45: 0 | AJ45: 0 | AK45: 0 | AL45: 0 | AM45: 0 | AN45: 0 | AO45: =SUM(AI45:AN45) -> 0 | AP45: =I45+AH45 -> 989180 | AQ45: =J45+W45 -> 722696 | AR45: =K45+AA45 -> 11200 | AS45: =L45+AE45 -> 248057 | AT45: =M45+AF45 -> 7227 | AU45: =N45+AG45 -> 0 | AV45: =O45+AO45 -> 1.458 | AW45: =SUM(AX45:BB45) -> 0 | AX45: 0 | AY45: 0 | AZ45: 0 | BA45: 0 | BB45: 0 | BC45: 0
A46: 6 | B46: 2320 | C46: 650034180 | D46: 72755369 | E46: ZŠ a MŠ Dolní Řasnice 270 Celkem | I46: 8603598 | J46: 6362639 | K46: 20000 | L46: 2157332 | M46: 63627 | N46: 0 | O46: 10.7243 | P46: =SUM(P42:P45) -> 0 | Q46: =SUM(Q42:Q45) -> 0 | R46: =SUM(R42:R45) -> 55608 | S46: =SUM(S42:S45) -> 0 | T46: =SUM(T42:T45) -> 0 | U46: =SUM(U42:U45) -> 0 | V46: =SUM(V42:V45) -> 0 | W46: =SUM(W42:W45) -> 55608 | ... BC46: =SUM(BC42:BC45) -> 0
A47: 7 | B47: 2455 | C47: 600080145 | D47: 72741601 | E47: ZŠ a MŠ Habartice 213 | F47: 3111 | G47: MŠ | H47: MŠMT | I47: 1624060 | J47: 1204792 | K47: 0 | L47: 407220 | M47: 12048 | N47: 0 | O47: 2 | P47: =X47*-1 -> 0 | Q47: 0 | R47: 0 | S47: 0 | T47: 0 | U47: 0 | V47: 0 | W47: =SUM(P47:V47) -> 0 | X47: 0 | Y47: 0 | Z47: 0 | AA47: =X47+Y47+Z47 -> 0 | AB47: =W47+AA47 -> 0 | AC47: =ROUND((W47+X47+Y47)*33.8%,0) -> 0 | AD47: 0 | AE47: =AC47+AD47 -> 0 | AF47: =ROUND(W47*1%,0) -> 0 | AG47: 0 | AH47: =AB47+AE47+AF47+AG47 -> 0 | AI47: 0 | AJ47: 0 | AK47: 0 | AL47: 0 | AM47: 0 | AN47: 0 | AO47: =SUM(AI47:AN47) -> 0 | AP47: =I47+AH47 -> 1624060 | AQ47: =J47+W47 -> 1204792 | AR47: =K47+AA47 -> 0 | AS47: =L47+AE47 -> 407220 | AT47: =M47+AF47 -> 12048 | AU47: =N47+AG47 -> 0 | AV47: =O47+AO47 -> 2 | AW47: =SUM(AX47:BB47) -> 0 | AX47: 0 | AY47: 0 | AZ47: 0 | BA47: 0 | BB47: 0 | BC47: 0
A48: 7 | B48: 2455 | C48: 600080145 | D48: 72741601 | E48: ZŠ a MŠ Habartice 213 | F48: 3117 | G48: ZŠ | H48: MŠMT | I48: 2955472 | J48: 2192487 | K48: 0 | L48: 741060 | M48: 21925 | N48: 0 | O48: 3.4091 | P48: =X48*-1 -> 0 | Q48: 0 | R48: 0 | S48: 0 | T48: 0 | U48: 0 | V48: 0 | W48: =SUM(P48:V48) -> 0 | X48: 0 | Y48: 0 | Z48: 0 | AA48: =X48+Y48+Z48 -> 0 | AB48: =W48+AA48 -> 0 | AC48: =ROUND((W48+X48+Y48)*33.8%,0) -> 0 | AD48: 0 | AE48: =AC48+AD48 -> 0 | AF48: =ROUND(W48*1%,0) -> 0 | AG48: 0 | AH48: =AB48+AE48+AF48+AG48 -> 0 | AI48: 0 | AJ48: 0 | AK48: 0 | AL48: 0 | AM48: 0 | AN48: 0 | AO48: =SUM(AI48:AN48) -> 0 | AP48: =I48+AH48 -> 2955472 | AQ48: =J48+W48 -> 2192487 | AR48: =K48+AA48 -> 0 | AS48: =L48+AE48 -> 741060 | AT48: =M48+AF48 -> 21925 | AU48: =N48+AG48 -> 0 | AV48: =O48+AO48 -> 3.4091 | AW48: =SUM(AX48:BB48) -> 0 | AX48: 0 | AY48: 0 | AZ48: 0 | BA48: 0 | BB48: 0 | BC48: 0
A49: 7 | B49: 2455 | C49: 600080145 | D49: 72741601 | E49: ZŠ a MŠ Habartice 213 | F49: 3117 | G49: PO | H49: KÚ | I49: 303184 | J49: 224914 | K49: 0 | L49: 76021 | M49: 2249 | N49: 0 | O49: 0.55 | P49: =X49*-1 -> 0 | Q49: 0 | R49: 17660 | S49: 0 | T49: 0 | U49: 0 | V49: 0 | W49: =SUM(P49:V49) -> 17660 | X49: 0 | Y49: 0 | Z49: 0 | AA49: =X49+Y49+Z49 -> 0 | AB49: =W49+AA49 -> 17660 | AC49: =ROUND((W49+X49+Y49)*33.8%,0) -> 5969 | AD49: 0 | AE49: =AC49+AD49 -> 5969 | AF49: =ROUND(W49*1%,0) -> 177 | AG49: 0 | AH49: =AB49+AE49+AF49+AG49 -> 23806 | AI49: 0 | AJ49: 0.03 | AK49: 0 | AL49: 0 | AM49: 0 | AN49: 0 | AO49: =SUM(AI49:AN49) -> 0.03 | AP49: =I49+AH49 -> 326990 | AQ49: =J49+W49 -> 242574 | AR49: =K49+AA49 -> 0 | AS49: =L49+AE49 -> 81990 | AT49: =M49+AF49 -> 2426 | AU49: =N49+AG49 -> 0 | AV49: =O49+AO49 -> 0.58 | AW49: =SUM(AX49:BB49) -> 0 | AX49: 0 | AY49: 0 | AZ49: 0 | BA49: 0 | BB49: 0 | BC49: 0
A50: 7 | B50: 2455 | C50: 600080145 | D50: 72741601 | E50: ZŠ a MŠ Habartice 213 | F50: 3143 | G50: ŠD | H50: MŠMT | I50: 948249 | J50: 703449 | K50: 0 | L50: 237766 | M50: 7034 | N50: 0 | O50: 1.4375 | P50: =X50*-1 -> 0 | Q50: 0 | R50: 0 | S50: 0 | T50: 0 | U50: 0 | V50: 0 | W50: =SUM(P50:V50) -> 0 | X50: 0 | Y50: 0 | Z50: 0 | AA50: =X50+Y50+Z50 -> 0 | AB50: =W50+AA50 -> 0 | AC50: =ROUND((W50+X50+Y50)*33.8%,0) -> 0 | AD50: 0 | AE50: =AC50+AD50 -> 0 | AF50: =ROUND(W50*1%,0) -> 0 | AG50: 0 | AH50: =AB50+AE50+AF50+AG50 -> 0 | AI50: 0 | AJ50: 0 | AK50: 0 | AL50: 0 | AM50: 0 | AN50: 0 | AO50: =SUM(AI50:AN50) -> 0 | AP50: =I50+AH50 -> 948249 | AQ50: =J50+W50 -> 703449 | AR50: =K50+AA50 -> 0 | AS50: =L50+AE50 -> 237766 | AT50: =M50+AF50 -> 7034 | AU50: =N50+AG50 -> 0 | AV50: =O50+AO50 -> 1.4375 | AW50: =SUM(AX50:BB50) -> 0 | AX50: 0 | AY50: 0 | AZ50: 0 | BA50: 0 | BB50: 0 | BC50: 0
A51: 7 | B51: 2455 | C51: 600080145 | D51: 72741601 | E51: ZŠ a MŠ Habartice 213 Celkem | I51: 5830965 | J51: 4325642 | K51: 0 | L51: 1462067 | M51: 43256 | N51: 0 | O51: 7.3966 | P51: =SUM(P47:P50) -> 0 | Q51: =SUM(Q47:Q50) -> 0 | R51: =SUM(R47:R50) -> 17660 | S51: =SUM(S47:S50) -> 0 | T51: =SUM(T47:T50) -> 0 | U51: =SUM(U47:U50) -> 0 | V51: =SUM(V47:V50) -> 0 | W51: =SUM(W47:W50) -> 17660 | ... BC51: =SUM(BC47:BC50) -> 0
A52: 8 | B52: 2456 | C52: 600079732 | D52: 70695911 | E52: ZŠ a MŠ Hejnice, Lázeňská 406 | F52: 3111 | G52: MŠ | H52: MŠMT | I52: 9668609 | J52: 7167596 | K52: 5000 | L52: 2424337 | M52: 71676 | N52: 0 | O52: 12.3769 | P52: =X52*-1 -> 5000 | Q52: 0 | R52: 0 | S52: 0 | T52: 0 | U52: 0 | V52: 0 | W52: =SUM(P52:V52) -> 5000 | X52: -5000 | Y52: 0 | Z52: 0 | AA52: =X52+Y52+Z52 -> -5000 | AB52: =W52+AA52 -> 0 | AC52: =ROUND((W52+X52+Y52)*33.8%,0) -> 0 | AD52: 0 | AE52: =AC52+AD52 -> 0 | AF52: =ROUND(W52*1%,0) -> 50 | AG52: 0 | AH52: =AB52+AE52+AF52+AG52 -> 50 | AI52: 0 | AJ52: 0 | AK52: 0 | AL52: 0 | AM52: 0 | AN52: 0 | AO52: =SUM(AI52:AN52) -> 0 | AP52: =I52+AH52 -> 9668659 | AQ52: =J52+W52 -> 7172596 | AR52: =K52+AA52 -> 0 | AS52: =L52+AE52 -> 2424337 | AT52: =M52+AF52 -> 71726 | AU52: =N52+AG52 -> 0 | AV52: =O52+AO52 -> 12.3769 | AW52: =SUM(AX52:BB52) -> 0 | AX52: 0 | AY52: 0 | AZ52: 0 | BA52: 0 | BB52: 0 | BC52: 0
A53: 8 | B53: 2456 | C53: 600079732 | D53: 70695911 | E53: ZŠ a MŠ Hejnice, Lázeňská 406 | F53: 3113 | G53: ZŠ | H53: MŠMT | I53: 25650770 | J53: 18875912 | K53: 80000 | L53: 6407099 | M53: 188759 | N53: 99000 | O53: 25 | P53: =X53*-1 -> 30000 | Q53: 0 | R53: 0 | S53: 0 | T53: 0 | U53: 0 | V53: 0 | W53: =SUM(P53:V53) -> 30000 | X53: -30000 | Y53: 0 | Z53: 0 | AA53: =X53+Y53+Z53 -> -30000 | AB53: =W53+AA53 -> 0 | AC53: =ROUND((W53+X53+Y53)*33.8%,0) -> 0 | AD53: 0 | AE53: =AC53+AD53 -> 0 | AF53: =ROUND(W53*1%,0) -> 300 | AG53: 0 | AH53: =AB53+AE53+AF53+AG53 -> 300 | AI53: -0.03 | AJ53: 0 | AK53: 0 | AL53: 0 | AM53: 0 | AN53: 0 | AO53: =SUM(AI53:AN53) -> -0.03 | AP53: =I53+AH53 -> 25651070 | AQ53: =J53+W53 -> 18905912 | AR53: =K53+AA53 -> 50000 | AS53: =L53+AE53 -> 6407099 | AT53: =M53+AF53 -> 189059 | AU53: =N53+AG53 -> 99000 | AV53: =O53+AO53 -> 24.97 | AW53: =SUM(AX53:BB53) -> 99000 | AX53: 0 | AY53: 0 | AZ53: 0 | BA53: 0 | BB53: 99000 | BC53: 0
A54: 8 | B54: 2456 | C54: 600079732 | D54: 70695911 | E54: ZŠ a MŠ Hejnice, Lázeňská 406 | F54: 3113 | G54: ZŠ PPP | H54: MŠMT | I54: 575464 | J54: 426902 | K54: 0 | L54: 144293 | M54: 4269 | N54: 0 | O54: 0.8 | P54: =X54*-1 -> 0 | Q54: 0 | R54: 0 | S54: 0 | T54: 0 | U54: 0 | V54: 0 | W54: =SUM(P54:V54) -> 0 | X54: 0 | Y54: 0 | Z54: 0 | AA54: =X54+Y54+Z54 -> 0 | AB54: =W54+AA54 -> 0 | AC54: =ROUND((W54+X54+Y54)*33.8%,0) -> 0 | AD54: 0 | AE54: =AC54+AD54 -> 0 | AF54: =ROUND(W54*1%,0) -> 0 | AG54: 0 | AH54: =AB54+AE54+AF54+AG54 -> 0 | AI54: 0 | AJ54: 0 | AK54: 0 | AL54: 0 | AM54: 0 | AN54: 0 | AO54: =SUM(AI54:AN54) -> 0 | AP54: =I54+AH54 -> 575464 | AQ54: =J54+W54 -> 426902 | AR54: =K54+AA54 -> 0 | AS54: =L54+AE54 -> 144293 | AT54: =M54+AF54 -> 4269 | AU54: =N54+AG54 -> 0 | AV54: =O54+AO54 -> 0.8 | AW54: =SUM(AX54:BB54) -> 0 | AX54: 0 | AY54: 0 | AZ54: 0 | BA54: 0 | BB54: 0 | BC54: 0
A55: 8 | B55: 2456 | C55: 600079732 | D55: 70695911 | E55: ZŠ a MŠ Hejnice, Lázeňská 406 | F55: 3113 | G55: AP 1.ročník | H55: MŠMT | I55: 0 | J55: 0 | K55: 0 | L55: 0 | M55: 0 | N55: 0 | O55: 0 | P55: =X55*-1 -> 0 | Q55: 0 | R55: 0 | S55: 0 | T55: 0 | U55: 157114 | V55: 0 | W55: =SUM(P55:V55) -> 157114 | X55: 0 | Y55: 0 | Z55: 0 | AA55: =X55+Y55+Z55 -> 0 | AB55: =W55+AA55 -> 157114 | AC55: =ROUND((W55+X55+Y55)*33.8%,0) -> 53105 | AD55: 0 | AE55: =AC55+AD55 -> 53105 | AF55: =ROUND(W55*1%,0) -> 1571 | AG55: 0 | AH55: =AB55+AE55+AF55+AG55 -> 211790 | AI55: 0 | AJ55: 0 | AK55: 0 | AL55: 0 | AM55: 0.37 | AN55: 0 | AO55: =SUM(AI55:AN55) -> 0.37 | AP55: =I55+AH55 -> 211790 | AQ55: =J55+W55 -> 157114 | AR55: =K55+AA55 -> 0 | AS55: =L55+AE55 -> 53105 | AT55: =M55+AF55 -> 1571 | AU55: =N55+AG55 -> 0 | AV55: =O55+AO55 -> 0.37 | AW55: =SUM(AX55:BB55) -> 0 | AX55: 0 | AY55: 0 | AZ55: 0 | BA55: 0 | BB55: 0 | BC55: 0
A56: 8 | B56: 2456 | C56: 600079732 | D56: 70695911 | E56: ZŠ a MŠ Hejnice, Lázeňská 406 | F56: 3113 | G56: PO | H56: KÚ | I56: 3943314 | J56: 2925307 | K56: 0 | L56: 988754 | M56: 29253 | N56: 0 | O56: 7.38 | P56: =X56*-1 -> 0 | Q56: 0 | R56: -360159 | S56: 0 | T56: 0 | U56: 0 | V56: 0 | W56: =SUM(P56:V56) -> -360159 | X56: 0 | Y56: 0 | Z56: 0 | AA56: =X56+Y56+Z56 -> 0 | AB56: =W56+AA56 -> -360159 | AC56: =ROUND((W56+X56+Y56)*33.8%,0) -> -121734 | AD56: 0 | AE56: =AC56+AD56 -> -121734 | AF56: =ROUND(W56*1%,0) -> -3602 | AG56: 0 | AH56: =AB56+AE56+AF56+AG56 -> -485495 | AI56: 0 | AJ56: -0.87 | AK56: 0 | AL56: 0 | AM56: 0 | AN56: 0 | AO56: =SUM(AI56:AN56) -> -0.87 | AP56: =I56+AH56 -> 3457819 | AQ56: =J56+W56 -> 2565148 | AR56: =K56+AA56 -> 0 | AS56: =L56+AE56 -> 867020 | AT56: =M56+AF56 -> 25651 | AU56: =N56+AG56 -> 0 | AV56: =O56+AO56 -> 6.51 | AW56: =SUM(AX56:BB56) -> 0 | AX56: 0 | AY56: 0 | AZ56: 0 | BA56: 0 | BB56: 0 | BC56: 0
A57: 8 | B57: 2456 | C57: 600079732 | D57: 70695911 | E57: ZŠ a MŠ Hejnice, Lázeňská 406 | F57: 3143 | G57: ŠD | H57: MŠMT | I57: 2149603 | J57: 1579772 | K57: 15000 | L57: 539033 | M57: 15798 | N57: 0 | O57: 2.8235 | P57: =X57*-1 -> 5000 | Q57: 0 | R57: 0 | S57: 0 | T57: 0 | U57: 0 | V57: 0 | W57: =SUM(P57:V57) -> 5000 | X57: -5000 | Y57: 0 | Z57: 0 | AA57: =X57+Y57+Z57 -> -5000 | AB57: =W57+AA57 -> 0 | AC57: =ROUND((W57+X57+Y57)*33.8%,0) -> 0 | AD57: 0 | AE57: =AC57+AD57 -> 0 | AF57: =ROUND(W57*1%,0) -> 50 | AG57: 0 | AH57: =AB57+AE57+AF57+AG57 -> 50 | AI57: 0 | AJ57: 0 | AK57: 0 | AL57: 0 | AM57: 0 | AN57: 0 | AO57: =SUM(AI57:AN57) -> 0 | AP57: =I57+AH57 -> 2149653 | AQ57: =J57+W57 -> 1584772 | AR57: =K57+AA57 -> 10000 | AS57: =L57+AE57 -> 539033 | AT57: =M57+AF57 -> 15848 | AU57: =N57+AG57 -> 0 | AV57: =O57+AO57 -> 2.8235 | AW57: =SUM(AX57:BB57) -> 0 | AX57: 0 | AY57: 0 | AZ57: 0 | BA57: 0 | BB57: 0 | BC57: 0
A58: 8 | B58: 2456 | C58: 600079732 | D58: 70695911 | E58: ZŠ a MŠ Hejnice, Lázeňská 406 Celkem | I58: 41987760 | J58: 30975489 | K58: 100000 | L58: 10503516 | M58: 309755 | N58: 99000 | O58: 48.3804 | P58: =SUM(P52:P57) -> 40000 | Q58: =SUM(Q52:Q57) -> 0 | R58: =SUM(R52:R57) -> -360159 | S58: =SUM(S52:S57) -> 0 | T58: =SUM(T52:T57) -> 0 | U58: =SUM(U52:U57) -> 157114 | V58: =SUM(V52:V57) -> 0 | W58: =SUM(W52:W57) -> -163045 | ... BC58: =SUM(BC52:BC57) -> 0
A59: 9 | B59: 2462 | C59: 600079813 | D59: 72744600 | E59: ZŠ a MŠ Jindřichovice p. S. 312 | F59: 3111 | G59: MŠ | H59: MŠMT | I59: 1635471 | J59: 1213257 | K59: 0 | L59: 410081 | M59: 12133 | N59: 0 | O59: 2 | P59: =X59*-1 -> 0 | Q59: 0 | R59: 0 | S59: 0 | T59: 0 | U59: 0 | V59: 0 | W59: =SUM(P59:V59) -> 0 | X59: 0 | Y59: 0 | Z59: 0 | AA59: =X59+Y59+Z59 -> 0 | AB59: =W59+AA59 -> 0 | AC59: =ROUND((W59+X59+Y59)*33.8%,0) -> 0 | AD59: 0 | AE59: =AC59+AD59 -> 0 | AF59: =ROUND(W59*1%,0) -> 0 | AG59: 0 | AH59: =AB59+AE59+AF59+AG59 -> 0 | AI59: 0 | AJ59: 0 | AK59: 0 | AL59: 0 | AM59: 0 | AN59: 0 | AO59: =SUM(AI59:AN59) -> 0 | AP59: =I59+AH59 -> 1635471 | AQ59: =J59+W59 -> 1213257 | AR59: =K59+AA59 -> 0 | AS59: =L59+AE59 -> 410081 | AT59: =M59+AF59 -> 12133 | AU59: =N59+AG59 -> 0 | AV59: =O59+AO59 -> 2 | AW59: =SUM(AX59:BB59) -> 0 | AX59: 0 | AY59: 0 | AZ59: 0 | BA59: 0 | BB59: 0 | BC59: 0
A60: 9 | B60: 2462 | C60: 600079813 | D60: 72744600 | E60: ZŠ a MŠ Jindřichovice p. S. 312 | F60: 3117 | G60: ZŠ | H60: MŠMT | I60: 3106541 | J60: 2304556 | K60: 0 | L60: 778940 | M60: 23045 | N60: 0 | O60: 3.5258 | P60: =X60*-1 -> 0 | Q60: 0 | R60: 0 | S60: 0 | T60: 0 | U60: 0 | V60: 0 | W60: =SUM(P60:V60) -> 0 | X60: 0 | Y60: 0 | Z60: 0 | AA60: =X60+Y60+Z60 -> 0 | AB60: =W60+AA60 -> 0 | AC60: =ROUND((W60+X60+Y60)*33.8%,0) -> 0 | AD60: 0 | AE60: =AC60+AD60 -> 0 | AF60: =ROUND(W60*1%,0) -> 0 | AG60: 0 | AH60: =AB60+AE60+AF60+AG60 -> 0 | AI60: 0 | AJ60: 0 | AK60: 0 | AL60: 0 | AM60: 0 | AN60: 0 | AO60: =SUM(AI60:AN60) -> 0 | AP60: =I60+AH60 -> 3106541 | AQ60: =J60+W60 -> 2304556 | AR60: =K60+AA60 -> 0 | AS60: =L60+AE60 -> 778940 | AT60: =M60+AF60 -> 23045 | AU60: =N60+AG60 -> 0 | AV60: =O60+AO60 -> 3.5258 | AW60: =SUM(AX60:BB60) -> 0 | AX60: 0 | AY60: 0 | AZ60: 0 | BA60: 0 | BB60: 0 | BC60: 0
A61: 9 | B61: 2462 | C61: 600079813 | D61: 72744600 | E61: ZŠ a MŠ Jindřichovice p. S. 312 | F61: 3117 | G61: PO | H61: KÚ | I61: 1334561 | J61: 990031 | K61: 0 | L61: 334630 | M61: 9900 | N61: 0 | O61: 2.44 | P61: =X61*-1 -> 0 | Q61: 0 | R61: 99212 | S61: 0 | T61: 0 | U61: 0 | V61: 0 | W61: =SUM(P61:V61) -> 99212 | X61: 0 | Y61: 0 | Z61: 0 | AA61: =X61+Y61+Z61 -> 0 | AB61: =W61+AA61 -> 99212 | AC61: =ROUND((W61+X61+Y61)*33.8%,0) -> 33534 | AD61: 0 | AE61: =AC61+AD61 -> 33534 | AF61: =ROUND(W61*1%,0) -> 992 | AG61: 0 | AH61: =AB61+AE61+AF61+AG61 -> 133738 | AI61: 0 | AJ61: 0.25 | AK61: 0 | AL61: 0 | AM61: 0 | AN61: 0 | AO61: =SUM(AI61:AN61) -> 0.25 | AP61: =I61+AH61 -> 1468299 | AQ61: =J61+W61 -> 1089243 | AR61: =K61+AA61 -> 0 | AS61: =L61+AE61 -> 368164 | AT61: =M61+AF61 -> 10892 | AU61: =N61+AG61 -> 0 | AV61: =O61+AO61 -> 2.69 | AW61: =SUM(AX61:BB61) -> 0 | AX61: 0 | AY61: 0 | AZ61: 0 | BA61: 0 | BB61: 0 | BC61: 0
A62: 9 | B62: 2462 | C62: 600079813 | D62: 72744600 | E62: ZŠ a MŠ Jindřichovice p. S. 312 | F62: 3143 | G62: ŠD | H62: MŠMT | I62: 738952 | J62: 548184 | K62: 0 | L62: 185286 | M62: 5482 | N62: 0 | O62: 1.0833 | P62: =X62*-1 -> 0 | Q62: 0 | R62: 0 | S62: 0 | T62: 0 | U62: 0 | V62: 0 | W62: =SUM(P62:V62) -> 0 | X62: 0 | Y62: 0 | Z62: 0 | AA62: =X62+Y62+Z62 -> 0 | AB62: =W62+AA62 -> 0 | AC62: =ROUND((W62+X62+Y62)*33.8%,0) -> 0 | AD62: 0 | AE62: =AC62+AD62 -> 0 | AF62: =ROUND(W62*1%,0) -> 0 | AG62: 0 | AH62: =AB62+AE62+AF62+AG62 -> 0 | AI62: 0 | AJ62: 0 | AK62: 0 | AL62: 0 | AM62: 0 | AN62: 0 | AO62: =SUM(AI62:AN62) -> 0 | AP62: =I62+AH62 -> 738952 | AQ62: =J62+W62 -> 548184 | AR62: =K62+AA62 -> 0 | AS62: =L62+AE62 -> 185286 | AT62: =M62+AF62 -> 5482 | AU62: =N62+AG62 -> 0 | AV62: =O62+AO62 -> 1.0833 | AW62: =SUM(AX62:BB62) -> 0 | AX62: 0 | AY62: 0 | AZ62: 0 | BA62: 0 | BB62: 0 | BC62: 0
A63: 9 | B63: 2462 | C63: 600079813 | D63: 72744600 | E63: ZŠ a MŠ Jindřichovice p. S. 312 Celkem | I63: 6815525 | J63: 5056028 | K63: 0 | L63: 1708937 | M63: 50560 | N63: 0 | O63: 9.0491 | P63: =SUM(P59:P62) -> 0 | Q63: =SUM(Q59:Q62) -> 0 | R63: =SUM(R59:R62) -> 99212 | S63: =SUM(S59:S62) -> 0 | T63: =SUM(T59:T62) -> 0 | U63: =SUM(U59:U62) -> 0 | V63: =SUM(V59:V62) -> 0 | W63: =SUM(W59:W62) -> 99212 | ... BC63: =SUM(BC59:BC62) -> 0
A64: 10 | B64: 2464 | C64: 600080081 | D64: 72753846 | E64: ZŠ a MŠ Krásný Les 258 | F64: 3111 | G64: MŠ | H64: MŠMT | I64: 1690202 | J64: 1253859 | K64: 0 | L64: 423804 | M64: 12539 | N64: 0 | O64: 2.2562 | P64: =X64*-1 -> 0 | Q64: 0 | R64: 0 | S64: 0 | T64: 0 | U64: 0 | V64: 0 | W64: =SUM(P64:V64) -> 0 | X64: 0 | Y64: 0 | Z64: 0 | AA64: =X64+Y64+Z64 -> 0 | AB64: =W64+AA64 -> 0 | AC64: =ROUND((W64+X64+Y64)*33.8%,0) -> 0 | AD64: 0 | AE64: =AC64+AD64 -> 0 | AF64: =ROUND(W64*1%,0) -> 0 | AG64: 0 | AH64: =AB64+AE64+AF64+AG64 -> 0 | AI64: 0 | AJ64: 0 | AK64: 0 | AL64: 0 | AM64: 0 | AN64: 0 | AO64: =SUM(AI64:AN64) -> 0 | AP64: =I64+AH64 -> 1690202 | AQ64: =J64+W64 -> 1253859 | AR64: =K64+AA64 -> 0 | AS64: =L64+AE64 -> 423804 | AT64: =M64+AF64 -> 12539 | AU64: =N64+AG64 -> 0 | AV64: =O64+AO64 -> 2.2562 | AW64: =SUM(AX64:BB64) -> 0 | AX64: 0 | AY64: 0 | AZ64: 0 | BA64: 0 | BB64: 0 | BC64: 0
A65: 10 | B65: 2464 | C65: 600080081 | D65: 72753846 | E65: ZŠ a MŠ Krásný Les 258 | F65: 3117 | G65: ZŠ | H65: MŠMT | I65: 879713 | J65: 652606 | K65: 0 | L65: 220581 | M65: 6526 | N65: 0 | O65: 1.1394 | P65: =X65*-1 -> 0 | Q65: 0 | R65: 0 | S65: 0 | T65: 0 | U65: 0 | V65: 0 | W65: =SUM(P65:V65) -> 0 | X65: 0 | Y65: 0 | Z65: 0 | AA65: =X65+Y65+Z65 -> 0 | AB65: =W65+AA65 -> 0 | AC65: =ROUND((W65+X65+Y65)*33.8%,0) -> 0 | AD65: 0 | AE65: =AC65+AD65 -> 0 | AF65: =ROUND(W65*1%,0) -> 0 | AG65: 0 | AH65: =AB65+AE65+AF65+AG65 -> 0 | AI65: 0 | AJ65: 0 | AK65: 0 | AL65: 0 | AM65: 0 | AN65: 0 | AO65: =SUM(AI65:AN65) -> 0 | AP65: =I65+AH65 -> 879713 | AQ65: =J65+W65 -> 652606 | AR65: =K65+AA65 -> 0 | AS65: =L65+AE65 -> 220581 | AT65: =M65+AF65 -> 6526 | AU65: =N65+AG65 -> 0 | AV65: =O65+AO65 -> 1.1394 | AW65: =SUM(AX65:BB65) -> 0 | AX65: 0 | AY65: 0 | AZ65: 0 | BA65: 0 | BB65: 0 | BC65: 0
A66: 10 | B66: 2464 | C66: 600080081 | D66: 72753846 | E66: ZŠ a MŠ Krásný Les 258 | F66: 3117 | G66: PO | H66: KÚ | I66: 713267 | J66: 529130 | K66: 0 | L66: 178846 | M66: 5291 | N66: 0 | O66: 1.33 | P66: =X66*-1 -> 0 | Q66: 0 | R66: 0 | S66: 0 | T66: 0 | U66: 0 | V66: 0 | W66: =SUM(P66:V66) -> 0 | X66: 0 | Y66: 0 | Z66: 0 | AA66: =X66+Y66+Z66 -> 0 | AB66: =W66+AA66 -> 0 | AC66: =ROUND((W66+X66+Y66)*33.8%,0) -> 0 | AD66: 0 | AE66: =AC66+AD66 -> 0 | AF66: =ROUND(W66*1%,0) -> 0 | AG66: 0 | AH66: =AB66+AE66+AF66+AG66 -> 0 | AI66: 0 | AJ66: 0 | AK66: 0 | AL66: 0 | AM66: 0 | AN66: 0 | AO66: =SUM(AI66:AN66) -> 0 | AP66: =I66+AH66 -> 713267 | AQ66: =J66+W66 -> 529130 | AR66: =K66+AA66 -> 0 | AS66: =L66+AE66 -> 178846 | AT66: =M66+AF66 -> 5291 | AU66: =N66+AG66 -> 0 | AV66: =O66+AO66 -> 1.33 | AW66: =SUM(AX66:BB66) -> 0 | AX66: 0 | AY66: 0 | AZ66: 0 | BA66: 0 | BB66: 0 | BC66: 0
A67: 10 | B67: 2464 | C67: 600080081 | D67: 72753846 | E67: ZŠ a MŠ Krásný Les 258 | F67: 3143 | G67: ŠD | H67: MŠMT | I67: 668888 | J67: 496208 | K67: 0 | L67: 167718 | M67: 4962 | N67: 0 | O67: 1.0833 | P67: =X67*-1 -> 0 | Q67: 0 | R67: 0 | S67: 0 | T67: 0 | U67: 0 | V67: 0 | W67: =SUM(P67:V67) -> 0 | X67: 0 | Y67: 0 | Z67: 0 | AA67: =X67+Y67+Z67 -> 0 | AB67: =W67+AA67 -> 0 | AC67: =ROUND((W67+X67+Y67)*33.8%,0) -> 0 | AD67: 0 | AE67: =AC67+AD67 -> 0 | AF67: =ROUND(W67*1%,0) -> 0 | AG67: 0 | AH67: =AB67+AE67+AF67+AG67 -> 0 | AI67: 0 | AJ67: 0 | AK67: 0 | AL67: 0 | AM67: 0 | AN67: 0 | AO67: =SUM(AI67:AN67) -> 0 | AP67: =I67+AH67 -> 668888 | AQ67: =J67+W67 -> 496208 | AR67: =K67+AA67 -> 0 | AS67: =L67+AE67 -> 167718 | AT67: =M67+AF67 -> 4962 | AU67: =N67+AG67 -> 0 | AV67: =O67+AO67 -> 1.0833 | AW67: =SUM(AX67:BB67) -> 0 | AX67: 0 | AY67: 0 | AZ67: 0 | BA67: 0 | BB67: 0 | BC67: 0
A68: 10 | B68: 2464 | C68: 600080081 | D68: 72753846 | E68: ZŠ a MŠ Krásný Les 258 Celkem | I68: 3952070 | J68: 2931803 | K68: 0 | L68: 990949 | M68: 29318 | N68: 0 | O68: 5.8089 | P68: =SUM(P64:P67) -> 0 | Q68: =SUM(Q64:Q67) -> 0 | R68: =SUM(R64:R67) -> 0 | S68: =SUM(S64:S67) -> 0 | T68: =SUM(T64:T67) -> 0 | U68: =SUM(U64:U67) -> 0 | V68: =SUM(V64:V67) -> 0 | W68: =SUM(W64:W67) -> 0 | ... BC68: =SUM(BC64:BC67) -> 0
A69: 11 | B69: 2467 | C69: 600079708 | D69: 71012303 | E69: ZŠ a MŠ Kunratice 124 | F69: 3111 | G69: MŠ | H69: MŠMT | I69: 1697316 | J69: 1237300 | K69: 22000 | L69: 425643 | M69: 12373 | N69: 0 | O69: 2.06 | P69: =X69*-1 -> 22000 | Q69: 0 | R69: 0 | S69: 0 | T69: 0 | U69: 0 | V69: 0 | W69: =SUM(P69:V69) -> 22000 | X69: -22000 | Y69: 0 | Z69: 0 | AA69: =X69+Y69+Z69 -> -22000 | AB69: =W69+AA69 -> 0 | AC69: =ROUND((W69+X69+Y69)*33.8%,0) -> 0 | AD69: 0 | AE69: =AC69+AD69 -> 0 | AF69: =ROUND(W69*1%,0) -> 220 | AG69: 0 | AH69: =AB69+AE69+AF69+AG69 -> 220 | AI69: 0.04 | AJ69: 0 | AK69: 0 | AL69: 0 | AM69: 0 | AN69: 0 | AO69: =SUM(AI69:AN69) -> 0.04 | AP69: =I69+AH69 -> 1697536 | AQ69: =J69+W69 -> 1259300 | AR69: =K69+AA69 -> 0 | AS69: =L69+AE69 -> 425643 | AT69: =M69+AF69 -> 12593 | AU69: =N69+AG69 -> 0 | AV69: =O69+AO69 -> 2.1 | AW69: =SUM(AX69:BB69) -> 0 | AX69: 0 | AY69: 0 | AZ69: 0 | BA69: 0 | BB69: 0 | BC69: 0
A70: 11 | B70: 2467 | C70: 600079708 | D70: 71012303 | E70: ZŠ a MŠ Kunratice 124 | F70: 3111 | G70: PO | H70: KÚ | I70: 0 | J70: 0 | K70: 0 | L70: 0 | M70: 0 | N70: 0 | O70: 0 | P70: =X70*-1 -> 0 | Q70: 0 | R70: 0 | S70: 0 | T70: 0 | U70: 0 | V70: 0 | W70: =SUM(P70:V70) -> 0 | X70: 0 | Y70: 0 | Z70: 0 | AA70: =X70+Y70+Z70 -> 0 | AB70: =W70+AA70 -> 0 | AC70: =ROUND((W70+X70+Y70)*33.8%,0) -> 0 | AD70: 0 | AE70: =AC70+AD70 -> 0 | AF70: =ROUND(W70*1%,0) -> 0 | AG70: 0 | AH70: =AB70+AE70+AF70+AG70 -> 0 | AI70: 0 | AJ70: 0 | AK70: 0 | AL70: 0 | AM70: 0 | AN70: 0 | AO70: =SUM(AI70:AN70) -> 0 | AP70: =I70+AH70 -> 0 | AQ70: =J70+W70 -> 0 | AR70: =K70+AA70 -> 0 | AS70: =L70+AE70 -> 0 | AT70: =M70+AF70 -> 0 | AU70: =N70+AG70 -> 0 | AV70: =O70+AO70 -> 0 | AW70: =SUM(AX70:BB70) -> 0 | AX70: 0 | AY70: 0 | AZ70: 0 | BA70: 0 | BB70: 0 | BC70: 0
A71: 11 | B71: 2467 | C71: 600079708 | D71: 71012303 | E71: ZŠ a MŠ Kunratice 124 Celkem | I71: 1697316 | J71: 1237300 | K71: 22000 | L71: 425643 | M71: 12373 | N71: 0 | O71: 2.06 | P71: =SUM(P69:P70) -> 22000 | Q71: =SUM(Q69:Q70) -> 0 | R71: =SUM(R69:R70) -> 0 | S71: =SUM(S69:S70) -> 0 | T71: =SUM(T69:T70) -> 0 | U71: =SUM(U69:U70) -> 0 | V71: =SUM(V69:V70) -> 0 | W71: =SUM(W69:W70) -> 22000 | ... BC71: =SUM(BC69:BC70) -> 0
A72: 12 | B72: 2408 | C72: 600079058 | D72: 72741511 | E72: MŠ Lázně Libverda 177 | F72: 3111 | G72: MŠ | H72: MŠMT | I72: 1980001 | J72: 1468844 | K72: 0 | L72: 496469 | M72: 14688 | N72: 0 | O72: 2.371 | P72: =X72*-1 -> 0 | Q72: 0 | R72: 0 | S72: 0 | T72: 0 | U72: 0 | V72: 0 | W72: =SUM(P72:V72) -> 0 | X72: 0 | Y72: 0 | Z72: 0 | AA72: =X72+Y72+Z72 -> 0 | AB72: =W72+AA72 -> 0 | AC72: =ROUND((W72+X72+Y72)*33.8%,0) -> 0 | AD72: 0 | AE72: =AC72+AD72 -> 0 | AF72: =ROUND(W72*1%,0) -> 0 | AG72: 0 | AH72: =AB72+AE72+AF72+AG72 -> 0 | AI72: 0 | AJ72: 0 | AK72: 0 | AL72: 0 | AM72: 0 | AN72: 0 | AO72: =SUM(AI72:AN72) -> 0 | AP72: =I72+AH72 -> 1980001 | AQ72: =J72+W72 -> 1468844 | AR72: =K72+AA72 -> 0 | AS72: =L72+AE72 -> 496469 | AT72: =M72+AF72 -> 14688 | AU72: =N72+AG72 -> 0 | AV72: =O72+AO72 -> 2.371 | AW72: =SUM(AX72:BB72) -> 0 | AX72: 0 | AY72: 0 | AZ72: 0 | BA72: 0 | BB72: 0 | BC72: 0
A73: 12 | B73: 2408 | C73: 600079058 | D73: 72741511 | E73: MŠ Lázně Libverda 177 | F73: 3111 | G73: PO | H73: KÚ | I73: 167172 | J73: 124015 | K73: 0 | L73: 41917 | M73: 1240 | N73: 0 | O73: 0.31 | P73: =X73*-1 -> 0 | Q73: 0 | R73: 84515 | S73: 0 | T73: 0 | U73: 0 | V73: 0 | W73: =SUM(P73:V73) -> 84515 | X73: 0 | Y73: 0 | Z73: 0 | AA73: =X73+Y73+Z73 -> 0 | AB73: =W73+AA73 -> 84515 | AC73: =ROUND((W73+X73+Y73)*33.8%,0) -> 28566 | AD73: 0 | AE73: =AC73+AD73 -> 28566 | AF73: =ROUND(W73*1%,0) -> 845 | AG73: 0 | AH73: =AB73+AE73+AF73+AG73 -> 113926 | AI73: 0 | AJ73: 0.21 | AK73: 0 | AL73: 0 | AM73: 0 | AN73: 0 | AO73: =SUM(AI73:AN73) -> 0.21 | AP73: =I73+AH73 -> 281098 | AQ73: =J73+W73 -> 208530 | AR73: =K73+AA73 -> 0 | AS73: =L73+AE73 -> 70483 | AT73: =M73+AF73 -> 2085 | AU73: =N73+AG73 -> 0 | AV73: =O73+AO73 -> 0.52 | AW73: =SUM(AX73:BB73) -> 0 | AX73: 0 | AY73: 0 | AZ73: 0 | BA73: 0 | BB73: 0 | BC73: 0
A74: 12 | B74: 2408 | C74: 600079058 | D74: 72741511 | E74: MŠ Lázně Libverda 177 Celkem | I74: 2147173 | J74: 1592859 | K74: 0 | L74: 538386 | M74: 15928 | N74: 0 | O74: 2.681 | P74: =SUM(P72:P73) -> 0 | Q74: =SUM(Q72:Q73) -> 0 | R74: =SUM(R72:R73) -> 84515 | S74: =SUM(S72:S73) -> 0 | T74: =SUM(T72:T73) -> 0 | U74: =SUM(U72:U73) -> 0 | V74: =SUM(V72:V73) -> 0 | W74: =SUM(W72:W73) -> 84515 | ... BC74: =SUM(BC72:BC73) -> 0
A75: 13 | B75: 2304 | C75: 600080382 | D75: 72743417 | E75: ZŠ Lázně Libverda, č. p. 112 | F75: 3113 | G75: ZŠ | H75: MŠMT | I75: 4279507 | J75: 3174708 | K75: 0 | L75: 1073052 | M75: 31747 | N75: 0 | O75: 4.909 | P75: =X75*-1 -> 0 | Q75: 0 | R75: 0 | S75: 0 | T75: 0 | U75: 0 | V75: 0 | W75: =SUM(P75:V75) -> 0 | X75: 0 | Y75: 0 | Z75: 0 | AA75: =X75+Y75+Z75 -> 0 | AB75: =W75+AA75 -> 0 | AC75: =ROUND((W75+X75+Y75)*33.8%,0) -> 0 | AD75: 0 | AE75: =AC75+AD75 -> 0 | AF75: =ROUND(W75*1%,0) -> 0 | AG75: 0 | AH75: =AB75+AE75+AF75+AG75 -> 0 | AI75: 0 | AJ75: 0 | AK75: 0 | AL75: 0 | AM75: 0 | AN75: 0 | AO75: =SUM(AI75:AN75) -> 0 | AP75: =I75+AH75 -> 4279507 | AQ75: =J75+W75 -> 3174708 | AR75: =K75+AA75 -> 0 | AS75: =L75+AE75 -> 1073052 | AT75: =M75+AF75 -> 31747 | AU75: =N75+AG75 -> 0 | AV75: =O75+AO75 -> 4.909 | AW75: =SUM(AX75:BB75) -> 0 | AX75: 0 | AY75: 0 | AZ75: 0 | BA75: 0 | BB75: 0 | BC75: 0
A76: 13 | B76: 2304 | C76: 600080382 | D76: 72743417 | E76: ZŠ Lázně Libverda, č. p. 112 | F76: 3113 | G76: AP spec.tř. | H76: MŠMT | I76: 984169 | J76: 730096 | K76: 0 | L76: 246772 | M76: 7301 | N76: 0 | O76: 1.7222 | P76: =X76*-1 -> 0 | Q76: 0 | R76: 0 | S76: 0 | T76: 0 | U76: 0 | V76: 0 | W76: =SUM(P76:V76) -> 0 | X76: 0 | Y76: 0 | Z76: 0 | AA76: =X76+Y76+Z76 -> 0 | AB76: =W76+AA76 -> 0 | AC76: =ROUND((W76+X76+Y76)*33.8%,0) -> 0 | AD76: 0 | AE76: =AC76+AD76 -> 0 | AF76: =ROUND(W76*1%,0) -> 0 | AG76: 0 | AH76: =AB76+AE76+AF76+AG76 -> 0 | AI76: 0 | AJ76: 0 | AK76: 0 | AL76: 0 | AM76: 0 | AN76: 0 | AO76: =SUM(AI76:AN76) -> 0 | AP76: =I76+AH76 -> 984169 | AQ76: =J76+W76 -> 730096 | AR76: =K76+AA76 -> 0 | AS76: =L76+AE76 -> 246772 | AT76: =M76+AF76 -> 7301 | AU76: =N76+AG76 -> 0 | AV76: =O76+AO76 -> 1.7222 | AW76: =SUM(AX76:BB76) -> 0 | AX76: 0 | AY76: 0 | AZ76: 0 | BA76: 0 | BB76: 0 | BC76: 0
A77: 13 | B77: 2304 | C77: 600080382 | D77: 72743417 | E77: ZŠ Lázně Libverda, č. p. 112 | F77: 3113 | G77: PO | H77: KÚ | I77: 802427 | J77: 595272 | K77: 0 | L77: 201202 | M77: 5953 | N77: 0 | O77: 1.5 | P77: =X77*-1 -> 0 | Q77: 0 | R77: 0 | S77: 0 | T77: 0 | U77: 0 | V77: 0 | W77: =SUM(P77:V77) -> 0 | X77: 0 | Y77: 0 | Z77: 0 | AA77: =X77+Y77+Z77 -> 0 | AB77: =W77+AA77 -> 0 | AC77: =ROUND((W77+X77+Y77)*33.8%,0) -> 0 | AD77: 0 | AE77: =AC77+AD77 -> 0 | AF77: =ROUND(W77*1%,0) -> 0 | AG77: 0 | AH77: =AB77+AE77+AF77+AG77 -> 0 | AI77: 0 | AJ77: 0 | AK77: 0 | AL77: 0 | AM77: 0 | AN77: 0 | AO77: =SUM(AI77:AN77) -> 0 | AP77: =I77+AH77 -> 802427 | AQ77: =J77+W77 -> 595272 | AR77: =K77+AA77 -> 0 | AS77: =L77+AE77 -> 201202 | AT77: =M77+AF77 -> 5953 | AU77: =N77+AG77 -> 0 | AV77: =O77+AO77 -> 1.5 | AW77: =SUM(AX77:BB77) -> 0 | AX77: 0 | AY77: 0 | AZ77: 0 | BA77: 0 | BB77: 0 | BC77: 0
A78: 13 | B78: 2304 | C78: 600080382 | D78: 72743417 | E78: ZŠ Lázně Libverda, č. p. 112 | F78: 3143 | G78: ŠD | H78: MŠMT | I78: 309992 | J78: 229964 | K78: 0 | L78: 77728 | M78: 2300 | N78: 0 | O78: 0.5 | P78: =X78*-1 -> 0 | Q78: 0 | R78: 0 | S78: 0 | T78: 0 | U78: 0 | V78: 0 | W78: =SUM(P78:V78) -> 0 | X78: 0 | Y78: 0 | Z78: 0 | AA78: =X78+Y78+Z78 -> 0 | AB78: =W78+AA78 -> 0 | AC78: =ROUND((W78+X78+Y78)*33.8%,0) -> 0 | AD78: 0 | AE78: =AC78+AD78 -> 0 | AF78: =ROUND(W78*1%,0) -> 0 | AG78: 0 | AH78: =AB78+AE78+AF78+AG78 -> 0 | AI78: 0 | AJ78: 0 | AK78: 0 | AL78: 0 | AM78: 0 | AN78: 0 | AO78: =SUM(AI78:AN78) -> 0 | AP78: =I78+AH78 -> 309992 | AQ78: =J78+W78 -> 229964 | AR78: =K78+AA78 -> 0 | AS78: =L78+AE78 -> 77728 | AT78: =M78+AF78 -> 2300 | AU78: =N78+AG78 -> 0 | AV78: =O78+AO78 -> 0.5 | AW78: =SUM(AX78:BB78) -> 0 | AX78: 0 | AY78: 0 | AZ78: 0 | BA78: 0 | BB78: 0 | BC78: 0
A79: 13 | B79: 2304 | C79: 600080382 | D79: 72743417 | E79: ZŠ Lázně Libverda, č. p. 112 Celkem | I79: 6376095 | J79: 4730040 | K79: 0 | L79: 1598754 | M79: 47301 | N79: 0 | O79: 8.6312 | P79: =SUM(P75:P78) -> 0 | Q79: =SUM(Q75:Q78) -> 0 | R79: =SUM(R75:R78) -> 0 | S79: =SUM(S75:S78) -> 0 | T79: =SUM(T75:T78) -> 0 | U79: =SUM(U75:U78) -> 0 | V79: =SUM(V75:V78) -> 0 | W79: =SUM(W75:W78) -> 0 | ... BC79: =SUM(BC75:BC78) -> 0
A80: 14 | B80: 2438 | C80: 600079384 | D80: 72741911 | E80: MŠ Nové Město p. S., Mánesova 952 | F80: 3111 | G80: MŠ | H80: MŠMT | I80: 8621049 | J80: 6395437 | K80: 0 | L80: 2161658 | M80: 63954 | N80: 0 | O80: 10.387 | P80: =X80*-1 -> 0 | Q80: 0 | R80: 0 | S80: 0 | T80: 0 | U80: 0 | V80: 0 | W80: =SUM(P80:V80) -> 0 | X80: 0 | Y80: 0 | Z80: 0 | AA80: =X80+Y80+Z80 -> 0 | AB80: =W80+AA80 -> 0 | AC80: =ROUND((W80+X80+Y80)*33.8%,0) -> 0 | AD80: 0 | AE80: =AC80+AD80 -> 0 | AF80: =ROUND(W80*1%,0) -> 0 | AG80: 0 | AH80: =AB80+AE80+AF80+AG80 -> 0 | AI80: 0 | AJ80: 0 | AK80: 0 | AL80: 0 | AM80: 0 | AN80: 0 | AO80: =SUM(AI80:AN80) -> 0 | AP80: =I80+AH80 -> 8621049 | AQ80: =J80+W80 -> 6395437 | AR80: =K80+AA80 -> 0 | AS80: =L80+AE80 -> 2161658 | AT80: =M80+AF80 -> 63954 | AU80: =N80+AG80 -> 0 | AV80: =O80+AO80 -> 10.387 | AW80: =SUM(AX80:BB80) -> 0 | AX80: 0 | AY80: 0 | AZ80: 0 | BA80: 0 | BB80: 0 | BC80: 0
A81: 14 | B81: 2438 | C81: 600079384 | D81: 72741911 | E81: MŠ Nové Město p. S., Mánesova 952 | F81: 3111 | G81: PO | H81: KÚ | I81: 2110915 | J81: 1565961 | K81: 0 | L81: 529295 | M81: 15659 | N81: 0 | O81: 3.91 | P81: =X81*-1 -> 0 | Q81: 0 | R81: -50730 | S81: 0 | T81: 0 | U81: 0 | V81: 0 | W81: =SUM(P81:V81) -> -50730 | X81: 0 | Y81: 0 | Z81: 0 | AA81: =X81+Y81+Z81 -> 0 | AB81: =W81+AA81 -> -50730 | AC81: =ROUND((W81+X81+Y81)*33.8%,0) -> -17147 | AD81: 0 | AE81: =AC81+AD81 -> -17147 | AF81: =ROUND(W81*1%,0) -> -507 | AG81: 0 | AH81: =AB81+AE81+AF81+AG81 -> -68384 | AI81: 0 | AJ81: -0.11 | AK81: 0 | AL81: 0 | AM81: 0 | AN81: 0 | AO81: =SUM(AI81:AN81) -> -0.11 | AP81: =I81+AH81 -> 2042531 | AQ81: =J81+W81 -> 1515231 | AR81: =K81+AA81 -> 0 | AS81: =L81+AE81 -> 512148 | AT81: =M81+AF81 -> 15152 | AU81: =N81+AG81 -> 0 | AV81: =O81+AO81 -> 3.8 | AW81: =SUM(AX81:BB81) -> 0 | AX81: 0 | AY81: 0 | AZ81: 0 | BA81: 0 | BB81: 0 | BC81: 0
A82: 14 | B82: 2438 | C82: 600079384 | D82: 72741911 | E82: MŠ Nové Město p. S., Mánesova 952 Celkem | I82: 10731964 | J82: 7961398 | K82: 0 | L82: 2690953 | M82: 79613 | N82: 0 | O82: 14.297 | P82: =SUM(P80:P81) -> 0 | Q82: =SUM(Q80:Q81) -> 0 | R82: =SUM(R80:R81) -> -50730 | S82: =SUM(S80:S81) -> 0 | T82: =SUM(T80:T81) -> 0 | U82: =SUM(U80:U81) -> 0 | V82: =SUM(V80:V81) -> 0 | W82: =SUM(W80:W81) -> -50730 | ... BC82: =SUM(BC80:BC81) -> 0
A83: 15 | B83: 2315 | C83: 600080447 | D83: 46744819 | E83: SVČ, Nové Město pod Smrkem | F83: 3233 | G83: SVČ | H83: KÚ | I83: 1365935 | J83: 616272 | K83: 400000 | L83: 343500 | M83: 6163 | N83: 0 | O83: 1.03 | P83: =X83*-1 -> 0 | Q83: 0 | R83: 0 | S83: 0 | T83: 0 | U83: 0 | V83: 0 | W83: =SUM(P83:V83) -> 0 | X83: 0 | Y83: 0 | Z83: 0 | AA83: =X83+Y83+Z83 -> 0 | AB83: =W83+AA83 -> 0 | AC83: =ROUND((W83+X83+Y83)*33.8%,0) -> 0 | AD83: 0 | AE83: =AC83+AD83 -> 0 | AF83: =ROUND(W83*1%,0) -> 0 | AG83: 0 | AH83: =AB83+AE83+AF83+AG83 -> 0 | AI83: 0 | AJ83: 0 | AK83: 0 | AL83: 0 | AM83: 0 | AN83: 0 | AO83: =SUM(AI83:AN83) -> 0 | AP83: =I83+AH83 -> 1365935 | AQ83: =J83+W83 -> 616272 | AR83: =K83+AA83 -> 400000 | AS83: =L83+AE83 -> 343500 | AT83: =M83+AF83 -> 6163 | AU83: =N83+AG83 -> 0 | AV83: =O83+AO83 -> 1.03 | AW83: =SUM(AX83:BB83) -> 0 | AX83: 0 | AY83: 0 | AZ83: 0 | BA83: 0 | BB83: 0 | BC83: 0
A84: 15 | B84: 2315 | C84: 600080447 | D84: 46744819 | E84: SVČ, Nové Město pod Smrkem Celkem | I84: 1365935 | J84: 616272 | K84: 400000 | L84: 343500 | M84: 6163 | N84: 0 | O84: 1.03 | P84: =SUM(P83:P83) -> 0 | Q84: =SUM(Q83:Q83) -> 0 | R84: =SUM(R83:R83) -> 0 | S84: =SUM(S83:S83) -> 0 | T84: =SUM(T83:T83) -> 0 | U84: =SUM(U83:U83) -> 0 | V84: =SUM(V83:V83) -> 0 | W84: =SUM(W83:W83) -> 0 | ... BC84: =SUM(BC83:BC83) -> 0
A85: 16 | B85: 2494 | C85: 600080315 | D85: 72741996 | E85: ZŠ Nové Město p. S., Tylova 694 | F85: 3113 | G85: ZŠ | H85: MŠMT | I85: 24534259 | J85: 17968289 | K85: 0 | L85: 6073282 | M85: 179683 | N85: 313005 | O85: 26.4056 | P85: =X85*-1 -> 0 | Q85: 0 | R85: 0 | S85: 0 | T85: 0 | U85: 0 | V85: 0 | W85: =SUM(P85:V85) -> 0 | X85: 0 | Y85: 0 | Z85: 0 | AA85: =X85+Y85+Z85 -> 0 | AB85: =W85+AA85 -> 0 | AC85: =ROUND((W85+X85+Y85)*33.8%,0)-1 -> -1 | AD85: 0 | AE85: =AC85+AD85 -> -1 | AF85: =ROUND(W85*1%,0) -> 0 | AG85: 0 | AH85: =AB85+AE85+AF85+AG85 -> -1 | AI85: 0 | AJ85: 0 | AK85: 0 | AL85: 0 | AM85: 0 | AN85: 0 | AO85: =SUM(AI85:AN85) -> 0 | AP85: =I85+AH85 -> 24534258 | AQ85: =J85+W85 -> 17968289 | AR85: =K85+AA85 -> 0 | AS85: =L85+AE85 -> 6073281 | AT85: =M85+AF85 -> 179683 | AU85: =N85+AG85 -> 313005 | AV85: =O85+AO85 -> 26.4056 | AW85: =SUM(AX85:BB85) -> 560514 | AX85: 183612 | AY85: 0 | AZ85: 62061 | BA85: 1836 | BB85: 313005 | BC85: 0.33
A86: 16 | B86: 2494 | C86: 600080315 | D86: 72741996 | E86: ZŠ Nové Město p. S., Tylova 694 | F86: 3113 | G86: AP spec.tř. | H86: MŠMT | I86: 929505 | J86: 689544 | K86: 0 | L86: 233066 | M86: 6895 | N86: 0 | O86: 1.5 | P86: =X86*-1 -> 0 | Q86: 0 | R86: 0 | S86: 0 | T86: 0 | U86: 0 | V86: 0 | W86: =SUM(P86:V86) -> 0 | X86: 0 | Y86: 0 | Z86: 0 | AA86: =X86+Y86+Z86 -> 0 | AB86: =W86+AA86 -> 0 | AC86: =ROUND((W86+X86+Y86)*33.8%,0) -> 0 | AD86: 0 | AE86: =AC86+AD86 -> 0 | AF86: =ROUND(W86*1%,0) -> 0 | AG86: 0 | AH86: =AB86+AE86+AF86+AG86 -> 0 | AI86: 0 | AJ86: 0 | AK86: 0 | AL86: 0 | AM86: 0 | AN86: 0 | AO86: =SUM(AI86:AN86) -> 0 | AP86: =I86+AH86 -> 929505 | AQ86: =J86+W86 -> 689544 | AR86: =K86+AA86 -> 0 | AS86: =L86+AE86 -> 233066 | AT86: =M86+AF86 -> 6895 | AU86: =N86+AG86 -> 0 | AV86: =O86+AO86 -> 1.5 | AW86: =SUM(AX86:BB86) -> 0 | AX86: 0 | AY86: 0 | AZ86: 0 | BA86: 0 | BB86: 0 | BC86: 0
A87: 16 | B87: 2494 | C87: 600080315 | D87: 72741996 | E87: ZŠ Nové Město p. S., Tylova 694 | F87: 3113 | G87: ZŠ PPP | H87: MŠMT | I87: 132867 | J87: 98566 | K87: 0 | L87: 33315 | M87: 986 | N87: 0 | O87: 0.2 | P87: =X87*-1 -> 0 | Q87: 0 | R87: 0 | S87: 0 | T87: 55084 | U87: 0 | V87: -32855 | W87: =SUM(P87:V87) -> 22229 | X87: 0 | Y87: 0 | Z87: 0 | AA87: =X87+Y87+Z87 -> 0 | AB87: =W87+AA87 -> 22229 | AC87: =ROUND((W87+X87+Y87)*33.8%,0) -> 7513 | AD87: 0 | AE87: =AC87+AD87 -> 7513 | AF87: =ROUND(W87*1%,0) -> 222 | AG87: 0 | AH87: =AB87+AE87+AF87+AG87 -> 29964 | AI87: 0 | AJ87: 0 | AK87: 0.1 | AL87: 0 | AM87: 0 | AN87: -0.07 | AO87: =SUM(AI87:AN87) -> 0.03 | AP87: =I87+AH87 -> 162831 | AQ87: =J87+W87 -> 120795 | AR87: =K87+AA87 -> 0 | AS87: =L87+AE87 -> 40828 | AT87: =M87+AF87 -> 1208 | AU87: =N87+AG87 -> 0 | AV87: =O87+AO87 -> 0.23 | AW87: =SUM(AX87:BB87) -> 0 | AX87: 0 | AY87: 0 | AZ87: 0 | BA87: 0 | BB87: 0 | BC87: 0
A88: 16 | B88: 2494 | C88: 600080315 | D88: 72741996 | E88: ZŠ Nové Město p. S., Tylova 694 | F88: 3113 | G88: AP 1.ročník | H88: MŠMT | I88: 0 | J88: 0 | K88: 0 | L88: 0 | M88: 0 | N88: 0 | O88: 0 | P88: =X88*-1 -> 0 | Q88: 0 | R88: 0 | S88: 0 | T88: 0 | U88: 157114 | V88: 0 | W88: =SUM(P88:V88) -> 157114 | X88: 0 | Y88: 0 | Z88: 0 | AA88: =X88+Y88+Z88 -> 0 | AB88: =W88+AA88 -> 157114 | AC88: =ROUND((W88+X88+Y88)*33.8%,0) -> 53105 | AD88: 0 | AE88: =AC88+AD88 -> 53105 | AF88: =ROUND(W88*1%,0) -> 1571 | AG88: 0 | AH88: =AB88+AE88+AF88+AG88 -> 211790 | AI88: 0 | AJ88: 0 | AK88: 0 | AL88: 0 | AM88: 0.37 | AN88: 0 | AO88: =SUM(AI88:AN88) -> 0.37 | AP88: =I88+AH88 -> 211790 | AQ88: =J88+W88 -> 157114 | AR88: =K88+AA88 -> 0 | AS88: =L88+AE88 -> 53105 | AT88: =M88+AF88 -> 1571 | AU88: =N88+AG88 -> 0 | AV88: =O88+AO88 -> 0.37 | AW88: =SUM(AX88:BB88) -> 0 | AX88: 0 | AY88: 0 | AZ88: 0 | BA88: 0 | BB88: 0 | BC88: 0
A89: 16 | B89: 2494 | C89: 600080315 | D89: 72741996 | E89: ZŠ Nové Město p. S., Tylova 694 | F89: 3113 | G89: PO | H89: KÚ | I89: 6161350 | J89: 4570735 | K89: 0 | L89: 1544908 | M89: 45707 | N89: 0 | O89: 11.16 | P89: =X89*-1 -> 0 | Q89: 0 | R89: -56599 | S89: 0 | T89: 0 | U89: 0 | V89: 0 | W89: =SUM(P89:V89) -> -56599 | X89: 0 | Y89: 0 | Z89: 0 | AA89: =X89+Y89+Z89 -> 0 | AB89: =W89+AA89 -> -56599 | AC89: =ROUND((W89+X89+Y89)*33.8%,0) -> -19130 | AD89: 0 | AE89: =AC89+AD89 -> -19130 | AF89: =ROUND(W89*1%,0) -> -566 | AG89: 0 | AH89: =AB89+AE89+AF89+AG89 -> -76295 | AI89: 0 | AJ89: -0.14 | AK89: 0 | AL89: 0 | AM89: 0 | AN89: 0 | AO89: =SUM(AI89:AN89) -> -0.14 | AP89: =I89+AH89 -> 6085055 | AQ89: =J89+W89 -> 4514136 | AR89: =K89+AA89 -> 0 | AS89: =L89+AE89 -> 1525778 | AT89: =M89+AF89 -> 45141 | AU89: =N89+AG89 -> 0 | AV89: =O89+AO89 -> 11.02 | AW89: =SUM(AX89:BB89) -> 0 | AX89: 0 | AY89: 0 | AZ89: 0 | BA89: 0 | BB89: 0 | BC89: 0
A90: 16 | B90: 2494 | C90: 600080315 | D90: 72741996 | E90: ZŠ Nové Město p. S., Tylova 694 | F90: 3143 | G90: ŠD | H90: MŠMT | I90: 1365105 | J90: 1012689 | K90: 0 | L90: 342289 | M90: 10127 | N90: 0 | O90: 2.049 | P90: =X90*-1 -> 0 | Q90: 0 | R90: 0 | S90: 0 | T90: 0 | U90: 0 | V90: 0 | W90: =SUM(P90:V90) -> 0 | X90: 0 | Y90: 0 | Z90: 0 | AA90: =X90+Y90+Z90 -> 0 | AB90: =W90+AA90 -> 0 | AC90: =ROUND((W90+X90+Y90)*33.8%,0) -> 0 | AD90: 0 | AE90: =AC90+AD90 -> 0 | AF90: =ROUND(W90*1%,0) -> 0 | AG90: 0 | AH90: =AB90+AE90+AF90+AG90 -> 0 | AI90: 0 | AJ90: 0 | AK90: 0 | AL90: 0 | AM90: 0 | AN90: 0 | AO90: =SUM(AI90:AN90) -> 0 | AP90: =I90+AH90 -> 1365105 | AQ90: =J90+W90 -> 1012689 | AR90: =K90+AA90 -> 0 | AS90: =L90+AE90 -> 342289 | AT90: =M90+AF90 -> 10127 | AU90: =N90+AG90 -> 0 | AV90: =O90+AO90 -> 2.049 | AW90: =SUM(AX90:BB90) -> 0 | AX90: 0 | AY90: 0 | AZ90: 0 | BA90: 0 | BB90: 0 | BC90: 0
A91: 16 | B91: 2494 | C91: 600080315 | D91: 72741996 | E91: ZŠ Nové Město p. S., Tylova 694 Celkem | I91: 33123086 | J91: 24339823 | K91: 0 | L91: 8226860 | M91: 243398 | N91: 313005 | O91: 41.3146 | P91: =SUM(P85:P90) -> 0 | Q91: =SUM(Q85:Q90) -> 0 | R91: =SUM(R85:R90) -> -56599 | S91: =SUM(S85:S90) -> 0 | T91: =SUM(T85:T90) -> 55084 | U91: =SUM(U85:U90) -> 157114 | V91: =SUM(V85:V90) -> -32855 | W91: =SUM(W85:W90) -> 122744 | ... BC91: =SUM(BC85:BC90) -> 0.33
A92: 17 | B92: 2301 | C92: 600080226 | D92: 72741830 | E92: ZUŠ Nové Město p. S., Žižkova 309 | F92: 3231 | G92: ZUŠ | H92: MŠMT | I92: 5867902 | J92: 4353043 | K92: 0 | L92: 1471329 | M92: 43530 | N92: 0 | O92: 6.5387 | P92: =X92*-1 -> 0 | Q92: 0 | R92: 0 | S92: 0 | T92: 0 | U92: 0 | V92: 0 | W92: =SUM(P92:V92) -> 0 | X92: 0 | Y92: 0 | Z92: 0 | AA92: =X92+Y92+Z92 -> 0 | AB92: =W92+AA92 -> 0 | AC92: =ROUND((W92+X92+Y92)*33.8%,0) -> 0 | AD92: 0 | AE92: =AC92+AD92 -> 0 | AF92: =ROUND(W92*1%,0) -> 0 | AG92: 0 | AH92: =AB92+AE92+AF92+AG92 -> 0 | AI92: 0 | AJ92: 0 | AK92: 0 | AL92: 0 | AM92: 0 | AN92: 0 | AO92: =SUM(AI92:AN92) -> 0 | AP92: =I92+AH92 -> 5867902 | AQ92: =J92+W92 -> 4353043 | AR92: =K92+AA92 -> 0 | AS92: =L92+AE92 -> 1471329 | AT92: =M92+AF92 -> 43530 | AU92: =N92+AG92 -> 0 | AV92: =O92+AO92 -> 6.5387 | AW92: =SUM(AX92:BB92) -> 0 | AX92: 0 | AY92: 0 | AZ92: 0 | BA92: 0 | BB92: 0 | BC92: 0
A93: 17 | B93: 2301 | C93: 600080226 | D93: 72741830 | E93: ZUŠ Nové Město p. S., Žižkova 309 Celkem | I93: 5867902 | J93: 4353043 | K93: 0 | L93: 1471329 | M93: 43530 | N93: 0 | O93: 6.5387 | P93: =SUM(P92) -> 0 | Q93: =SUM(Q92) -> 0 | R93: =SUM(R92) -> 0 | S93: =SUM(S92) -> 0 | T93: =SUM(T92) -> 0 | U93: =SUM(U92) -> 0 | V93: =SUM(V92) -> 0 | W93: =SUM(W92) -> 0 | ... BC93: =SUM(BC92) -> 0
A94: 18 | B94: 2497 | C94: 600080064 | D94: 72744189 | E94: ZŠ a MŠ Raspenava, Fučíkova 430 | F94: 3111 | G94: MŠ | H94: MŠMT | I94: 6486400 | J94: 4712611 | K94: 100000 | L94: 1626663 | M94: 47126 | N94: 0 | O94: 7.87 | P94: =X94*-1 -> -10000 | Q94: 0 | R94: 0 | S94: 0 | T94: 0 | U94: 0 | V94: 0 | W94: =SUM(P94:V94) -> -10000 | X94: 10000 | Y94: 0 | Z94: 0 | AA94: =X94+Y94+Z94 -> 10000 | AB94: =W94+AA94 -> 0 | AC94: =ROUND((W94+X94+Y94)*33.8%,0) -> 0 | AD94: 0 | AE94: =AC94+AD94 -> 0 | AF94: =ROUND(W94*1%,0) -> -100 | AG94: 0 | AH94: =AB94+AE94+AF94+AG94 -> -100 | AI94: 0 | AJ94: 0 | AK94: 0 | AL94: 0 | AM94: 0 | AN94: 0 | AO94: =SUM(AI94:AN94) -> 0 | AP94: =I94+AH94 -> 6486300 | AQ94: =J94+W94 -> 4702611 | AR94: =K94+AA94 -> 110000 | AS94: =L94+AE94 -> 1626663 | AT94: =M94+AF94 -> 47026 | AU94: =N94+AG94 -> 0 | AV94: =O94+AO94 -> 7.87 | AW94: =SUM(AX94:BB94) -> 0 | AX94: 0 | AY94: 0 | AZ94: 0 | BA94: 0 | BB94: 0 | BC94: 0
A95: 18 | B95: 2497 | C95: 600080064 | D95: 72744189 | E95: ZŠ a MŠ Raspenava, Fučíkova 430 | F95: 3113 | G95: ZŠ | H95: MŠMT | I95: 19795624 | J95: 14575997 | K95: 110000 | L95: 4963866 | M95: 145761 | N95: 0 | O95: 20.6462 | P95: =X95*-1 -> -50000 | Q95: 0 | R95: 0 | S95: 0 | T95: 0 | U95: 0 | V95: 0 | W95: =SUM(P95:V95) -> -50000 | X95: 50000 | Y95: 0 | Z95: 0 | AA95: =X95+Y95+Z95 -> 50000 | AB95: =W95+AA95 -> 0 | AC95: =ROUND((W95+X95+Y95)*33.8%,0) -> 0 | AD95: 0 | AE95: =AC95+AD95 -> 0 | AF95: =ROUND(W95*1%,0) -> -500 | AG95: 0 | AH95: =AB95+AE95+AF95+AG95 -> -500 | AI95: 0 | AJ95: 0 | AK95: 0 | AL95: 0 | AM95: 0 | AN95: 0 | AO95: =SUM(AI95:AN95) -> 0 | AP95: =I95+AH95 -> 19795124 | AQ95: =J95+W95 -> 14525997 | AR95: =K95+AA95 -> 160000 | AS95: =L95+AE95 -> 4963866 | AT95: =M95+AF95 -> 145261 | AU95: =N95+AG95 -> 0 | AV95: =O95+AO95 -> 20.6462 | AW95: =SUM(AX95:BB95) -> 0 | AX95: 0 | AY95: 0 | AZ95: 0 | BA95: 0 | BB95: 0 | BC95: 0
A96: 18 | B96: 2497 | C96: 600080064 | D96: 72744189 | E96: ZŠ a MŠ Raspenava, Fučíkova 430 | F96: 3113 | G96: AP spec.tř. | H96: MŠMT | I96: 2685472 | J96: 1992190 | K96: 0 | L96: 673360 | M96: 19922 | N96: 0 | O96: 4.3694 | P96: =X96*-1 -> 0 | Q96: 0 | R96: 0 | S96: 0 | T96: 0 | U96: 0 | V96: 0 | W96: =SUM(P96:V96) -> 0 | X96: 0 | Y96: 0 | Z96: 0 | AA96: =X96+Y96+Z96 -> 0 | AB96: =W96+AA96 -> 0 | AC96: =ROUND((W96+X96+Y96)*33.8%,0) -> 0 | AD96: 0 | AE96: =AC96+AD96 -> 0 | AF96: =ROUND(W96*1%,0) -> 0 | AG96: 0 | AH96: =AB96+AE96+AF96+AG96 -> 0 | AI96: 0 | AJ96: 0 | AK96: 0 | AL96: 0 | AM96: 0 | AN96: 0 | AO96: =SUM(AI96:AN96) -> 0 | AP96: =I96+AH96 -> 2685472 | AQ96: =J96+W96 -> 1992190 | AR96: =K96+AA96 -> 0 | AS96: =L96+AE96 -> 673360 | AT96: =M96+AF96 -> 19922 | AU96: =N96+AG96 -> 0 | AV96: =O96+AO96 -> 4.3694 | AW96: =SUM(AX96:BB96) -> 0 | AX96: 0 | AY96: 0 | AZ96: 0 | BA96: 0 | BB96: 0 | BC96: 0
A97: 18 | B97: 2497 | C97: 600080064 | D97: 72744189 | E97: ZŠ a MŠ Raspenava, Fučíkova 430 | F97: 3113 | G97: ZŠ PPP | H97: MŠMT | I97: 410377 | J97: 304434 | K97: 0 | L97: 102899 | M97: 3044 | N97: 0 | O97: 0.5 | P97: =X97*-1 -> -30000 | Q97: 0 | R97: 0 | S97: 0 | T97: 0 | U97: 0 | V97: 0 | W97: =SUM(P97:V97) -> -30000 | X97: 30000 | Y97: 0 | Z97: 0 | AA97: =X97+Y97+Z97 -> 30000 | AB97: =W97+AA97 -> 0 | AC97: =ROUND((W97+X97+Y97)*33.8%,0) -> 0 | AD97: 0 | AE97: =AC97+AD97 -> 0 | AF97: =ROUND(W97*1%,0) -> -300 | AG97: 0 | AH97: =AB97+AE97+AF97+AG97 -> -300 | AI97: 0 | AJ97: 0 | AK97: 0 | AL97: 0 | AM97: 0 | AN97: 0 | AO97: =SUM(AI97:AN97) -> 0 | AP97: =I97+AH97 -> 410077 | AQ97: =J97+W97 -> 274434 | AR97: =K97+AA97 -> 30000 | AS97: =L97+AE97 -> 102899 | AT97: =M97+AF97 -> 2744 | AU97: =N97+AG97 -> 0 | AV97: =O97+AO97 -> 0.5 | AW97: =SUM(AX97:BB97) -> 0 | AX97: 0 | AY97: 0 | AZ97: 0 | BA97: 0 | BB97: 0 | BC97: 0
A98: 18 | B98: 2497 | C98: 600080064 | D98: 72744189 | E98: ZŠ a MŠ Raspenava, Fučíkova 430 | F98: 3113 | G98: AP 1.ročník | H98: MŠMT | I98: 0 | J98: 0 | K98: 0 | L98: 0 | M98: 0 | N98: 0 | O98: 0 | P98: =X98*-1 -> 0 | Q98: 0 | R98: 0 | S98: 0 | T98: 0 | U98: 78557 | V98: 0 | W98: =SUM(P98:V98) -> 78557 | X98: 0 | Y98: 0 | Z98: 0 | AA98: =X98+Y98+Z98 -> 0 | AB98: =W98+AA98 -> 78557 | AC98: =ROUND((W98+X98+Y98)*33.8%,0) -> 26552 | AD98: 0 | AE98: =AC98+AD98 -> 26552 | AF98: =ROUND(W98*1%,0) -> 786 | AG98: 0 | AH98: =AB98+AE98+AF98+AG98 -> 105895 | AI98: 0 | AJ98: 0 | AK98: 0 | AL98: 0 | AM98: 0.19 | AN98: 0 | AO98: =SUM(AI98:AN98) -> 0.19 | AP98: =I98+AH98 -> 105895 | AQ98: =J98+W98 -> 78557 | AR98: =K98+AA98 -> 0 | AS98: =L98+AE98 -> 26552 | AT98: =M98+AF98 -> 786 | AU98: =N98+AG98 -> 0 | AV98: =O98+AO98 -> 0.19 | AW98: =SUM(AX98:BB98) -> 0 | AX98: 0 | AY98: 0 | AZ98: 0 | BA98: 0 | BB98: 0 | BC98: 0
A99: 18 | B99: 2497 | C99: 600080064 | D99: 72744189 | E99: ZŠ a MŠ Raspenava, Fučíkova 430 | F99: 3113 | G99: PO | H99: KÚ | I99: 6135289 | J99: 4521624 | K99: 30000 | L99: 1538449 | M99: 45216 | N99: 0 | O99: 11.4 | P99: =X99*-1 -> -10000 | Q99: 0 | R99: -55608 | S99: 0 | T99: 0 | U99: 0 | V99: 0 | W99: =SUM(P99:V99) -> -65608 | X99: 10000 | Y99: 0 | Z99: 0 | AA99: =X99+Y99+Z99 -> 10000 | AB99: =W99+AA99 -> -55608 | AC99: =ROUND((W99+X99+Y99)*33.8%,0) -> -18796 | AD99: 0 | AE99: =AC99+AD99 -> -18796 | AF99: =ROUND(W99*1%,0) -> -656 | AG99: 0 | AH99: =AB99+AE99+AF99+AG99 -> -75060 | AI99: 0 | AJ99: -0.2 | AK99: 0 | AL99: 0 | AM99: 0 | AN99: 0 | AO99: =SUM(AI99:AN99) -> -0.2 | AP99: =I99+AH99 -> 6060229 | AQ99: =J99+W99 -> 4456016 | AR99: =K99+AA99 -> 40000 | AS99: =L99+AE99 -> 1519653 | AT99: =M99+AF99 -> 44560 | AU99: =N99+AG99 -> 0 | AV99: =O99+AO99 -> 11.2 | AW99: =SUM(AX99:BB99) -> 0 | AX99: 0 | AY99: 0 | AZ99: 0 | BA99: 0 | BB99: 0 | BC99: 0
A100: 18 | B100: 2497 | C100: 600080064 | D100: 72744189 | E100: ZŠ a MŠ Raspenava, Fučíkova 430 | F100: 3143 | G100: ŠD | H100: MŠMT | I100: 1091611 | J100: 780023 | K100: 30000 | L100: 273788 | M100: 7800 | N100: 0 | O100: 1.76 | P100: =X100*-1 -> 0 | Q100: 0 | R100: 0 | S100: 0 | T100: 0 | U100: 0 | V100: 0 | W100: =SUM(P100:V100) -> 0 | X100: 0 | Y100: 0 | Z100: 0 | AA100: =X100+Y100+Z100 -> 0 | AB100: =W100+AA100 -> 0 | AC100: =ROUND((W100+X100+Y100)*33.8%,0) -> 0 | AD100: 0 | AE100: =AC100+AD100 -> 0 | AF100: =ROUND(W100*1%,0) -> 0 | AG100: 0 | AH100: =AB100+AE100+AF100+AG100 -> 0 | AI100: 0 | AJ100: 0 | AK100: 0 | AL100: 0 | AM100: 0 | AN100: 0 | AO100: =SUM(AI100:AN100) -> 0 | AP100: =I100+AH100 -> 1091611 | AQ100: =J100+W100 -> 780023 | AR100: =K100+AA100 -> 30000 | AS100: =L100+AE100 -> 273788 | AT100: =M100+AF100 -> 7800 | AU100: =N100+AG100 -> 0 | AV100: =O100+AO100 -> 1.76 | AW100: =SUM(AX100:BB100) -> 0 | AX100: 0 | AY100: 0 | AZ100: 0 | BA100: 0 | BB100: 0 | BC100: 0
A101: 18 | B101: 2497 | C101: 600080064 | D101: 72744189 | E101: ZŠ a MŠ Raspenava, Fučíkova 430 | F101: 3143 | G101: ŠK | H101: KÚ | I101: 375063 | J101: 268311 | K101: 10000 | L101: 94069 | M101: 2683 | N101: 0 | O101: 0.52 | P101: =X101*-1 -> 10000 | Q101: 0 | R101: 0 | S101: 0 | T101: 0 | U101: 0 | V101: 0 | W101: =SUM(P101:V101) -> 10000 | X101: -10000 | Y101: 0 | Z101: 0 | AA101: =X101+Y101+Z101 -> -10000 | AB101: =W101+AA101 -> 0 | AC101: =ROUND((W101+X101+Y101)*33.8%,0) -> 0 | AD101: 0 | AE101: =AC101+AD101 -> 0 | AF101: =ROUND(W101*1%,0) -> 100 | AG101: 0 | AH101: =AB101+AE101+AF101+AG101 -> 100 | AI101: 0 | AJ101: 0 | AK101: 0 | AL101: 0 | AM101: 0 | AN101: 0 | AO101: =SUM(AI101:AN101) -> 0 | AP101: =I101+AH101 -> 375163 | AQ101: =J101+W101 -> 278311 | AR101: =K101+AA101 -> 0 | AS101: =L101+AE101 -> 94069 | AT101: =M101+AF101 -> 2783 | AU101: =N101+AG101 -> 0 | AV101: =O101+AO101 -> 0.52 | AW101: =SUM(AX101:BB101) -> 0 | AX101: 0 | AY101: 0 | AZ101: 0 | BA101: 0 | BB101: 0 | BC101: 0
...

Sheet JN
A1: Krajský úřad Libereckého kraje
A2: U Jezu 642/2a, Liberec 2, 461 80
A3: Odbor školství, mládeže, tělovýchovy a sportu
A5: Úprava rozpisu rozpočtu přímých NIV na rok 2026 ke dni 6. 10. 2026
I6: Rozpočet přímých nákladů k 19. 8. 2026 | P6: úprava | AP6: Rozpočet přímých nákladů k 6. 10. 2026 | AW6: Z rozpočtu přímých NIV na rok 2026
P7: ÚPRAVA PLATY | X7: ÚPRAVA OON | AB7: Mzdové prostředky celkem | AC7: ÚPRAVA ODVODŮ | AE7: Odvody CELKEM | AF7: FKSP | AG7: OBV | AH7: Úprava NIV celkem | AI7: ÚPRAVA POČTU PEDAGOGŮ | AW7: Stanovení dalších finančních prostředků pro základní školy zřizované krajem, obcí nebo dobrovolným svazkem obcí na rok 2026 na financování sociálního pedagoga a další přímou podporu žáků se sociálním znevýhodněním, VĚSTNÍK MŠMT 4/2026
I8: Celkem NIV | J8: z toho v Kč: | O8: Počet PEDAG. | AI8: převody (platy-dohody) | AJ8: Podpůrná opatření | AK8: Změna Phškoly/ podpůrné pozice | AL8: Jazyková příprava cizinců | AM8: AP v 1. ročníku | AN8: Individuální úpravy | AO8: Úprava PED. celkem | AP8: Celkem NIV | AQ8: z toho v Kč: | AV8: Počet PEDAG.
A9: PO III JABLONEC NAD NISOU | J9: Platy | K9: OON | L9: Odvody | M9: FKSP | N9: OBV | P9: Převody do OON | Q9: Převod úspor z odvodů | R9: Podpůrná opatření | S9: Jazyková příprava cizinců | T9: Změna Phškoly/ podpůrné pozice | U9: AP v 1. ročníku | V9: Individuální úpravy | W9: PLATY úprava celkem | X9: Dohody | Y9: OON do Phmax | Z9: Odstupné | AA9: OON úprava celkem | AC9: Odvody | AD9: Převod úspor z odvodů | AQ9: Platy | AR9: OON | AS9: Odvody | AT9: FKSP | AU9: OBV
A10: poř. | B10: č. KÚ | C10: RED IZO | D10: IČO | E10: škola - škol. zařízení (zkráceně) | F10: § | G10: druh činnosti | H10: rozpočet sestavil | AW10: NIV celkem | AX10: Platy | AY10: OON | AZ10: Odvody | BA10: FKSP | BB10: OBV | BC10: Počet PEDAG.
A11: por | B11: c_KU | C11: RED_IZO | D11: ICO | E11: Zkr_nazev | F11: § | G11: druh_cinnosti | H11: od | I11: NIV_CELKEM | J11: Platy_CELKEM | K11: OON_CELKEM | L11: ODVODY_CELKEM | M11: FKSP_CELKEM | N11: OBV_CELKEM | O11: PED_CELKEM | P11: Platy_Upr | Q11: Platy_Upr_ | R11: Platy_Upr_ | S11: Platy_Upr | T11: Platy_Upr | U11: Platy_Upr_ | V11: Platy_Upr_ | W11: Platy_Upr | X11: OON_Upr | Y11: OON_Upr | Z11: OON_Upr | AA11: OON_Upr | AB11: Upr_MP_Celkem | AC11: ODV_UPR | AD11: ODV_UPR | AE11: ODV_UPR | AF11: FKSP_UPR | AG11: OBV_UPR | AH11: NIV_UPR | AI11: PED_UPR | AJ11: PED_UPR | AK11: PED_UPR | AL11: PED_UPR | AM11: PED_UPR | AN11: PED_UPR | AO11: PED_UPR | AP11: NIV_CELKEM | AQ11: Platy_CELKEM | AR11: OON_CELKEM | AS11: ODVODY_CELKEM | AT11: FKSP_CELKEM | AU11: OBV_CELKEM | AV11: PED_CELKEM | AW11: NIV_SOCIAL | AX11: Platy_SOCIAL | AY11: OON__SOCIAL | AZ11: Odvody_SOCIAL | BA11: FKSP_SOCIAL | BB11: OBV_SOCIAL | BC11: PED_SOCIAL
A12: 1 | B12: 3454 | C12: 600029085 | D12: 75122294 | E12: DDM Jablonec n. N., Podhorská 49 | F12: 3233 | G12: SVČ | H12: KÚ | I12: 4155058 | J12: 3082387 | K12: 0 | L12: 1041847 | M12: 30824 | N12: 0 | O12: 5.22 | P12: =X12*-1 -> 0 | Q12: 0 | R12: 0 | S12: 0 | T12: 0 | U12: 0 | V12: 0 | W12: =SUM(P12:V12) -> 0 | X12: 0 | Y12: 0 | Z12: 0 | AA12: =X12+Y12+Z12 -> 0 | AB12: =W12+AA12 -> 0 | AC12: =ROUND((W12+X12+Y12)*33.8%,0) -> 0 | AD12: 0 | AE12: =AC12+AD12 -> 0 | AF12: =ROUND(W12*1%,0) -> 0 | AG12: 0 | AH12: =AB12+AE12+AF12+AG12 -> 0 | AI12: 0 | AJ12: 0 | AK12: 0 | AL12: 0 | AM12: 0 | AN12: 0 | AO12: =SUM(AI12:AN12) -> 0 | AP12: =I12+AH12 -> 4155058 | AQ12: =J12+W12 -> 3082387 | AR12: =K12+AA12 -> 0 | AS12: =L12+AE12 -> 1041847 | AT12: =M12+AF12 -> 30824 | AU12: =N12+AG12 -> 0 | AV12: =O12+AO12 -> 5.22 | AW12: =SUM(AX12:BB12) -> 0 | AX12: 0 | AY12: 0 | AZ12: 0 | BA12: 0 | BB12: 0 | BC12: 0
A13: 1 | B13: 3454 | C13: 600029085 | D13: 75122294 | E13: DDM Jablonec n. N., Podhorská 49 Celkem | I13: 4155058 | J13: 3082387 | K13: 0 | L13: 1041847 | M13: 30824 | N13: 0 | O13: 5.22 | P13: =SUM(P12) -> 0 | Q13: =SUM(Q12) -> 0 | R13: =SUM(R12) -> 0 | S13: =SUM(S12) -> 0 | T13: =SUM(T12) -> 0 | U13: =SUM(U12) -> 0 | V13: =SUM(V12) -> 0 | W13: =SUM(W12) -> 0 | ... BC13: =SUM(BC12) -> 0
A14: 2 | B14: 3470 | C14: 691003572 | D14: 72550341 | E14: MŠ Jablonec n. N., 28.října 16/1858 | F14: 3111 | G14: MŠ | H14: MŠMT | I14: 4746794 | J14: 3521360 | K14: 0 | L14: 1190220 | M14: 35214 | N14: 0 | O14: 6 | P14: =X14*-1 -> 0 | Q14: 0 | R14: 0 | S14: 0 | T14: 0 | U14: 0 | V14: 0 | W14: =SUM(P14:V14) -> 0 | X14: 0 | Y14: 0 | Z14: 0 | AA14: =X14+Y14+Z14 -> 0 | AB14: =W14+AA14 -> 0 | AC14: =ROUND((W14+X14+Y14)*33.8%,0) -> 0 | AD14: 0 | AE14: =AC14+AD14 -> 0 | AF14: =ROUND(W14*1%,0) -> 0 | AG14: 0 | AH14: =AB14+AE14+AF14+AG14 -> 0 | AI14: 0 | AJ14: 0 | AK14: 0 | AL14: 0 | AM14: 0 | AN14: 0 | AO14: =SUM(AI14:AN14) -> 0 | AP14: =I14+AH14 -> 4746794 | AQ14: =J14+W14 -> 3521360 | AR14: =K14+AA14 -> 0 | AS14: =L14+AE14 -> 1190220 | AT14: =M14+AF14 -> 35214 | AU14: =N14+AG14 -> 0 | AV14: =O14+AO14 -> 6 | AW14: =SUM(AX14:BB14) -> 0 | AX14: 0 | AY14: 0 | AZ14: 0 | BA14: 0 | BB14: 0 | BC14: 0
A15: 2 | B15: 3470 | C15: 691003572 | D15: 72550341 | E15: MŠ Jablonec n. N., 28.října 16/1858 | F15: 3111 | G15: PO | H15: KÚ | I15: 199456 | J15: 147964 | K15: 0 | L15: 50012 | M15: 1480 | N15: 0 | O15: 0.5 | P15: =X15*-1 -> 0 | Q15: 0 | R15: 16820 | S15: 0 | T15: 0 | U15: 0 | V15: 0 | W15: =SUM(P15:V15) -> 16820 | X15: 0 | Y15: 0 | Z15: 0 | AA15: =X15+Y15+Z15 -> 0 | AB15: =W15+AA15 -> 16820 | AC15: =ROUND((W15+X15+Y15)*33.8%,0) -> 5685 | AD15: 0 | AE15: =AC15+AD15 -> 5685 | AF15: =ROUND(W15*1%,0) -> 168 | AG15: 0 | AH15: =AB15+AE15+AF15+AG15 -> 22673 | AI15: 0 | AJ15: 0 | AK15: 0 | AL15: 0 | AM15: 0 | AN15: 0 | AO15: =SUM(AI15:AN15) -> 0 | AP15: =I15+AH15 -> 222129 | AQ15: =J15+W15 -> 164784 | AR15: =K15+AA15 -> 0 | AS15: =L15+AE15 -> 55697 | AT15: =M15+AF15 -> 1648 | AU15: =N15+AG15 -> 0 | AV15: =O15+AO15 -> 0.5 | AW15: =SUM(AX15:BB15) -> 0 | AX15: 0 | AY15: 0 | AZ15: 0 | BA15: 0 | BB15: 0 | BC15: 0
A16: 2 | B16: 3470 | C16: 691003572 | D16: 72550341 | E16: MŠ Jablonec n. N., 28.října 16/1858 Celkem | I16: 4946250 | J16: 3669324 | K16: 0 | L16: 1240232 | M16: 36694 | N16: 0 | O16: 6.5 | P16: =SUM(P14:P15) -> 0 | Q16: =SUM(Q14:Q15) -> 0 | R16: =SUM(R14:R15) -> 16820 | S16: =SUM(S14:S15) -> 0 | T16: =SUM(T14:T15) -> 0 | U16: =SUM(U14:U15) -> 0 | V16: =SUM(V14:V15) -> 0 | W16: =SUM(W14:W15) -> 16820 | ... BC16: =SUM(BC14:BC15) -> 0
A17: 3 | B17: 3469 | C17: 691003548 | D17: 72550384 | E17: MŠ Jablonec n. N., Arbesova 50/3779 | F17: 3111 | G17: MŠ | H17: MŠMT | I17: 6293665 | J17: 4668891 | K17: 0 | L17: 1578085 | M17: 46689 | N17: 0 | O17: 8 | P17: =X17*-1 -> 0 | Q17: 0 | R17: 0 | S17: 0 | T17: 0 | U17: 0 | V17: 0 | W17: =SUM(P17:V17) -> 0 | X17: 0 | Y17: 0 | Z17: 0 | AA17: =X17+Y17+Z17 -> 0 | AB17: =W17+AA17 -> 0 | AC17: =ROUND((W17+X17+Y17)*33.8%,0) -> 0 | AD17: 0 | AE17: =AC17+AD17 -> 0 | AF17: =ROUND(W17*1%,0) -> 0 | AG17: 0 | AH17: =AB17+AE17+AF17+AG17 -> 0 | AI17: 0 | AJ17: 0 | AK17: 0 | AL17: 0 | AM17: 0 | AN17: 0 | AO17: =SUM(AI17:AN17) -> 0 | AP17: =I17+AH17 -> 6293665 | AQ17: =J17+W17 -> 4668891 | AR17: =K17+AA17 -> 0 | AS17: =L17+AE17 -> 1578085 | AT17: =M17+AF17 -> 46689 | AU17: =N17+AG17 -> 0 | AV17: =O17+AO17 -> 8 | AW17: =SUM(AX17:BB17) -> 0 | AX17: 0 | AY17: 0 | AZ17: 0 | BA17: 0 | BB17: 0 | BC17: 0
A18: 3 | B18: 3469 | C18: 691003548 | D18: 72550384 | E18: MŠ Jablonec n. N., Arbesova 50/3779 | F18: 3111 | G18: PO | H18: KÚ | I18: 0 | J18: 0 | K18: 0 | L18: 0 | M18: 0 | N18: 0 | O18: 0 | P18: =X18*-1 -> 0 | Q18: 0 | R18: 0 | S18: 0 | T18: 0 | U18: 0 | V18: 0 | W18: =SUM(P18:V18) -> 0 | X18: 0 | Y18: 0 | Z18: 0 | AA18: =X18+Y18+Z18 -> 0 | AB18: =W18+AA18 -> 0 | AC18: =ROUND((W18+X18+Y18)*33.8%,0) -> 0 | AD18: 0 | AE18: =AC18+AD18 -> 0 | AF18: =ROUND(W18*1%,0) -> 0 | AG18: 0 | AH18: =AB18+AE18+AF18+AG18 -> 0 | AI18: 0 | AJ18: 0 | AK18: 0 | AL18: 0 | AM18: 0 | AN18: 0 | AO18: =SUM(AI18:AN18) -> 0 | AP18: =I18+AH18 -> 0 | AQ18: =J18+W18 -> 0 | AR18: =K18+AA18 -> 0 | AS18: =L18+AE18 -> 0 | AT18: =M18+AF18 -> 0 | AU18: =N18+AG18 -> 0 | AV18: =O18+AO18 -> 0 | AW18: =SUM(AX18:BB18) -> 0 | AX18: 0 | AY18: 0 | AZ18: 0 | BA18: 0 | BB18: 0 | BC18: 0
A19: 3 | B19: 3469 | C19: 691003548 | D19: 72550384 | E19: MŠ Jablonec n. N., Arbesova 50/3779 Celkem | I19: 6293665 | J19: 4668891 | K19: 0 | L19: 1578085 | M19: 46689 | N19: 0 | O19: 8 | P19: =SUM(P17:P18) -> 0 | Q19: =SUM(Q17:Q18) -> 0 | R19: =SUM(R17:R18) -> 0 | S19: =SUM(S17:S18) -> 0 | T19: =SUM(T17:T18) -> 0 | U19: =SUM(U17:U18) -> 0 | V19: =SUM(V17:V18) -> 0 | W19: =SUM(W17:W18) -> 0 | ... BC19: =SUM(BC17:BC18) -> 0
A20: 4 | B20: 3462 | C20: 691001294 | D20: 72048115 | E20: MŠ Jablonec n. N., Čs. armády 37 | F20: 3111 | G20: MŠ | H20: MŠMT | I20: 4990403 | J20: 3673433 | K20: 28860 | L20: 1251375 | M20: 36735 | N20: 0 | O20: 6 | P20: =X20*-1 -> 24810 | Q20: 0 | R20: 0 | S20: 0 | T20: 0 | U20: 0 | V20: 0 | W20: =SUM(P20:V20) -> 24810 | X20: -24810 | Y20: 0 | Z20: 0 | AA20: =X20+Y20+Z20 -> -24810 | AB20: =W20+AA20 -> 0 | AC20: =ROUND((W20+X20+Y20)*33.8%,0) -> 0 | AD20: 0 | AE20: =AC20+AD20 -> 0 | AF20: =ROUND(W20*1%,0) -> 248 | AG20: 0 | AH20: =AB20+AE20+AF20+AG20 -> 248 | AI20: 0 | AJ20: 0 | AK20: 0 | AL20: 0 | AM20: 0 | AN20: 0 | AO20: =SUM(AI20:AN20) -> 0 | AP20: =I20+AH20 -> 4990651 | AQ20: =J20+W20 -> 3698243 | AR20: =K20+AA20 -> 4050 | AS20: =L20+AE20 -> 1251375 | AT20: =M20+AF20 -> 36983 | AU20: =N20+AG20 -> 0 | AV20: =O20+AO20 -> 6 | AW20: =SUM(AX20:BB20) -> 0 | AX20: 0 | AY20: 0 | AZ20: 0 | BA20: 0 | BB20: 0 | BC20: 0
A21: 4 | B21: 3462 | C21: 691001294 | D21: 72048115 | E21: MŠ Jablonec n. N., Čs. armády 37 | F21: 3111 | G21: PO | H21: KÚ | I21: 0 | J21: 0 | K21: 0 | L21: 0 | M21: 0 | N21: 0 | O21: 0 | P21: =X21*-1 -> 0 | Q21: 0 | R21: 0 | S21: 0 | T21: 0 | U21: 0 | V21: 0 | W21: =SUM(P21:V21) -> 0 | X21: 0 | Y21: 0 | Z21: 0 | AA21: =X21+Y21+Z21 -> 0 | AB21: =W21+AA21 -> 0 | AC21: =ROUND((W21+X21+Y21)*33.8%,0) -> 0 | AD21: 0 | AE21: =AC21+AD21 -> 0 | AF21: =ROUND(W21*1%,0) -> 0 | AG21: 0 | AH21: =AB21+AE21+AF21+AG21 -> 0 | AI21: 0 | AJ21: 0 | AK21: 0 | AL21: 0 | AM21: 0 | AN21: 0 | AO21: =SUM(AI21:AN21) -> 0 | AP21: =I21+AH21 -> 0 | AQ21: =J21+W21 -> 0 | AR21: =K21+AA21 -> 0 | AS21: =L21+AE21 -> 0 | AT21: =M21+AF21 -> 0 | AU21: =N21+AG21 -> 0 | AV21: =O21+AO21 -> 0 | AW21: =SUM(AX21:BB21) -> 0 | AX21: 0 | AY21: 0 | AZ21: 0 | BA21: 0 | BB21: 0 | BC21: 0
A22: 4 | B22: 3462 | C22: 691001294 | D22: 72048115 | E22: MŠ Jablonec n. N., Čs. armády 37 Celkem | I22: 4990403 | J22: 3673433 | K22: 28860 | L22: 1251375 | M22: 36735 | N22: 0 | O22: 6 | P22: =SUM(P20:P21) -> 24810 | Q22: =SUM(Q20:Q21) -> 0 | R22: =SUM(R20:R21) -> 0 | S22: =SUM(S20:S21) -> 0 | T22: =SUM(T20:T21) -> 0 | U22: =SUM(U20:U21) -> 0 | V22: =SUM(V20:V21) -> 0 | W22: =SUM(W20:W21) -> 24810 | ... BC22: =SUM(BC20:BC21) -> 0
A23: 5 | B23: 3464 | C23: 691001316 | D23: 72048140 | E23: MŠ Jablonec n. N., Dolní 3969 | F23: 3111 | G23: MŠ | H23: MŠMT | I23: 6715197 | J23: 4953808 | K23: 28000 | L23: 1683851 | M23: 49538 | N23: 0 | O23: 8.29 | P23: =X23*-1 -> 0 | Q23: 0 | R23: 0 | S23: 0 | T23: 0 | U23: 0 | V23: 0 | W23: =SUM(P23:V23) -> 0 | X23: 0 | Y23: 0 | Z23: 0 | AA23: =X23+Y23+Z23 -> 0 | AB23: =W23+AA23 -> 0 | AC23: =ROUND((W23+X23+Y23)*33.8%,0) -> 0 | AD23: 0 | AE23: =AC23+AD23 -> 0 | AF23: =ROUND(W23*1%,0) -> 0 | AG23: 0 | AH23: =AB23+AE23+AF23+AG23 -> 0 | AI23: 0 | AJ23: 0 | AK23: 0 | AL23: 0 | AM23: 0 | AN23: 0 | AO23: =SUM(AI23:AN23) -> 0 | AP23: =I23+AH23 -> 6715197 | AQ23: =J23+W23 -> 4953808 | AR23: =K23+AA23 -> 28000 | AS23: =L23+AE23 -> 1683851 | AT23: =M23+AF23 -> 49538 | AU23: =N23+AG23 -> 0 | AV23: =O23+AO23 -> 8.29 | AW23: =SUM(AX23:BB23) -> 0 | AX23: 0 | AY23: 0 | AZ23: 0 | BA23: 0 | BB23: 0 | BC23: 0
A24: 5 | B24: 3464 | C24: 691001316 | D24: 72048140 | E24: MŠ Jablonec n. N., Dolní 3969 | F24: 3111 | G24: PO | H24: KÚ | I24: 1203640 | J24: 892908 | K24: 0 | L24: 301803 | M24: 8929 | N24: 0 | O24: 2.25 | P24: =X24*-1 -> 0 | Q24: 0 | R24: 0 | S24: 0 | T24: 0 | U24: 0 | V24: 0 | W24: =SUM(P24:V24) -> 0 | X24: 0 | Y24: 0 | Z24: 0 | AA24: =X24+Y24+Z24 -> 0 | AB24: =W24+AA24 -> 0 | AC24: =ROUND((W24+X24+Y24)*33.8%,0) -> 0 | AD24: 0 | AE24: =AC24+AD24 -> 0 | AF24: =ROUND(W24*1%,0) -> 0 | AG24: 0 | AH24: =AB24+AE24+AF24+AG24 -> 0 | AI24: 0 | AJ24: 0 | AK24: 0 | AL24: 0 | AM24: 0 | AN24: 0 | AO24: =SUM(AI24:AN24) -> 0 | AP24: =I24+AH24 -> 1203640 | AQ24: =J24+W24 -> 892908 | AR24: =K24+AA24 -> 0 | AS24: =L24+AE24 -> 301803 | AT24: =M24+AF24 -> 8929 | AU24: =N24+AG24 -> 0 | AV24: =O24+AO24 -> 2.25 | AW24: =SUM(AX24:BB24) -> 0 | AX24: 0 | AY24: 0 | AZ24: 0 | BA24: 0 | BB24: 0 | BC24: 0
A25: 5 | B25: 3464 | C25: 691001316 | D25: 72048140 | E25: MŠ Jablonec n. N., Dolní 3969 Celkem | I25: 7918837 | J25: 5846716 | K25: 28000 | L25: 1985654 | M25: 58467 | N25: 0 | O25: 10.54 | P25: =SUM(P23:P24) -> 0 | Q25: =SUM(Q23:Q24) -> 0 | R25: =SUM(R23:R24) -> 0 | S25: =SUM(S23:S24) -> 0 | T25: =SUM(T23:T24) -> 0 | U25: =SUM(U23:U24) -> 0 | V25: =SUM(V23:V24) -> 0 | W25: =SUM(W23:W24) -> 0 | ... BC25: =SUM(BC23:BC24) -> 0
A26: 6 | B26: 3453 | C26: 667101411 | D26: 75109522 | E26: MŠ Jablonec n. N., Havlíčkova 4/130 | F26: 3111 | G26: MŠ | H26: MŠMT | I26: 5017200 | J26: 3721958 | K26: 0 | L26: 1258022 | M26: 37220 | N26: 0 | O26: 6 | P26: =X26*-1 -> -30000 | Q26: 0 | R26: 0 | S26: 0 | T26: 0 | U26: 0 | V26: 0 | W26: =SUM(P26:V26) -> -30000 | X26: 30000 | Y26: 0 | Z26: 0 | AA26: =X26+Y26+Z26 -> 30000 | AB26: =W26+AA26 -> 0 | AC26: =ROUND((W26+X26+Y26)*33.8%,0) -> 0 | AD26: 0 | AE26: =AC26+AD26 -> 0 | AF26: =ROUND(W26*1%,0) -> -300 | AG26: 0 | AH26: =AB26+AE26+AF26+AG26 -> -300 | AI26: -0.06 | AJ26: 0 | AK26: 0 | AL26: 0 | AM26: 0 | AN26: 0 | AO26: =SUM(AI26:AN26) -> -0.06 | AP26: =I26+AH26 -> 5016900 | AQ26: =J26+W26 -> 3691958 | AR26: =K26+AA26 -> 30000 | AS26: =L26+AE26 -> 1258022 | AT26: =M26+AF26 -> 36920 | AU26: =N26+AG26 -> 0 | AV26: =O26+AO26 -> 5.94 | AW26: =SUM(AX26:BB26) -> 0 | AX26: 0 | AY26: 0 | AZ26: 0 | BA26: 0 | BB26: 0 | BC26: 0
A27: 6 | B27: 3453 | C27: 667101411 | D27: 75109522 | E27: MŠ Jablonec n. N., Havlíčkova 4/130 Celkem | I27: 5017200 | J27: 3721958 | K27: 0 | L27: 1258022 | M27: 37220 | N27: 0 | O27: 6 | P27: =SUM(P26:P26) -> -30000 | Q27: =SUM(Q26:Q26) -> 0 | R27: =SUM(R26:R26) -> 0 | S27: =SUM(S26:S26) -> 0 | T27: =SUM(T26:T26) -> 0 | U27: =SUM(U26:U26) -> 0 | V27: =SUM(V26:V26) -> 0 | W27: =SUM(W26:W26) -> -30000 | ... BC27: =SUM(BC26:BC26) -> 0
A28: 7 | B28: 3471 | C28: 691003491 | D28: 72550376 | E28: MŠ Jablonec n. N., Hřbitovní 10/3677 | F28: 3111 | G28: MŠ | H28: MŠMT | I28: 6537544 | J28: 4849810 | K28: 0 | L28: 1639236 | M28: 48498 | N28: 0 | O28: 8 | P28: =X28*-1 -> 0 | Q28: 0 | R28: 0 | S28: 0 | T28: 0 | U28: 0 | V28: 0 | W28: =SUM(P28:V28) -> 0 | X28: 0 | Y28: 0 | Z28: 0 | AA28: =X28+Y28+Z28 -> 0 | AB28: =W28+AA28 -> 0 | AC28: =ROUND((W28+X28+Y28)*33.8%,0) -> 0 | AD28: 0 | AE28: =AC28+AD28 -> 0 | AF28: =ROUND(W28*1%,0) -> 0 | AG28: 0 | AH28: =AB28+AE28+AF28+AG28 -> 0 | AI28: 0 | AJ28: 0 | AK28: 0 | AL28: 0 | AM28: 0 | AN28: 0 | AO28: =SUM(AI28:AN28) -> 0 | AP28: =I28+AH28 -> 6537544 | AQ28: =J28+W28 -> 4849810 | AR28: =K28+AA28 -> 0 | AS28: =L28+AE28 -> 1639236 | AT28: =M28+AF28 -> 48498 | AU28: =N28+AG28 -> 0 | AV28: =O28+AO28 -> 8 | AW28: =SUM(AX28:BB28) -> 0 | AX28: 0 | AY28: 0 | AZ28: 0 | BA28: 0 | BB28: 0 | BC28: 0
A29: 7 | B29: 3471 | C29: 691003491 | D29: 72550376 | E29: MŠ Jablonec n. N., Hřbitovní 10/3677 | F29: 3111 | G29: PO | H29: KÚ | I29: 0 | J29: 0 | K29: 0 | L29: 0 | M29: 0 | N29: 0 | O29: 0 | P29: =X29*-1 -> 0 | Q29: 0 | R29: 0 | S29: 0 | T29: 0 | U29: 0 | V29: 0 | W29: =SUM(P29:V29) -> 0 | X29: 0 | Y29: 0 | Z29: 0 | AA29: =X29+Y29+Z29 -> 0 | AB29: =W29+AA29 -> 0 | AC29: =ROUND((W29+X29+Y29)*33.8%,0) -> 0 | AD29: 0 | AE29: =AC29+AD29 -> 0 | AF29: =ROUND(W29*1%,0) -> 0 | AG29: 0 | AH29: =AB29+AE29+AF29+AG29 -> 0 | AI29: 0 | AJ29: 0 | AK29: 0 | AL29: 0 | AM29: 0 | AN29: 0 | AO29: =SUM(AI29:AN29) -> 0 | AP29: =I29+AH29 -> 0 | AQ29: =J29+W29 -> 0 | AR29: =K29+AA29 -> 0 | AS29: =L29+AE29 -> 0 | AT29: =M29+AF29 -> 0 | AU29: =N29+AG29 -> 0 | AV29: =O29+AO29 -> 0 | AW29: =SUM(AX29:BB29) -> 0 | AX29: 0 | AY29: 0 | AZ29: 0 | BA29: 0 | BB29: 0 | BC29: 0
A30: 7 | B30: 3471 | C30: 691003491 | D30: 72550376 | E30: MŠ Jablonec n. N., Hřbitovní 10/3677 Celkem | I30: 6537544 | J30: 4849810 | K30: 0 | L30: 1639236 | M30: 48498 | N30: 0 | O30: 8 | P30: =SUM(P28:P29) -> 0 | Q30: =SUM(Q28:Q29) -> 0 | R30: =SUM(R28:R29) -> 0 | S30: =SUM(S28:S29) -> 0 | T30: =SUM(T28:T29) -> 0 | U30: =SUM(U28:U29) -> 0 | V30: =SUM(V28:V29) -> 0 | W30: =SUM(W28:W29) -> 0 | ... BC30: =SUM(BC28:BC29) -> 0
A31: 8 | B31: 3472 | C31: 691003564 | D31: 72550368 | E31: MŠ Jablonec n. N., Husova 3/1444 | F31: 3111 | G31: MŠ | H31: MŠMT | I31: 4567952 | J31: 3388688 | K31: 0 | L31: 1145377 | M31: 33887 | N31: 0 | O31: 6 | P31: =X31*-1 -> 0 | Q31: 0 | R31: 0 | S31: 0 | T31: 0 | U31: 0 | V31: 0 | W31: =SUM(P31:V31) -> 0 | X31: 0 | Y31: 0 | Z31: 0 | AA31: =X31+Y31+Z31 -> 0 | AB31: =W31+AA31 -> 0 | AC31: =ROUND((W31+X31+Y31)*33.8%,0) -> 0 | AD31: 0 | AE31: =AC31+AD31 -> 0 | AF31: =ROUND(W31*1%,0) -> 0 | AG31: 0 | AH31: =AB31+AE31+AF31+AG31 -> 0 | AI31: 0 | AJ31: 0 | AK31: 0 | AL31: 0 | AM31: 0 | AN31: 0 | AO31: =SUM(AI31:AN31) -> 0 | AP31: =I31+AH31 -> 4567952 | AQ31: =J31+W31 -> 3388688 | AR31: =K31+AA31 -> 0 | AS31: =L31+AE31 -> 1145377 | AT31: =M31+AF31 -> 33887 | AU31: =N31+AG31 -> 0 | AV31: =O31+AO31 -> 6 | AW31: =SUM(AX31:BB31) -> 0 | AX31: 0 | AY31: 0 | AZ31: 0 | BA31: 0 | BB31: 0 | BC31: 0
A32: 8 | B32: 3472 | C32: 691003564 | D32: 72550368 | E32: MŠ Jablonec n. N., Husova 3/1444 | F32: 3111 | G32: PO | H32: KÚ | I32: 668689 | J32: 496060 | K32: 0 | L32: 167668 | M32: 4961 | N32: 0 | O32: 1.25 | P32: =X32*-1 -> 0 | Q32: 0 | R32: 33071 | S32: 0 | T32: 0 | U32: 0 | V32: 0 | W32: =SUM(P32:V32) -> 33071 | X32: 0 | Y32: 0 | Z32: 0 | AA32: =X32+Y32+Z32 -> 0 | AB32: =W32+AA32 -> 33071 | AC32: =ROUND((W32+X32+Y32)*33.8%,0) -> 11178 | AD32: 0 | AE32: =AC32+AD32 -> 11178 | AF32: =ROUND(W32*1%,0) -> 331 | AG32: 0 | AH32: =AB32+AE32+AF32+AG32 -> 44580 | AI32: 0 | AJ32: 0.08 | AK32: 0 | AL32: 0 | AM32: 0 | AN32: 0 | AO32: =SUM(AI32:AN32) -> 0.08 | AP32: =I32+AH32 -> 713269 | AQ32: =J32+W32 -> 529131 | AR32: =K32+AA32 -> 0 | AS32: =L32+AE32 -> 178846 | AT32: =M32+AF32 -> 5292 | AU32: =N32+AG32 -> 0 | AV32: =O32+AO32 -> 1.33 | AW32: =SUM(AX32:BB32) -> 0 | AX32: 0 | AY32: 0 | AZ32: 0 | BA32: 0 | BB32: 0 | BC32: 0
A33: 8 | B33: 3472 | C33: 691003564 | D33: 72550368 | E33: MŠ Jablonec n. N., Husova 3/1444 Celkem | I33: 5236641 | J33: 3884748 | K33: 0 | L33: 1313045 | M33: 38848 | N33: 0 | O33: 7.25 | P33: =SUM(P31:P32) -> 0 | Q33: =SUM(Q31:Q32) -> 0 | R33: =SUM(R31:R32) -> 33071 | S33: =SUM(S31:S32) -> 0 | T33: =SUM(T31:T32) -> 0 | U33: =SUM(U31:U32) -> 0 | V33: =SUM(V31:V32) -> 0 | W33: =SUM(W31:W32) -> 33071 | ... BC33: =SUM(BC31:BC32) -> 0
A34: 9 | B34: 3467 | C34: 691001243 | D34: 72048174 | E34: MŠ Jablonec n. N., J. Hory 31/4097 | F34: 3111 | G34: MŠ | H34: MŠMT | I34: 8396564 | J34: 6228905 | K34: 0 | L34: 2105370 | M34: 62289 | N34: 0 | O34: 10.55 | P34: =X34*-1 -> 0 | Q34: 0 | R34: 0 | S34: 0 | T34: 0 | U34: 0 | V34: 0 | W34: =SUM(P34:V34) -> 0 | X34: 0 | Y34: 0 | Z34: 0 | AA34: =X34+Y34+Z34 -> 0 | AB34: =W34+AA34 -> 0 | AC34: =ROUND((W34+X34+Y34)*33.8%,0) -> 0 | AD34: 0 | AE34: =AC34+AD34 -> 0 | AF34: =ROUND(W34*1%,0) -> 0 | AG34: 0 | AH34: =AB34+AE34+AF34+AG34 -> 0 | AI34: 0 | AJ34: 0 | AK34: 0 | AL34: 0 | AM34: 0 | AN34: 0 | AO34: =SUM(AI34:AN34) -> 0 | AP34: =I34+AH34 -> 8396564 | AQ34: =J34+W34 -> 6228905 | AR34: =K34+AA34 -> 0 | AS34: =L34+AE34 -> 2105370 | AT34: =M34+AF34 -> 62289 | AU34: =N34+AG34 -> 0 | AV34: =O34+AO34 -> 10.55 | AW34: =SUM(AX34:BB34) -> 0 | AX34: 0 | AY34: 0 | AZ34: 0 | BA34: 0 | BB34: 0 | BC34: 0
A35: 9 | B35: 3467 | C35: 691001243 | D35: 72048174 | E35: MŠ Jablonec n. N., J. Hory 31/4097 | F35: 3111 | G35: PO | H35: KÚ | I35: 936163 | J35: 694483 | K35: 0 | L35: 234735 | M35: 6945 | N35: 0 | O35: 1.75 | P35: =X35*-1 -> 0 | Q35: 0 | R35: 0 | S35: 0 | T35: 0 | U35: 0 | V35: 0 | W35: =SUM(P35:V35) -> 0 | X35: 0 | Y35: 0 | Z35: 0 | AA35: =X35+Y35+Z35 -> 0 | AB35: =W35+AA35 -> 0 | AC35: =ROUND((W35+X35+Y35)*33.8%,0) -> 0 | AD35: 0 | AE35: =AC35+AD35 -> 0 | AF35: =ROUND(W35*1%,0) -> 0 | AG35: 0 | AH35: =AB35+AE35+AF35+AG35 -> 0 | AI35: 0 | AJ35: 0 | AK35: 0 | AL35: 0 | AM35: 0 | AN35: 0 | AO35: =SUM(AI35:AN35) -> 0 | AP35: =I35+AH35 -> 936163 | AQ35: =J35+W35 -> 694483 | AR35: =K35+AA35 -> 0 | AS35: =L35+AE35 -> 234735 | AT35: =M35+AF35 -> 6945 | AU35: =N35+AG35 -> 0 | AV35: =O35+AO35 -> 1.75 | AW35: =SUM(AX35:BB35) -> 0 | AX35: 0 | AY35: 0 | AZ35: 0 | BA35: 0 | BB35: 0 | BC35: 0
A36: 9 | B36: 3467 | C36: 691001243 | D36: 72048174 | E36: MŠ Jablonec n. N., J. Hory 31/4097 Celkem | I36: 9332727 | J36: 6923388 | K36: 0 | L36: 2340105 | M36: 69234 | N36: 0 | O36: 12.3 | P36: =SUM(P34:P35) -> 0 | Q36: =SUM(Q34:Q35) -> 0 | R36: =SUM(R34:R35) -> 0 | S36: =SUM(S34:S35) -> 0 | T36: =SUM(T34:T35) -> 0 | U36: =SUM(U34:U35) -> 0 | V36: =SUM(V34:V35) -> 0 | W36: =SUM(W34:W35) -> 0 | ... BC36: =SUM(BC34:BC35) -> 0
A37: 10 | B37: 3461 | C37: 691001286 | D37: 72048107 | E37: MŠ Jablonec n. N., Jugoslávská 13/1885 | F37: 3111 | G37: MŠ | H37: MŠMT | I37: 8509658 | J37: 6312803 | K37: 0 | L37: 2133727 | M37: 63128 | N37: 0 | O37: 10.7 | P37: =X37*-1 -> 0 | Q37: 0 | R37: 0 | S37: 0 | T37: 0 | U37: 0 | V37: 0 | W37: =SUM(P37:V37) -> 0 | X37: 0 | Y37: 0 | Z37: 32732 | AA37: =X37+Y37+Z37 -> 32732 | AB37: =W37+AA37 -> 32732 | AC37: =ROUND((W37+X37+Y37)*33.8%,0) -> 0 | AD37: 0 | AE37: =AC37+AD37 -> 0 | AF37: =ROUND(W37*1%,0) -> 0 | AG37: 0 | AH37: =AB37+AE37+AF37+AG37 -> 32732 | AI37: 0 | AJ37: 0 | AK37: 0 | AL37: 0 | AM37: 0 | AN37: 0 | AO37: =SUM(AI37:AN37) -> 0 | AP37: =I37+AH37 -> 8542390 | AQ37: =J37+W37 -> 6312803 | AR37: =K37+AA37 -> 32732 | AS37: =L37+AE37 -> 2133727 | AT37: =M37+AF37 -> 63128 | AU37: =N37+AG37 -> 0 | AV37: =O37+AO37 -> 10.7 | AW37: =SUM(AX37:BB37) -> 0 | AX37: 0 | AY37: 0 | AZ37: 0 | BA37: 0 | BB37: 0 | BC37: 0
A38: 10 | B38: 3461 | C38: 691001286 | D38: 72048107 | E38: MŠ Jablonec n. N., Jugoslávská 13/1885 | F38: 3111 | G38: PO | H38: KÚ | I38: 1323927 | J38: 982142 | K38: 0 | L38: 331964 | M38: 9821 | N38: 0 | O38: 2.73 | P38: =X38*-1 -> 0 | Q38: 0 | R38: -82961 | S38: 0 | T38: 0 | U38: 0 | V38: 0 | W38: =SUM(P38:V38) -> -82961 | X38: 0 | Y38: 0 | Z38: 0 | AA38: =X38+Y38+Z38 -> 0 | AB38: =W38+AA38 -> -82961 | AC38: =ROUND((W38+X38+Y38)*33.8%,0) -> -28041 | AD38: 0 | AE38: =AC38+AD38 -> -28041 | AF38: =ROUND(W38*1%,0) -> -830 | AG38: 0 | AH38: =AB38+AE38+AF38+AG38 -> -111832 | AI38: 0 | AJ38: -0.16 | AK38: 0 | AL38: 0 | AM38: 0 | AN38: 0 | AO38: =SUM(AI38:AN38) -> -0.16 | AP38: =I38+AH38 -> 1212095 | AQ38: =J38+W38 -> 899181 | AR38: =K38+AA38 -> 0 | AS38: =L38+AE38 -> 303923 | AT38: =M38+AF38 -> 8991 | AU38: =N38+AG38 -> 0 | AV38: =O38+AO38 -> 2.57 | AW38: =SUM(AX38:BB38) -> 0 | AX38: 0 | AY38: 0 | AZ38: 0 | BA38: 0 | BB38: 0 | BC38: 0
A39: 10 | B39: 3461 | C39: 691001286 | D39: 72048107 | E39: MŠ Jablonec n. N., Jugoslávská 13/1885 Celkem | I39: 9833585 | J39: 7294945 | K39: 0 | L39: 2465691 | M39: 72949 | N39: 0 | O39: 13.43 | P39: =SUM(P37:P38) -> 0 | Q39: =SUM(Q37:Q38) -> 0 | R39: =SUM(R37:R38) -> -82961 | S39: =SUM(S37:S38) -> 0 | T39: =SUM(T37:T38) -> 0 | U39: =SUM(U37:U38) -> 0 | V39: =SUM(V37:V38) -> 0 | W39: =SUM(W37:W38) -> -82961 | ... BC39: =SUM(BC37:BC38) -> 0
A40: 11 | B40: 3468 | C40: 691000891 | D40: 72048069 | E40: MŠ Jablonec n. N., Lovecká 11/249 | F40: 3111 | G40: MŠ | H40: MŠMT | I40: 6554382 | J40: 4862301 | K40: 0 | L40: 1643458 | M40: 48623 | N40: 0 | O40: 8.1 | P40: =X40*-1 -> 0 | Q40: 0 | R40: 0 | S40: 0 | T40: 0 | U40: 0 | V40: 0 | W40: =SUM(P40:V40) -> 0 | X40: 0 | Y40: 0 | Z40: 0 | AA40: =X40+Y40+Z40 -> 0 | AB40: =W40+AA40 -> 0 | AC40: =ROUND((W40+X40+Y40)*33.8%,0) -> 0 | AD40: 0 | AE40: =AC40+AD40 -> 0 | AF40: =ROUND(W40*1%,0) -> 0 | AG40: 0 | AH40: =AB40+AE40+AF40+AG40 -> 0 | AI40: 0 | AJ40: 0 | AK40: 0 | AL40: 0 | AM40: 0 | AN40: 0 | AO40: =SUM(AI40:AN40) -> 0 | AP40: =I40+AH40 -> 6554382 | AQ40: =J40+W40 -> 4862301 | AR40: =K40+AA40 -> 0 | AS40: =L40+AE40 -> 1643458 | AT40: =M40+AF40 -> 48623 | AU40: =N40+AG40 -> 0 | AV40: =O40+AO40 -> 8.1 | AW40: =SUM(AX40:BB40) -> 0 | AX40: 0 | AY40: 0 | AZ40: 0 | BA40: 0 | BB40: 0 | BC40: 0
A41: 11 | B41: 3468 | C41: 691000891 | D41: 72048069 | E41: MŠ Jablonec n. N., Lovecká 11/249 | F41: 3111 | G41: PO | H41: KÚ | I41: 936163 | J41: 694483 | K41: 0 | L41: 234735 | M41: 6945 | N41: 0 | O41: 1.75 | P41: =X41*-1 -> 0 | Q41: 0 | R41: 129164 | S41: 0 | T41: 0 | U41: 0 | V41: 0 | W41: =SUM(P41:V41) -> 129164 | X41: 0 | Y41: 0 | Z41: 0 | AA41: =X41+Y41+Z41 -> 0 | AB41: =W41+AA41 -> 129164 | AC41: =ROUND((W41+X41+Y41)*33.8%,0) -> 43657 | AD41: 0 | AE41: =AC41+AD41 -> 43657 | AF41: =ROUND(W41*1%,0) -> 1292 | AG41: 0 | AH41: =AB41+AE41+AF41+AG41 -> 174113 | AI41: 0 | AJ41: 0.38 | AK41: 0 | AL41: 0 | AM41: 0 | AN41: 0 | AO41: =SUM(AI41:AN41) -> 0.38 | AP41: =I41+AH41 -> 1110276 | AQ41: =J41+W41 -> 823647 | AR41: =K41+AA41 -> 0 | AS41: =L41+AE41 -> 278392 | AT41: =M41+AF41 -> 8237 | AU41: =N41+AG41 -> 0 | AV41: =O41+AO41 -> 2.13 | AW41: =SUM(AX41:BB41) -> 0 | AX41: 0 | AY41: 0 | AZ41: 0 | BA41: 0 | BB41: 0 | BC41: 0
A42: 11 | B42: 3468 | C42: 691000891 | D42: 72048069 | E42: MŠ Jablonec n. N., Lovecká 11/249 Celkem | I42: 7490545 | J42: 5556784 | K42: 0 | L42: 1878193 | M42: 55568 | N42: 0 | O42: 9.85 | P42: =SUM(P40:P41) -> 0 | Q42: =SUM(Q40:Q41) -> 0 | R42: =SUM(R40:R41) -> 129164 | S42: =SUM(S40:S41) -> 0 | T42: =SUM(T40:T41) -> 0 | U42: =SUM(U40:U41) -> 0 | V42: =SUM(V40:V41) -> 0 | W42: =SUM(W40:W41) -> 129164 | ... BC42: =SUM(BC40:BC41) -> 0
A43: 12 | B43: 3465 | C43: 691001278 | D43: 72048131 | E43: MŠ Jablonec n. N., Mechová 10/3645 | F43: 3111 | G43: MŠ | H43: MŠMT | I43: 6471420 | J43: 4800756 | K43: 0 | L43: 1622656 | M43: 48008 | N43: 0 | O43: 8 | P43: =X43*-1 -> 0 | Q43: 0 | R43: 0 | S43: 0 | T43: 0 | U43: 0 | V43: 0 | W43: =SUM(P43:V43) -> 0 | X43: 0 | Y43: 0 | Z43: 0 | AA43: =X43+Y43+Z43 -> 0 | AB43: =W43+AA43 -> 0 | AC43: =ROUND((W43+X43+Y43)*33.8%,0) -> 0 | AD43: 0 | AE43: =AC43+AD43 -> 0 | AF43: =ROUND(W43*1%,0) -> 0 | AG43: 0 | AH43: =AB43+AE43+AF43+AG43 -> 0 | AI43: 0 | AJ43: 0 | AK43: 0 | AL43: 0 | AM43: 0 | AN43: 0 | AO43: =SUM(AI43:AN43) -> 0 | AP43: =I43+AH43 -> 6471420 | AQ43: =J43+W43 -> 4800756 | AR43: =K43+AA43 -> 0 | AS43: =L43+AE43 -> 1622656 | AT43: =M43+AF43 -> 48008 | AU43: =N43+AG43 -> 0 | AV43: =O43+AO43 -> 8 | AW43: =SUM(AX43:BB43) -> 0 | AX43: 0 | AY43: 0 | AZ43: 0 | BA43: 0 | BB43: 0 | BC43: 0
A44: 12 | B44: 3465 | C44: 691001278 | D44: 72048131 | E44: MŠ Jablonec n. N., Mechová 10/3645 | F44: 3111 | G44: PO | H44: KÚ | I44: 299183 | J44: 221946 | K44: 0 | L44: 75018 | M44: 2219 | N44: 0 | O44: 0.75 | P44: =X44*-1 -> 0 | Q44: 0 | R44: 24660 | S44: 0 | T44: 0 | U44: 0 | V44: 0 | W44: =SUM(P44:V44) -> 24660 | X44: 0 | Y44: 0 | Z44: 0 | AA44: =X44+Y44+Z44 -> 0 | AB44: =W44+AA44 -> 24660 | AC44: =ROUND((W44+X44+Y44)*33.8%,0) -> 8335 | AD44: 0 | AE44: =AC44+AD44 -> 8335 | AF44: =ROUND(W44*1%,0) -> 247 | AG44: 0 | AH44: =AB44+AE44+AF44+AG44 -> 33242 | AI44: 0 | AJ44: 0.08 | AK44: 0 | AL44: 0 | AM44: 0 | AN44: 0 | AO44: =SUM(AI44:AN44) -> 0.08 | AP44: =I44+AH44 -> 332425 | AQ44: =J44+W44 -> 246606 | AR44: =K44+AA44 -> 0 | AS44: =L44+AE44 -> 83353 | AT44: =M44+AF44 -> 2466 | AU44: =N44+AG44 -> 0 | AV44: =O44+AO44 -> 0.83 | AW44: =SUM(AX44:BB44) -> 0 | AX44: 0 | AY44: 0 | AZ44: 0 | BA44: 0 | BB44: 0 | BC44: 0
A45: 12 | B45: 3465 | C45: 691001278 | D45: 72048131 | E45: MŠ Jablonec n. N., Mechová 10/3645 Celkem | I45: 6770603 | J45: 5022702 | K45: 0 | L45: 1697674 | M45: 50227 | N45: 0 | O45: 8.75 | P45: =SUM(P43:P44) -> 0 | Q45: =SUM(Q43:Q44) -> 0 | R45: =SUM(R43:R44) -> 24660 | S45: =SUM(S43:S44) -> 0 | T45: =SUM(T43:T44) -> 0 | U45: =SUM(U43:U44) -> 0 | V45: =SUM(V43:V44) -> 0 | W45: =SUM(W43:W44) -> 24660 | ... BC45: =SUM(BC43:BC44) -> 0
A46: 13 | B46: 3473 | C46: 691003530 | D46: 72550392 | E46: MŠ Jablonec n. N., Nová Pasířská 10/3825 | F46: 3111 | G46: MŠ | H46: MŠMT | I46: 8066537 | J46: 5984078 | K46: 0 | L46: 2022618 | M46: 59841 | N46: 0 | O46: 10 | P46: =X46*-1 -> 0 | Q46: 0 | R46: 0 | S46: 0 | T46: 0 | U46: 0 | V46: 0 | W46: =SUM(P46:V46) -> 0 | X46: 0 | Y46: 0 | Z46: 0 | AA46: =X46+Y46+Z46 -> 0 | AB46: =W46+AA46 -> 0 | AC46: =ROUND((W46+X46+Y46)*33.8%,0) -> 0 | AD46: 0 | AE46: =AC46+AD46 -> 0 | AF46: =ROUND(W46*1%,0) -> 0 | AG46: 0 | AH46: =AB46+AE46+AF46+AG46 -> 0 | AI46: 0 | AJ46: 0 | AK46: 0 | AL46: 0 | AM46: 0 | AN46: 0 | AO46: =SUM(AI46:AN46) -> 0 | AP46: =I46+AH46 -> 8066537 | AQ46: =J46+W46 -> 5984078 | AR46: =K46+AA46 -> 0 | AS46: =L46+AE46 -> 2022618 | AT46: =M46+AF46 -> 59841 | AU46: =N46+AG46 -> 0 | AV46: =O46+AO46 -> 10 | AW46: =SUM(AX46:BB46) -> 0 | AX46: 0 | AY46: 0 | AZ46: 0 | BA46: 0 | BB46: 0 | BC46: 0
A47: 13 | B47: 3473 | C47: 691003530 | D47: 72550392 | E47: MŠ Jablonec n. N., Nová Pasířská 10/3825 | F47: 3111 | G47: PO | H47: KÚ | I47: 182834 | J47: 135634 | K47: 0 | L47: 45844 | M47: 1356 | N47: 0 | O47: 0.46 | P47: =X47*-1 -> 0 | Q47: 0 | R47: 0 | S47: 0 | T47: 0 | U47: 0 | V47: 0 | W47: =SUM(P47:V47) -> 0 | X47: 0 | Y47: 0 | Z47: 0 | AA47: =X47+Y47+Z47 -> 0 | AB47: =W47+AA47 -> 0 | AC47: =ROUND((W47+X47+Y47)*33.8%,0) -> 0 | AD47: 0 | AE47: =AC47+AD47 -> 0 | AF47: =ROUND(W47*1%,0) -> 0 | AG47: 0 | AH47: =AB47+AE47+AF47+AG47 -> 0 | AI47: 0 | AJ47: 0 | AK47: 0 | AL47: 0 | AM47: 0 | AN47: 0 | AO47: =SUM(AI47:AN47) -> 0 | AP47: =I47+AH47 -> 182834 | AQ47: =J47+W47 -> 135634 | AR47: =K47+AA47 -> 0 | AS47: =L47+AE47 -> 45844 | AT47: =M47+AF47 -> 1356 | AU47: =N47+AG47 -> 0 | AV47: =O47+AO47 -> 0.46 | AW47: =SUM(AX47:BB47) -> 0 | AX47: 0 | AY47: 0 | AZ47: 0 | BA47: 0 | BB47: 0 | BC47: 0
A48: 13 | B48: 3473 | C48: 691003530 | D48: 72550392 | E48: MŠ Jablonec n. N., Nová Pasířská 10/3825 Celkem | I48: 8249371 | J48: 6119712 | K48: 0 | L48: 2068462 | M48: 61197 | N48: 0 | O48: 10.46 | P48: =SUM(P46:P47) -> 0 | Q48: =SUM(Q46:Q47) -> 0 | R48: =SUM(R46:R47) -> 0 | S48: =SUM(S46:S47) -> 0 | T48: =SUM(T46:T47) -> 0 | U48: =SUM(U46:U47) -> 0 | V48: =SUM(V46:V47) -> 0 | W48: =SUM(W46:W47) -> 0 | ... BC48: =SUM(BC46:BC47) -> 0
A49: 14 | B49: 3466 | C49: 691001260 | D49: 72048085 | E49: MŠ Jablonec n. N., Střelecká 14/1067 | F49: 3111 | G49: MŠ | H49: MŠMT | I49: 5039586 | J49: 3738565 | K49: 0 | L49: 1263635 | M49: 37386 | N49: 0 | O49: 6 | P49: =X49*-1 -> 0 | Q49: 0 | R49: 0 | S49: 0 | T49: 0 | U49: 0 | V49: 0 | W49: =SUM(P49:V49) -> 0 | X49: 0 | Y49: 0 | Z49: 0 | AA49: =X49+Y49+Z49 -> 0 | AB49: =W49+AA49 -> 0 | AC49: =ROUND((W49+X49+Y49)*33.8%,0) -> 0 | AD49: 0 | AE49: =AC49+AD49 -> 0 | AF49: =ROUND(W49*1%,0) -> 0 | AG49: 0 | AH49: =AB49+AE49+AF49+AG49 -> 0 | AI49: 0 | AJ49: 0 | AK49: 0 | AL49: 0 | AM49: 0 | AN49: 0 | AO49: =SUM(AI49:AN49) -> 0 | AP49: =I49+AH49 -> 5039586 | AQ49: =J49+W49 -> 3738565 | AR49: =K49+AA49 -> 0 | AS49: =L49+AE49 -> 1263635 | AT49: =M49+AF49 -> 37386 | AU49: =N49+AG49 -> 0 | AV49: =O49+AO49 -> 6 | AW49: =SUM(AX49:BB49) -> 0 | AX49: 0 | AY49: 0 | AZ49: 0 | BA49: 0 | BB49: 0 | BC49: 0
A50: 14 | B50: 3466 | C50: 691001260 | D50: 72048085 | E50: MŠ Jablonec n. N., Střelecká 14/1067 | F50: 3111 | G50: PO | H50: KÚ | I50: 1144206 | J50: 848818 | K50: 0 | L50: 286900 | M50: 8488 | N50: 0 | O50: 2.14 | P50: =X50*-1 -> 0 | Q50: 0 | R50: 0 | S50: 0 | T50: 0 | U50: 0 | V50: 0 | W50: =SUM(P50:V50) -> 0 | X50: 0 | Y50: 0 | Z50: 0 | AA50: =X50+Y50+Z50 -> 0 | AB50: =W50+AA50 -> 0 | AC50: =ROUND((W50+X50+Y50)*33.8%,0) -> 0 | AD50: 0 | AE50: =AC50+AD50 -> 0 | AF50: =ROUND(W50*1%,0) -> 0 | AG50: 0 | AH50: =AB50+AE50+AF50+AG50 -> 0 | AI50: 0 | AJ50: 0 | AK50: 0 | AL50: 0 | AM50: 0 | AN50: 0 | AO50: =SUM(AI50:AN50) -> 0 | AP50: =I50+AH50 -> 1144206 | AQ50: =J50+W50 -> 848818 | AR50: =K50+AA50 -> 0 | AS50: =L50+AE50 -> 286900 | AT50: =M50+AF50 -> 8488 | AU50: =N50+AG50 -> 0 | AV50: =O50+AO50 -> 2.14 | AW50: =SUM(AX50:BB50) -> 0 | AX50: 0 | AY50: 0 | AZ50: 0 | BA50: 0 | BB50: 0 | BC50: 0
A51: 14 | B51: 3466 | C51: 691001260 | D51: 72048085 | E51: MŠ Jablonec n. N., Střelecká 14/1067 Celkem | I51: 6183792 | J51: 4587383 | K51: 0 | L51: 1550535 | M51: 45874 | N51: 0 | O51: 8.14 | P51: =SUM(P49:P50) -> 0 | Q51: =SUM(Q49:Q50) -> 0 | R51: =SUM(R49:R50) -> 0 | S51: =SUM(S49:S50) -> 0 | T51: =SUM(T49:T50) -> 0 | U51: =SUM(U49:U50) -> 0 | V51: =SUM(V49:V50) -> 0 | W51: =SUM(W49:W50) -> 0 | ... BC51: =SUM(BC49:BC50) -> 0
A52: 15 | B52: 3407 | C52: 667000089 | D52: 72743778 | E52: MŠ Jablonec n. N., Švédská 14/3494 | F52: 3111 | G52: MŠ | H52: MŠMT | I52: 16335894 | J52: 12118615 | K52: 0 | L52: 4096092 | M52: 121187 | N52: 0 | O52: 20.53 | P52: =X52*-1 -> -19362 | Q52: 0 | R52: 0 | S52: 0 | T52: 0 | U52: 0 | V52: 0 | W52: =SUM(P52:V52) -> -19362 | X52: 19362 | Y52: 0 | Z52: 0 | AA52: =X52+Y52+Z52 -> 19362 | AB52: =W52+AA52 -> 0 | AC52: =ROUND((W52+X52+Y52)*33.8%,0) -> 0 | AD52: 0 | AE52: =AC52+AD52 -> 0 | AF52: =ROUND(W52*1%,0) -> -194 | AG52: 0 | AH52: =AB52+AE52+AF52+AG52 -> -194 | AI52: 0 | AJ52: 0 | AK52: 0 | AL52: 0 | AM52: 0 | AN52: 0 | AO52: =SUM(AI52:AN52) -> 0 | AP52: =I52+AH52 -> 16335700 | AQ52: =J52+W52 -> 12099253 | AR52: =K52+AA52 -> 19362 | AS52: =L52+AE52 -> 4096092 | AT52: =M52+AF52 -> 120993 | AU52: =N52+AG52 -> 0 | AV52: =O52+AO52 -> 20.53 | AW52: =SUM(AX52:BB52) -> 0 | AX52: 0 | AY52: 0 | AZ52: 0 | BA52: 0 | BB52: 0 | BC52: 0
A53: 15 | B53: 3407 | C53: 667000089 | D53: 72743778 | E53: MŠ Jablonec n. N., Švédská 14/3494 | F53: 3111 | G53: PO | H53: KÚ | I53: 2630172 | J53: 1951166 | K53: 0 | L53: 659494 | M53: 19512 | N53: 0 | O53: 4.92 | P53: =X53*-1 -> 0 | Q53: 0 | R53: -198423 | S53: 0 | T53: 0 | U53: 0 | V53: 0 | W53: =SUM(P53:V53) -> -198423 | X53: 0 | Y53: 0 | Z53: 0 | AA53: =X53+Y53+Z53 -> 0 | AB53: =W53+AA53 -> -198423 | AC53: =ROUND((W53+X53+Y53)*33.8%,0) -> -67067 | AD53: 0 | AE53: =AC53+AD53 -> -67067 | AF53: =ROUND(W53*1%,0) -> -1984 | AG53: 0 | AH53: =AB53+AE53+AF53+AG53 -> -267474 | AI53: 0 | AJ53: -0.5 | AK53: 0 | AL53: 0 | AM53: 0 | AN53: 0 | AO53: =SUM(AI53:AN53) -> -0.5 | AP53: =I53+AH53 -> 2362698 | AQ53: =J53+W53 -> 1752743 | AR53: =K53+AA53 -> 0 | AS53: =L53+AE53 -> 592427 | AT53: =M53+AF53 -> 17528 | AU53: =N53+AG53 -> 0 | AV53: =O53+AO53 -> 4.42 | AW53: =SUM(AX53:BB53) -> 0 | AX53: 0 | AY53: 0 | AZ53: 0 | BA53: 0 | BB53: 0 | BC53: 0
A54: 15 | B54: 3407 | C54: 667000089 | D54: 72743778 | E54: MŠ Jablonec n. N., Švédská 14/3494 Celkem | I54: 18966066 | J54: 14069781 | K54: 0 | L54: 4755586 | M54: 140699 | N54: 0 | O54: 25.45 | P54: =SUM(P52:P53) -> -19362 | Q54: =SUM(Q52:Q53) -> 0 | R54: =SUM(R52:R53) -> -198423 | S54: =SUM(S52:S53) -> 0 | T54: =SUM(T52:T53) -> 0 | U54: =SUM(U52:U53) -> 0 | V54: =SUM(V52:V53) -> 0 | W54: =SUM(W52:W53) -> -217785 | ... BC54: =SUM(BC52:BC53) -> 0
A55: 16 | B55: 3463 | C55: 691001308 | D55: 72048166 | E55: MŠ Jablonec n. N., Tichá 19/3892 | F55: 3111 | G55: MŠ | H55: MŠMT | I55: 7037518 | J55: 5200859 | K55: 20000 | L55: 1764650 | M55: 52009 | N55: 0 | O55: 8.45 | P55: =X55*-1 -> 0 | Q55: 0 | R55: 0 | S55: 0 | T55: 0 | U55: 0 | V55: 0 | W55: =SUM(P55:V55) -> 0 | X55: 0 | Y55: 0 | Z55: 0 | AA55: =X55+Y55+Z55 -> 0 | AB55: =W55+AA55 -> 0 | AC55: =ROUND((W55+X55+Y55)*33.8%,0) -> 0 | AD55: 0 | AE55: =AC55+AD55 -> 0 | AF55: =ROUND(W55*1%,0) -> 0 | AG55: 0 | AH55: =AB55+AE55+AF55+AG55 -> 0 | AI55: 0 | AJ55: 0 | AK55: 0 | AL55: 0 | AM55: 0 | AN55: 0 | AO55: =SUM(AI55:AN55) -> 0 | AP55: =I55+AH55 -> 7037518 | AQ55: =J55+W55 -> 5200859 | AR55: =K55+AA55 -> 20000 | AS55: =L55+AE55 -> 1764650 | AT55: =M55+AF55 -> 52009 | AU55: =N55+AG55 -> 0 | AV55: =O55+AO55 -> 8.45 | AW55: =SUM(AX55:BB55) -> 0 | AX55: 0 | AY55: 0 | AZ55: 0 | BA55: 0 | BB55: 0 | BC55: 0
A56: 16 | B56: 3463 | C56: 691001308 | D56: 72048166 | E56: MŠ Jablonec n. N., Tichá 19/3892 | F56: 3111 | G56: PO | H56: KÚ | I56: 1747686 | J56: 1296503 | K56: 0 | L56: 438218 | M56: 12965 | N56: 0 | O56: 3.2 | P56: =X56*-1 -> 0 | Q56: 0 | R56: 124882 | S56: 0 | T56: 0 | U56: 0 | V56: 0 | W56: =SUM(P56:V56) -> 124882 | X56: 0 | Y56: 0 | Z56: 0 | AA56: =X56+Y56+Z56 -> 0 | AB56: =W56+AA56 -> 124882 | AC56: =ROUND((W56+X56+Y56)*33.8%,0) -> 42210 | AD56: 0 | AE56: =AC56+AD56 -> 42210 | AF56: =ROUND(W56*1%,0) -> 1249 | AG56: 0 | AH56: =AB56+AE56+AF56+AG56 -> 168341 | AI56: 0 | AJ56: 0.27 | AK56: 0 | AL56: 0 | AM56: 0 | AN56: 0 | AO56: =SUM(AI56:AN56) -> 0.27 | AP56: =I56+AH56 -> 1916027 | AQ56: =J56+W56 -> 1421385 | AR56: =K56+AA56 -> 0 | AS56: =L56+AE56 -> 480428 | AT56: =M56+AF56 -> 14214 | AU56: =N56+AG56 -> 0 | AV56: =O56+AO56 -> 3.47 | AW56: =SUM(AX56:BB56) -> 0 | AX56: 0 | AY56: 0 | AZ56: 0 | BA56: 0 | BB56: 0 | BC56: 0
A57: 16 | B57: 3463 | C57: 691001308 | D57: 72048166 | E57: MŠ Jablonec n. N., Tichá 19/3892 Celkem | I57: 8785204 | J57: 6497362 | K57: 20000 | L57: 2202868 | M57: 64974 | N57: 0 | O57: 11.65 | P57: =SUM(P55:P56) -> 0 | Q57: =SUM(Q55:Q56) -> 0 | R57: =SUM(R55:R56) -> 124882 | S57: =SUM(S55:S56) -> 0 | T57: =SUM(T55:T56) -> 0 | U57: =SUM(U55:U56) -> 0 | V57: =SUM(V55:V56) -> 0 | W57: =SUM(W55:W56) -> 124882 | ... BC57: =SUM(BC55:BC56) -> 0
A58: 17 | B58: 3460 | C58: 691000387 | D58: 86797034 | E58: MŠ Jablonec n. N., Zámecká 10/223 | F58: 3111 | G58: MŠ | H58: MŠMT | I58: 6425797 | J58: 4766912 | K58: 0 | L58: 1611216 | M58: 47669 | N58: 0 | O58: 8.1 | P58: =X58*-1 -> 0 | Q58: 0 | R58: 0 | S58: 0 | T58: 0 | U58: 0 | V58: 0 | W58: =SUM(P58:V58) -> 0 | X58: 0 | Y58: 0 | Z58: 0 | AA58: =X58+Y58+Z58 -> 0 | AB58: =W58+AA58 -> 0 | AC58: =ROUND((W58+X58+Y58)*33.8%,0) -> 0 | AD58: 0 | AE58: =AC58+AD58 -> 0 | AF58: =ROUND(W58*1%,0) -> 0 | AG58: 0 | AH58: =AB58+AE58+AF58+AG58 -> 0 | AI58: 0 | AJ58: 0 | AK58: 0 | AL58: 0 | AM58: 0 | AN58: 0 | AO58: =SUM(AI58:AN58) -> 0 | AP58: =I58+AH58 -> 6425797 | AQ58: =J58+W58 -> 4766912 | AR58: =K58+AA58 -> 0 | AS58: =L58+AE58 -> 1611216 | AT58: =M58+AF58 -> 47669 | AU58: =N58+AG58 -> 0 | AV58: =O58+AO58 -> 8.1 | AW58: =SUM(AX58:BB58) -> 0 | AX58: 0 | AY58: 0 | AZ58: 0 | BA58: 0 | BB58: 0 | BC58: 0
A59: 17 | B59: 3460 | C59: 691000387 | D59: 86797034 | E59: MŠ Jablonec n. N., Zámecká 10/223 | F59: 3111 | G59: PO | H59: KÚ | I59: 267475 | J59: 198424 | K59: 0 | L59: 67067 | M59: 1984 | N59: 0 | O59: 0.5 | P59: =X59*-1 -> 0 | Q59: 0 | R59: 0 | S59: 0 | T59: 0 | U59: 0 | V59: 0 | W59: =SUM(P59:V59) -> 0 | X59: 0 | Y59: 0 | Z59: 0 | AA59: =X59+Y59+Z59 -> 0 | AB59: =W59+AA59 -> 0 | AC59: =ROUND((W59+X59+Y59)*33.8%,0) -> 0 | AD59: 0 | AE59: =AC59+AD59 -> 0 | AF59: =ROUND(W59*1%,0) -> 0 | AG59: 0 | AH59: =AB59+AE59+AF59+AG59 -> 0 | AI59: 0 | AJ59: 0 | AK59: 0 | AL59: 0 | AM59: 0 | AN59: 0 | AO59: =SUM(AI59:AN59) -> 0 | AP59: =I59+AH59 -> 267475 | AQ59: =J59+W59 -> 198424 | AR59: =K59+AA59 -> 0 | AS59: =L59+AE59 -> 67067 | AT59: =M59+AF59 -> 1984 | AU59: =N59+AG59 -> 0 | AV59: =O59+AO59 -> 0.5 | AW59: =SUM(AX59:BB59) -> 0 | AX59: 0 | AY59: 0 | AZ59: 0 | BA59: 0 | BB59: 0 | BC59: 0
A60: 17 | B60: 3460 | C60: 691000387 | D60: 86797034 | E60: MŠ Jablonec n. N., Zámecká 10/223 Celkem | I60: 6693272 | J60: 4965336 | K60: 0 | L60: 1678283 | M60: 49653 | N60: 0 | O60: 8.6 | P60: =SUM(P58:P59) -> 0 | Q60: =SUM(Q58:Q59) -> 0 | R60: =SUM(R58:R59) -> 0 | S60: =SUM(S58:S59) -> 0 | T60: =SUM(T58:T59) -> 0 | U60: =SUM(U58:U59) -> 0 | V60: =SUM(V58:V59) -> 0 | W60: =SUM(W58:W59) -> 0 | ... BC60: =SUM(BC58:BC59) -> 0
A61: 18 | B61: 3413 | C61: 600077918 | D61: 72743433 | E61: MŠ Jablonec n. N., Palackého 37 | F61: 3111 | G61: MŠ | H61: MŠMT | I61: 10618875 | J61: 7877504 | K61: 0 | L61: 2662596 | M61: 78775 | N61: 0 | O61: 12.71 | P61: =X61*-1 -> 0 | Q61: 0 | R61: 0 | S61: 0 | T61: 0 | U61: 0 | V61: 0 | W61: =SUM(P61:V61) -> 0 | X61: 0 | Y61: 0 | Z61: 0 | AA61: =X61+Y61+Z61 -> 0 | AB61: =W61+AA61 -> 0 | AC61: =ROUND((W61+X61+Y61)*33.8%,0) -> 0 | AD61: 0 | AE61: =AC61+AD61 -> 0 | AF61: =ROUND(W61*1%,0) -> 0 | AG61: 0 | AH61: =AB61+AE61+AF61+AG61 -> 0 | AI61: 0 | AJ61: 0 | AK61: 0 | AL61: 0 | AM61: 0 | AN61: 0 | AO61: =SUM(AI61:AN61) -> 0 | AP61: =I61+AH61 -> 10618875 | AQ61: =J61+W61 -> 7877504 | AR61: =K61+AA61 -> 0 | AS61: =L61+AE61 -> 2662596 | AT61: =M61+AF61 -> 78775 | AU61: =N61+AG61 -> 0 | AV61: =O61+AO61 -> 12.71 | AW61: =SUM(AX61:BB61) -> 0 | AX61: 0 | AY61: 0 | AZ61: 0 | BA61: 0 | BB61: 0 | BC61: 0
A62: 18 | B62: 3413 | C62: 600077918 | D62: 72743433 | E62: MŠ Jablonec n. N., Palackého 37 | F62: 3111 | G62: AP spec.tř. | H62: MŠMT | I62: 2142447 | J62: 1589352 | K62: 0 | L62: 537201 | M62: 15894 | N62: 0 | O62: 4 | P62: =X62*-1 -> 0 | Q62: 0 | R62: 0 | S62: 0 | T62: 0 | U62: 0 | V62: 0 | W62: =SUM(P62:V62) -> 0 | X62: 0 | Y62: 0 | Z62: 0 | AA62: =X62+Y62+Z62 -> 0 | AB62: =W62+AA62 -> 0 | AC62: =ROUND((W62+X62+Y62)*33.8%,0) -> 0 | AD62: 0 | AE62: =AC62+AD62 -> 0 | AF62: =ROUND(W62*1%,0) -> 0 | AG62: 0 | AH62: =AB62+AE62+AF62+AG62 -> 0 | AI62: 0 | AJ62: 0 | AK62: 0 | AL62: 0 | AM62: 0 | AN62: 0 | AO62: =SUM(AI62:AN62) -> 0 | AP62: =I62+AH62 -> 2142447 | AQ62: =J62+W62 -> 1589352 | AR62: =K62+AA62 -> 0 | AS62: =L62+AE62 -> 537201 | AT62: =M62+AF62 -> 15894 | AU62: =N62+AG62 -> 0 | AV62: =O62+AO62 -> 4 | AW62: =SUM(AX62:BB62) -> 0 | AX62: 0 | AY62: 0 | AZ62: 0 | BA62: 0 | BB62: 0 | BC62: 0
A63: 18 | B63: 3413 | C63: 600077918 | D63: 72743433 | E63: MŠ Jablonec n. N., Palackého 37 | F63: 3111 | G63: PO | H63: KÚ | I63: 534949 | J63: 396847 | K63: 0 | L63: 134134 | M63: 3968 | N63: 0 | O63: 1 | P63: =X63*-1 -> 0 | Q63: 0 | R63: -132282 | S63: 0 | T63: 0 | U63: 0 | V63: 0 | W63: =SUM(P63:V63) -> -132282 | X63: 0 | Y63: 0 | Z63: 0 | AA63: =X63+Y63+Z63 -> 0 | AB63: =W63+AA63 -> -132282 | AC63: =ROUND((W63+X63+Y63)*33.8%,0) -> -44711 | AD63: 0 | AE63: =AC63+AD63 -> -44711 | AF63: =ROUND(W63*1%,0) -> -1323 | AG63: 0 | AH63: =AB63+AE63+AF63+AG63 -> -178316 | AI63: 0 | AJ63: -0.33 | AK63: 0 | AL63: 0 | AM63: 0 | AN63: 0 | AO63: =SUM(AI63:AN63) -> -0.33 | AP63: =I63+AH63 -> 356633 | AQ63: =J63+W63 -> 264565 | AR63: =K63+AA63 -> 0 | AS63: =L63+AE63 -> 89423 | AT63: =M63+AF63 -> 2645 | AU63: =N63+AG63 -> 0 | AV63: =O63+AO63 -> 0.67 | AW63: =SUM(AX63:BB63) -> 0 | AX63: 0 | AY63: 0 | AZ63: 0 | BA63: 0 | BB63: 0 | BC63: 0
A64: 18 | B64: 3413 | C64: 600077918 | D64: 72743433 | E64: MŠ spec. Jablonec n. N., Palackého 37 Celkem | I64: 13296271 | J64: 9863703 | K64: 0 | L64: 3333931 | M64: 98637 | N64: 0 | O64: 17.71 | P64: =SUM(P61:P63) -> 0 | Q64: =SUM(Q61:Q63) -> 0 | R64: =SUM(R61:R63) -> -132282 | S64: =SUM(S61:S63) -> 0 | T64: =SUM(T61:T63) -> 0 | U64: =SUM(U61:U63) -> 0 | V64: =SUM(V61:V63) -> 0 | W64: =SUM(W61:W63) -> -132282 | ... BC64: =SUM(BC61:BC63) -> 0
A65: 19 | B65: 3478 | C65: 691019657 | D65: 22296816 | E65: Lesní mateřská škola Jablonec n. N. - Proseč n. N. | F65: 3111 | G65: MŠ | H65: MŠMT | I65: 1663712 | J65: 1234208 | K65: 0 | L65: 417162 | M65: 12342 | N65: 0 | O65: 2.21 | P65: =X65*-1 -> 0 | Q65: 0 | R65: 0 | S65: 0 | T65: 0 | U65: 0 | V65: 0 | W65: =SUM(P65:V65) -> 0 | X65: 0 | Y65: 0 | Z65: 0 | AA65: =X65+Y65+Z65 -> 0 | AB65: =W65+AA65 -> 0 | AC65: =ROUND((W65+X65+Y65)*33.8%,0) -> 0 | AD65: 0 | AE65: =AC65+AD65 -> 0 | AF65: =ROUND(W65*1%,0) -> 0 | AG65: 0 | AH65: =AB65+AE65+AF65+AG65 -> 0 | AI65: 0 | AJ65: 0 | AK65: 0 | AL65: 0 | AM65: 0 | AN65: 0 | AO65: =SUM(AI65:AN65) -> 0 | AP65: =I65+AH65 -> 1663712 | AQ65: =J65+W65 -> 1234208 | AR65: =K65+AA65 -> 0 | AS65: =L65+AE65 -> 417162 | AT65: =M65+AF65 -> 12342 | AU65: =N65+AG65 -> 0 | AV65: =O65+AO65 -> 2.21 | AW65: =SUM(AX65:BB65) -> 0 | AX65: 0 | AY65: 0 | AZ65: 0 | BA65: 0 | BB65: 0 | BC65: 0
A66: 19 | B66: 3478 | C66: 691019657 | D66: 22296816 | E66: Lesní mateřská škola Jablonec n. N. - Proseč n. N. Celkem | I66: 1663712 | J66: 1234208 | K66: 0 | L66: 417162 | M66: 12342 | N66: 0 | O66: 2.21 | P66: =SUM(P65:P65) -> 0 | Q66: =SUM(Q65:Q65) -> 0 | R66: =SUM(R65:R65) -> 0 | S66: =SUM(S65:S65) -> 0 | T66: =SUM(T65:T65) -> 0 | U66: =SUM(U65:U65) -> 0 | V66: =SUM(V65:V65) -> 0 | W66: =SUM(W65:W65) -> 0 | ... BC66: =SUM(BC65:BC65) -> 0
A67: 20 | B67: 3409 | C67: 600078396 | D67: 43257399 | E67: ZŠ Jablonec n. N., 5. května 76 | F67: 3113 | G67: ZŠ | H67: MŠMT | I67: 26618159 | J67: 19424119 | K67: 0 | L67: 6565353 | M67: 194242 | N67: 434445 | O67: 28.42 | P67: =X67*-1 -> -58000 | Q67: 0 | R67: 0 | S67: 0 | T67: 0 | U67: 0 | V67: 0 | W67: =SUM(P67:V67) -> -58000 | X67: 58000 | Y67: 0 | Z67: 0 | AA67: =X67+Y67+Z67 -> 58000 | AB67: =W67+AA67 -> 0 | AC67: =ROUND((W67+X67+Y67)*33.8%,0) -> 0 | AD67: 0 | AE67: =AC67+AD67 -> 0 | AF67: =ROUND(W67*1%,0) -> -580 | AG67: 0 | AH67: =AB67+AE67+AF67+AG67 -> -580 | AI67: -0.1 | AJ67: 0 | AK67: 0 | AL67: 0 | AM67: 0 | AN67: 0 | AO67: =SUM(AI67:AN67) -> -0.1 | AP67: =I67+AH67 -> 26617579 | AQ67: =J67+W67 -> 19366119 | AR67: =K67+AA67 -> 58000 | AS67: =L67+AE67 -> 6565353 | AT67: =M67+AF67 -> 193662 | AU67: =N67+AG67 -> 434445 | AV67: =O67+AO67 -> 28.32 | AW67: =SUM(AX67:BB67) -> 805709 | AX67: 275418 | AY67: 0 | AZ67: 93091 | BA67: 2755 | BB67: 434445 | BC67: 0.5
A68: 20 | B68: 3409 | C68: 600078396 | D68: 43257399 | E68: ZŠ Jablonec n. N., 5. května 76 | F68: 3113 | G68: ZŠ PPP | H68: MŠMT | I68: 586596 | J68: 435160 | K68: 0 | L68: 147084 | M68: 4352 | N68: 0 | O68: 0.79 | P68: =X68*-1 -> 0 | Q68: 0 | R68: 0 | S68: 0 | T68: 0 | U68: 0 | V68: 0 | W68: =SUM(P68:V68) -> 0 | X68: 0 | Y68: 0 | Z68: 0 | AA68: =X68+Y68+Z68 -> 0 | AB68: =W68+AA68 -> 0 | AC68: =ROUND((W68+X68+Y68)*33.8%,0) -> 0 | AD68: 0 | AE68: =AC68+AD68 -> 0 | AF68: =ROUND(W68*1%,0) -> 0 | AG68: 0 | AH68: =AB68+AE68+AF68+AG68 -> 0 | AI68: 0 | AJ68: 0 | AK68: 0 | AL68: 0 | AM68: 0 | AN68: 0 | AO68: =SUM(AI68:AN68) -> 0 | AP68: =I68+AH68 -> 586596 | AQ68: =J68+W68 -> 435160 | AR68: =K68+AA68 -> 0 | AS68: =L68+AE68 -> 147084 | AT68: =M68+AF68 -> 4352 | AU68: =N68+AG68 -> 0 | AV68: =O68+AO68 -> 0.79 | AW68: =SUM(AX68:BB68) -> 0 | AX68: 0 | AY68: 0 | AZ68: 0 | BA68: 0 | BB68: 0 | BC68: 0
A69: 20 | B69: 3409 | C69: 600078396 | D69: 43257399 | E69: ZŠ Jablonec n. N., 5. května 76 | F69: 3113 | G69: AP 1.ročník | H69: MŠMT | I69: 0 | J69: 0 | K69: 0 | L69: 0 | M69: 0 | N69: 0 | O69: 0 | P69: =X69*-1 -> 0 | Q69: 0 | R69: 0 | S69: 0 | T69: 0 | U69: 157114 | V69: 0 | W69: =SUM(P69:V69) -> 157114 | X69: 0 | Y69: 0 | Z69: 0 | AA69: =X69+Y69+Z69 -> 0 | AB69: =W69+AA69 -> 157114 | AC69: =ROUND((W69+X69+Y69)*33.8%,0) -> 53105 | AD69: 0 | AE69: =AC69+AD69 -> 53105 | AF69: =ROUND(W69*1%,0) -> 1571 | AG69: 0 | AH69: =AB69+AE69+AF69+AG69 -> 211790 | AI69: 0 | AJ69: 0 | AK69: 0 | AL69: 0 | AM69: 0.37 | AN69: 0 | AO69: =SUM(AI69:AN69) -> 0.37 | AP69: =I69+AH69 -> 211790 | AQ69: =J69+W69 -> 157114 | AR69: =K69+AA69 -> 0 | AS69: =L69+AE69 -> 53105 | AT69: =M69+AF69 -> 1571 | AU69: =N69+AG69 -> 0 | AV69: =O69+AO69 -> 0.37 | AW69: =SUM(AX69:BB69) -> 0 | AX69: 0 | AY69: 0 | AZ69: 0 | BA69: 0 | BB69: 0 | BC69: 0
A70: 20 | B70: 3409 | C70: 600078396 | D70: 43257399 | E70: ZŠ Jablonec n. N., 5. května 76 | F70: 3113 | G70: PO | H70: KÚ | I70: 6711787 | J70: 4979071 | K70: 0 | L70: 1682926 | M70: 49790 | N70: 0 | O70: 12.33 | P70: =X70*-1 -> 0 | Q70: 0 | R70: -54515 | S70: 0 | T70: 0 | U70: 0 | V70: 0 | W70: =SUM(P70:V70) -> -54515 | X70: 0 | Y70: 0 | Z70: 0 | AA70: =X70+Y70+Z70 -> 0 | AB70: =W70+AA70 -> -54515 | AC70: =ROUND((W70+X70+Y70)*33.8%,0) -> -18426 | AD70: 0 | AE70: =AC70+AD70 -> -18426 | AF70: =ROUND(W70*1%,0) -> -545 | AG70: 0 | AH70: =AB70+AE70+AF70+AG70 -> -73486 | AI70: 0 | AJ70: -0.06 | AK70: 0 | AL70: 0 | AM70: 0 | AN70: 0 | AO70: =SUM(AI70:AN70) -> -0.06 | AP70: =I70+AH70 -> 6638301 | AQ70: =J70+W70 -> 4924556 | AR70: =K70+AA70 -> 0 | AS70: =L70+AE70 -> 1664500 | AT70: =M70+AF70 -> 49245 | AU70: =N70+AG70 -> 0 | AV70: =O70+AO70 -> 12.27 | AW70: =SUM(AX70:BB70) -> 0 | AX70: 0 | AY70: 0 | AZ70: 0 | BA70: 0 | BB70: 0 | BC70: 0
A71: 20 | B71: 3409 | C71: 600078396 | D71: 43257399 | E71: ZŠ Jablonec n. N., 5. května 76 | F71: 3143 | G71: ŠD | H71: MŠMT | I71: 3779649 | J71: 2803894 | K71: 0 | L71: 947716 | M71: 28039 | N71: 0 | O71: 5.5 | P71: =X71*-1 -> 0 | Q71: 0 | R71: 0 | S71: 0 | T71: 0 | U71: 0 | V71: 0 | W71: =SUM(P71:V71) -> 0 | X71: 0 | Y71: 0 | Z71: 0 | AA71: =X71+Y71+Z71 -> 0 | AB71: =W71+AA71 -> 0 | AC71: =ROUND((W71+X71+Y71)*33.8%,0) -> 0 | AD71: 0 | AE71: =AC71+AD71 -> 0 | AF71: =ROUND(W71*1%,0) -> 0 | AG71: 0 | AH71: =AB71+AE71+AF71+AG71 -> 0 | AI71: 0 | AJ71: 0 | AK71: 0 | AL71: 0 | AM71: 0 | AN71: 0 | AO71: =SUM(AI71:AN71) -> 0 | AP71: =I71+AH71 -> 3779649 | AQ71: =J71+W71 -> 2803894 | AR71: =K71+AA71 -> 0 | AS71: =L71+AE71 -> 947716 | AT71: =M71+AF71 -> 28039 | AU71: =N71+AG71 -> 0 | AV71: =O71+AO71 -> 5.5 | AW71: =SUM(AX71:BB71) -> 0 | AX71: 0 | AY71: 0 | AZ71: 0 | BA71: 0 | BB71: 0 | BC71: 0
A72: 20 | B72: 3409 | C72: 600078396 | D72: 43257399 | E72: ZŠ Jablonec n. N., 5. května 76 - nově od 1.9.2026 | F72: 3143 | G72: ŠK | H72: KÚ | I72: 0 | J72: 0 | K72: 0 | L72: 0 | M72: 0 | N72: 0 | O72: 0 | P72: =X72*-1 -> 0 | Q72: 0 | R72: 0 | S72: 0 | T72: 0 | U72: 0 | V72: 0 | W72: =SUM(P72:V72) -> 0 | X72: 0 | Y72: 0 | Z72: 0 | AA72: =X72+Y72+Z72 -> 0 | AB72: =W72+AA72 -> 0 | AC72: =ROUND((W72+X72+Y72)*33.8%,0) -> 0 | AD72: 0 | AE72: =AC72+AD72 -> 0 | AF72: =ROUND(W72*1%,0) -> 0 | AG72: 0 | AH72: =AB72+AE72+AF72+AG72 -> 0 | AI72: 0 | AJ72: 0 | AK72: 0 | AL72: 0 | AM72: 0 | AN72: 0 | AO72: =SUM(AI72:AN72) -> 0 | AP72: =I72+AH72 -> 0 | AQ72: =J72+W72 -> 0 | AR72: =K72+AA72 -> 0 | AS72: =L72+AE72 -> 0 | AT72: =M72+AF72 -> 0 | AU72: =N72+AG72 -> 0 | AV72: =O72+AO72 -> 0 | AW72: =SUM(AX72:BB72) -> 0 | AX72: 0 | AY72: 0 | AZ72: 0 | BA72: 0 | BB72: 0 | BC72: 0
A73: 20 | B73: 3409 | C73: 600078396 | D73: 43257399 | E73: ZŠ Jablonec n. N., 5. května 76 Celkem | I73: =SUM(I67:I72) -> 37696191 | J73: =SUM(J67:J72) -> 27642244 | K73: =SUM(K67:K72) -> 0 | L73: =SUM(L67:L72) -> 9343079 | M73: =SUM(M67:M72) -> 276423 | N73: =SUM(N67:N72) -> 434445 | O73: =SUM(O67:O72) -> 47.04 | P73: =SUM(P67:P72) -> -58000 | ... BC73: =SUM(BC67:BC72) -> 0.5
A74: 21 | B74: 3415 | C74: 600078523 | D74: 72743271 | E74: ZŠ Jablonec n. N., Arbesova 30 | F74: 3113 | G74: ZŠ | H74: MŠMT | I74: 30606069 | J74: 22704798 | K74: 0 | L74: 7674222 | M74: 227049 | N74: 0 | O74: 28.95 | P74: =X74*-1 -> 0 | Q74: 0 | R74: 0 | S74: 0 | T74: 0 | U74: 0 | V74: 0 | W74: =SUM(P74:V74) -> 0 | X74: 0 | Y74: 0 | Z74: 0 | AA74: =X74+Y74+Z74 -> 0 | AB74: =W74+AA74 -> 0 | AC74: =ROUND((W74+X74+Y74)*33.8%,0) -> 0 | AD74: 0 | AE74: =AC74+AD74 -> 0 | AF74: =ROUND(W74*1%,0) -> 0 | AG74: 0 | AH74: =AB74+AE74+AF74+AG74 -> 0 | AI74: 0 | AJ74: 0 | AK74: 0 | AL74: 0 | AM74: 0 | AN74: 0 | AO74: =SUM(AI74:AN74) -> 0 | AP74: =I74+AH74 -> 30606069 | AQ74: =J74+W74 -> 22704798 | AR74: =K74+AA74 -> 0 | AS74: =L74+AE74 -> 7674222 | AT74: =M74+AF74 -> 227049 | AU74: =N74+AG74 -> 0 | AV74: =O74+AO74 -> 28.95 | AW74: =SUM(AX74:BB74) -> 0 | AX74: 0 | AY74: 0 | AZ74: 0 | BA74: 0 | BB74: 0 | BC74: 0
